{"text_format":"1","workbook":"xlsx","n_sheets":30,"sheets":["DUI DATES","EXP DATES","DATES","MENU","CONFIR","HOL DATES","Guidelines","APPLICATION","A&P","HOLIDAY SHIFTS TCNY","HOLIDAY SHIFTS MDJ4","HOLIDAY SHIFTS LABOR","PROBLEM ID","ELIGIBLE DATES","MUNICIPAL PD","RESIDENT TROOPER","STATE POLICE","SPECIAL ENFORCEMENT","DUI CHECKPOINT","ACTIVITY","NON-CORE PATROLS","FB CERTIFICATION","BUDGET","REIMBURSEMENT","AUDIT REQ","CERTS & ASSURANCES","SUMMARY","HOL TOT","EST CHKPT (RT)","EST CHKPT (MUNC)"],"not_rendered":{"charts":0,"images":14,"macros":1,"external_links":1,"defined_names":33,"comments":0,"pivot_tables":0},"unopened":[],"bounds":{"document_bytes":16777216,"sheet_cells":100000,"rows_first":2000,"rows_last":500,"rows_between":2000,"halvings":0,"cell_chars":16384,"cell_head_chars":4096},"cells_cut":0,"cells_raw":0,"read":"whole","date_system":"1900"}

{"sheet":"DUI DATES","index":0,"n_rows":185,"n_cols":3,"rows_kept":185,"cut":false,"hidden":true,"merged":[[163,2,181,3],[22,2,56,3],[120,2,124,3],[140,2,144,3],[91,2,91,3],[113,2,113,3],[72,2,72,3]]}
["Date","Day"]
["2019-10-03","Thursday","PROJECT START DATE"]
["2019-10-04","Friday","DATES FOR DUI CHECKPOINTS"]
["2019-10-05","Saturday","INCLUDES NON-HOLIDAY & HOLIDAY DATES"]
["2019-10-10","Thursday"]
["2019-10-11","Friday"]
["2019-10-12","Saturday"]
["2019-10-17","Thursday"]
["2019-10-18","Friday"]
["2019-10-19","Saturday"]
["2019-10-24","Thursday"]
["2019-10-25","Friday"]
["2019-10-26","Saturday"]
["2019-10-31","Thursday"]
["2019-11-01","Friday"]
["2019-11-02","Saturday"]
["2019-11-07","Thursday"]
["2019-11-08","Friday"]
["2019-11-09","Saturday"]
["2019-11-14","Thursday"]
["2019-11-15","Friday"]
["2019-11-16","Saturday"]
["2019-11-21","Thursday","TCNY HOLIDAY"]
["2019-11-22","Friday"]
["2019-11-23","Saturday"]
["2019-11-24","Sunday"]
["2019-11-25","Monday"]
["2019-11-26","Tuesday"]
["2019-11-27","Wednesday"]
["2019-11-28","Thursday"]
["2019-11-29","Friday"]
["2019-11-30","Saturday"]
["2019-12-01","Sunday"]
["2019-12-05","Thursday"]
["2019-12-06","Friday"]
["2019-12-07","Saturday"]
["2019-12-12","Thursday"]
["2019-12-13","Friday"]
["2019-12-14","Saturday"]
["2019-12-15","Sunday"]
["2019-12-16","Monday"]
["2019-12-17","Tuesday"]
["2019-12-18","Wednesday"]
["2019-12-19","Thursday"]
["2019-12-20","Friday"]
["2019-12-21","Saturday"]
["2019-12-22","Sunday"]
["2019-12-23","Monday"]
["2019-12-24","Tuesday"]
["2019-12-25","Wednesday"]
["2019-12-26","Thursday"]
["2019-12-27","Friday"]
["2019-12-28","Saturday"]
["2019-12-29","Sunday"]
["2019-12-30","Monday"]
["2019-12-31","Tuesday"]
["2020-01-01","Wednesday"]
["2020-01-02","Thursday"]
["2020-01-03","Friday"]
["2020-01-04","Saturday"]
["2020-01-09","Thursday"]
["2020-01-10","Friday"]
["2020-01-11","Saturday"]
["2020-01-16","Thursday"]
["2020-01-17","Friday"]
["2020-01-18","Saturday"]
["2020-01-23","Thursday"]
["2020-01-24","Friday"]
["2020-01-25","Saturday"]
["2020-01-30","Thursday"]
["2020-01-31","Friday"]
["2020-02-01","Saturday"]
["2020-02-02","Sunday","SUPER BOWL"]
["2020-02-06","Thursday"]
["2020-02-07","Friday"]
["2020-02-08","Saturday"]
["2020-02-13","Thursday"]
["2020-02-14","Friday"]
["2020-02-15","Saturday"]
["2020-02-20","Thursday"]
["2020-02-21","Friday"]
["2020-02-22","Saturday"]
["2020-02-27","Thursday"]
["2020-02-28","Friday"]
["2020-02-29","Saturday"]
["2020-03-05","Thursday"]
["2020-03-06","Friday"]
["2020-03-07","Saturday"]
["2020-03-12","Thursday"]
["2020-03-13","Friday"]
["2020-03-14","Saturday"]
["2020-03-17","Tuesday","ST. PAT'S DAY"]
["2020-03-19","Thursday"]
["2020-03-20","Friday"]
["2020-03-21","Saturday"]
["2020-03-26","Thursday"]
["2020-03-27","Friday"]
["2020-03-28","Saturday"]
["2020-04-02","Thursday"]
["2020-04-03","Friday"]
["2020-04-04","Saturday"]
["2020-04-09","Thursday"]
["2020-04-10","Friday"]
["2020-04-11","Saturday"]
["2020-04-16","Thursday"]
["2020-04-17","Friday"]
["2020-04-18","Saturday"]
["2020-04-23","Thursday"]
["2020-04-24","Friday"]
["2020-04-25","Saturday"]
["2020-04-30","Thursday"]
["2020-05-01","Friday"]
["2020-05-02","Saturday"]
["2020-05-05","Tuesday","CINCO DE MAYO"]
["2020-05-07","Thursday"]
["2020-05-08","Friday"]
["2020-05-09","Saturday"]
["2020-05-14","Thursday"]
["2020-05-15","Friday"]
["2020-05-16","Saturday"]
["2020-05-21","Thursday","MD HOLIDAY"]
["2020-05-22","Friday"]
["2020-05-23","Saturday"]
["2020-05-24","Sunday"]
["2020-05-25","Monday"]
["2020-05-28","Thursday"]
["2020-05-29","Friday"]
["2020-05-30","Saturday"]
["2020-06-04","Thursday"]
["2020-06-05","Friday"]
["2020-06-06","Saturday"]
["2020-06-11","Thursday"]
["2020-06-12","Friday"]
["2020-06-13","Saturday"]
["2020-06-18","Thursday"]
["2020-06-19","Friday"]
["2020-06-20","Saturday"]
["2020-06-25","Thursday"]
["2020-06-26","Friday"]
["2020-06-27","Saturday"]
["2020-07-01","Wednesday","J4 HOLIDAY"]
["2020-07-02","Thursday"]
["2020-07-03","Friday"]
["2020-07-04","Saturday"]
["2020-07-05","Sunday"]
["2020-07-09","Thursday"]
["2020-07-10","Friday"]
["2020-07-11","Saturday"]
["2020-07-16","Thursday"]
["2020-07-17","Friday"]
["2020-07-18","Saturday"]
["2020-07-23","Thursday"]
["2020-07-24","Friday"]
["2020-07-25","Saturday"]
["2020-07-30","Thursday"]
["2020-07-31","Friday"]
["2020-08-01","Saturday"]
["2020-08-06","Thursday"]
["2020-08-07","Friday"]
["2020-08-08","Saturday"]
["2020-08-13","Thursday"]
["2020-08-14","Friday"]
["2020-08-15","Saturday"]
["2020-08-20","Thursday","LABOR HOLIDAY"]
["2020-08-21","Friday"]
["2020-08-22","Saturday"]
["2020-08-23","Sunday"]
["2020-08-24","Monday"]
["2020-08-25","Tuesday"]
["2020-08-26","Wednesday"]
["2020-08-27","Thursday"]
["2020-08-28","Friday"]
["2020-08-29","Saturday"]
["2020-08-30","Sunday"]
["2020-08-31","Monday"]
["2020-09-01","Tuesday"]
["2020-09-02","Wednesday"]
["2020-09-03","Thursday"]
["2020-09-04","Friday"]
["2020-09-05","Saturday"]
["2020-09-06","Sunday"]
["2020-09-07","Monday"]
["2020-09-10","Thursday"]
["2020-09-11","Friday"]
["2020-09-12","Saturday","PROJECT END DATE"]

{"sheet":"EXP DATES","index":1,"n_rows":120,"n_cols":3,"rows_kept":120,"cut":false,"hidden":true,"merged":[]}
["2019-10-03",null,"NO HOLIDAY DATES"]
["2019-10-04",null,"DATES FOR ACTIVITY"]
["2019-10-05",null,"HIDDEN WB \"EXP DATES\""]
["2019-10-10"]
["2019-10-11"]
["2019-10-12"]
["2019-10-17"]
["2019-10-18"]
["2019-10-19"]
["2019-10-24"]
["2019-10-25"]
["2019-10-26"]
["2019-10-31"]
["2019-11-01"]
["2019-11-02"]
["2019-11-07"]
["2019-11-08"]
["2019-11-09"]
["2019-11-14"]
["2019-11-15"]
["2019-11-16"]
["2020-01-02"]
["2020-01-03"]
["2020-01-04"]
["2020-01-09"]
["2020-01-10"]
["2020-01-11"]
["2020-01-16"]
["2020-01-17"]
["2020-01-18"]
["2020-01-23"]
["2020-01-24"]
["2020-01-25"]
["2020-01-30"]
["2020-01-31"]
["2020-02-01"]
["2020-02-02"]
["2020-02-06"]
["2020-02-07"]
["2020-02-08"]
["2020-02-13"]
["2020-02-14"]
["2020-02-15"]
["2020-02-20"]
["2020-02-21"]
["2020-02-22"]
["2020-02-27"]
["2020-02-28"]
["2020-02-29"]
["2020-03-05"]
["2020-03-06"]
["2020-03-07"]
["2020-03-12"]
["2020-03-13"]
["2020-03-14"]
["2020-03-17"]
["2020-03-19"]
["2020-03-20"]
["2020-03-21"]
["2020-03-26"]
["2020-03-27"]
["2020-03-28"]
["2020-04-02"]
["2020-04-03"]
["2020-04-04"]
["2020-04-09"]
["2020-04-10"]
["2020-04-11"]
["2020-04-16"]
["2020-04-17"]
["2020-04-18"]
["2020-04-23"]
["2020-04-24"]
["2020-04-25"]
["2020-04-30"]
["2020-05-01"]
["2020-05-02"]
["2020-05-05"]
["2020-05-07"]
["2020-05-08"]
["2020-05-09"]
["2020-05-14"]
["2020-05-15"]
["2020-05-16"]
["2020-05-28"]
["2020-05-29"]
["2020-05-30"]
["2020-06-04"]
["2020-06-05"]
["2020-06-06"]
["2020-06-11"]
["2020-06-12"]
["2020-06-13"]
["2020-06-18"]
["2020-06-19"]
["2020-06-20"]
["2020-06-25"]
["2020-06-26"]
["2020-06-27"]
["2020-07-09"]
["2020-07-10"]
["2020-07-11"]
["2020-07-16"]
["2020-07-17"]
["2020-07-18"]
["2020-07-23"]
["2020-07-24"]
["2020-07-25"]
["2020-07-30"]
["2020-07-31"]
["2020-08-01"]
["2020-08-06"]
["2020-08-07"]
["2020-08-08"]
["2020-08-13"]
["2020-08-14"]
["2020-08-15"]
["2020-09-10"]
["2020-09-11"]
["2020-09-12"]

{"sheet":"DATES","index":2,"n_rows":363,"n_cols":14,"rows_kept":363,"cut":false,"hidden":true,"merged":[]}
["Available Dates","Dates",null,null,"Source",null,null,"Officers",null,null,"Hours",null,null,"NON-CORE PATROLS WILL NOT APPEAR.  THEY WILL APPEAR IN THE HIDDEN WORKSHEET HOL TOT"]
["2019-10-03","2019-10-03",null,null,"ACTIVITY",null,null,2,null,null,16]
["2019-10-03","2019-10-03",null,null,"DUI CHECKPOINT",null,null,8,null,null,64]
["2019-10-04","2019-10-04",null,null,"ACTIVITY",null,null,2,null,null,16]
["2019-10-04","2019-10-04",null,null,"DUI CHECKPOINT",null,null,8,null,null,64]
["2019-10-05","2019-10-05",null,null,"ACTIVITY",null,null,2,null,null,16]
["2019-10-05","2019-10-05",null,null,"DUI CHECKPOINT",null,null,8,null,null,64]
["2019-10-10","2019-10-10",null,null,"ACTIVITY",null,null,2,null,null,16]
["2019-10-10","2019-10-10",null,null,"DUI CHECKPOINT",null,null,8,null,null,64]
["2019-10-11","2019-10-11",null,null,"ACTIVITY",null,null,2,null,null,16]
["2019-10-11","2019-10-11",null,null,"DUI CHECKPOINT",null,null,8,null,null,64]
["2019-10-12","2019-10-12",null,null,"ACTIVITY",null,null,2,null,null,16]
["2019-10-12","2019-10-12",null,null,"DUI CHECKPOINT",null,null,8,null,null,64]
["2019-10-17","2019-10-17",null,null,"ACTIVITY",null,null,2,null,null,16]
["2019-10-17","2019-10-17",null,null,"DUI CHECKPOINT",null,null,8,null,null,64]
["2019-10-18","2019-10-18",null,null,"ACTIVITY",null,null,2,null,null,16]
["2019-10-18","2019-10-18",null,null,"DUI CHECKPOINT",null,null,8,null,null,64]
["2019-10-19","2019-10-19",null,null,"ACTIVITY",null,null,2,null,null,16]
["2019-10-19","2019-10-19",null,null,"DUI CHECKPOINT",null,null,8,null,null,64]
["2019-10-24","2019-10-24",null,null,"ACTIVITY",null,null,2,null,null,16]
["2019-10-24","2019-10-24",null,null,"DUI CHECKPOINT",null,null,8,null,null,64]
["2019-10-25","2019-10-25",null,null,"ACTIVITY",null,null,2,null,null,16]
["2019-10-25","2019-10-25",null,null,"DUI CHECKPOINT",null,null,8,null,null,64]
["2019-10-26","2019-10-26",null,null,"ACTIVITY",null,null,2,null,null,16]
["2019-10-26","2019-10-26",null,null,"DUI CHECKPOINT",null,null,8,null,null,64]
["2019-10-31","2019-10-31",null,null,"ACTIVITY",null,null,2,null,null,16]
["2019-10-31","2019-10-31",null,null,"DUI CHECKPOINT",null,null,8,null,null,64]
["2019-11-01","2019-11-01",null,null,"ACTIVITY",null,null,2,null,null,16]
["2019-11-01","2019-11-01",null,null,"DUI CHECKPOINT",null,null,8,null,null,64]
["2019-11-02","2019-11-02",null,null,"ACTIVITY",null,null,2,null,null,16]
["2019-11-02","2019-11-02",null,null,"DUI CHECKPOINT",null,null,8,null,null,64]
["2019-11-07","2019-11-07",null,null,"ACTIVITY",null,null,2,null,null,16]
["2019-11-07","2019-11-07",null,null,"DUI CHECKPOINT",null,null,8,null,null,64]
["2019-11-08","2019-11-08",null,null,"ACTIVITY",null,null,2,null,null,16]
["2019-11-08","2019-11-08",null,null,"DUI CHECKPOINT",null,null,8,null,null,64]
["2019-11-09","2019-11-09",null,null,"ACTIVITY",null,null,2,null,null,16]
["2019-11-09","2019-11-09",null,null,"DUI CHECKPOINT",null,null,8,null,null,64]
["2019-11-14","2019-11-14",null,null,"ACTIVITY",null,null,2,null,null,16]
["2019-11-14","2019-11-14",null,null,"DUI CHECKPOINT",null,null,8,null,null,64]
["2019-11-15","2019-11-15",null,null,"ACTIVITY",null,null,2,null,null,16]
["2019-11-15","2019-11-15",null,null,"DUI CHECKPOINT",null,null,8,null,null,64]
["2019-11-16","2019-11-16",null,null,"ACTIVITY",null,null,2,null,null,16]
["2019-11-16","2019-11-16",null,null,"DUI CHECKPOINT",null,null,8,null,null,64]
["2019-11-21","2019-11-21",null,null,"ACTIVITY",null,null,2,null,null,16]
["2019-11-21","2019-11-21",null,null,"DUI CHECKPOINT",null,null,8,null,null,64]
["2019-11-22","2019-11-22",null,null,"ACTIVITY",null,null,2,null,null,16]
["2019-11-22","2019-11-22",null,null,"DUI CHECKPOINT",null,null,8,null,null,64]
["2019-11-23","2019-11-23",null,null,"ACTIVITY",null,null,2,null,null,16]
["2019-11-23","2019-11-23",null,null,"DUI CHECKPOINT",null,null,8,null,null,64]
["2019-11-24","2019-11-24",null,null,"ACTIVITY",null,null,2,null,null,16]
["2019-11-24","2019-11-24",null,null,"DUI CHECKPOINT",null,null,8,null,null,64]
["2019-11-25","2019-11-25",null,null,"ACTIVITY",null,null,2,null,null,16]
["2019-11-25","2019-11-25",null,null,"DUI CHECKPOINT",null,null,8,null,null,64]
["2019-11-26","2019-11-26",null,null,"ACTIVITY",null,null,2,null,null,16]
["2019-11-26","2019-11-26",null,null,"DUI CHECKPOINT",null,null,8,null,null,64]
["2019-11-27","2019-11-27",null,null,"ACTIVITY",null,null,2,null,null,16]
["2019-11-27","2019-11-27",null,null,"DUI CHECKPOINT",null,null,8,null,null,64]
["2019-11-28","2019-11-28",null,null,"ACTIVITY",null,null,2,null,null,16]
["2019-11-28","2019-11-28",null,null,"DUI CHECKPOINT",null,null,8,null,null,64]
["2019-11-29","2019-11-29",null,null,"ACTIVITY",null,null,2,null,null,16]
["2019-11-29","2019-11-29",null,null,"DUI CHECKPOINT",null,null,8,null,null,64]
["2019-11-30","2019-11-30",null,null,"ACTIVITY",null,null,2,null,null,16]
["2019-11-30","2019-11-30",null,null,"DUI CHECKPOINT",null,null,8,null,null,64]
["2019-12-01","2019-12-01",null,null,"ACTIVITY",null,null,2,null,null,16]
["2019-12-01","2019-12-01",null,null,"DUI CHECKPOINT",null,null,8,null,null,64]
["2019-12-05","2019-12-05",null,null,"ACTIVITY",null,null,2,null,null,16]
["2019-12-05","2019-12-05",null,null,"DUI CHECKPOINT",null,null,8,null,null,64]
["2019-12-06","2019-12-06",null,null,"ACTIVITY",null,null,2,null,null,16]
["2019-12-06","2019-12-06",null,null,"DUI CHECKPOINT",null,null,8,null,null,64]
["2019-12-07","2019-12-07",null,null,"ACTIVITY",null,null,2,null,null,16]
["2019-12-07","2019-12-07",null,null,"DUI CHECKPOINT",null,null,8,null,null,64]
["2019-12-12","2019-12-12",null,null,"ACTIVITY",null,null,2,null,null,16]
["2019-12-12","2019-12-12",null,null,"DUI CHECKPOINT",null,null,8,null,null,64]
["2019-12-13","2019-12-13",null,null,"ACTIVITY",null,null,2,null,null,16]
["2019-12-13","2019-12-13",null,null,"DUI CHECKPOINT",null,null,8,null,null,64]
["2019-12-14","2019-12-14",null,null,"ACTIVITY",null,null,2,null,null,16]
["2019-12-14","2019-12-14",null,null,"DUI CHECKPOINT",null,null,8,null,null,64]
["2019-12-15","2019-12-15",null,null,"ACTIVITY",null,null,2,null,null,16]
["2019-12-15","2019-12-15",null,null,"DUI CHECKPOINT",null,null,8,null,null,64]
["2019-12-16","2019-12-16",null,null,"ACTIVITY",null,null,2,null,null,16]
["2019-12-16","2019-12-16",null,null,"DUI CHECKPOINT",null,null,8,null,null,64]
["2019-12-17","2019-12-17",null,null,"ACTIVITY",null,null,2,null,null,16]
["2019-12-17","2019-12-17",null,null,"DUI CHECKPOINT",null,null,8,null,null,64]
["2019-12-18","2019-12-18",null,null,"ACTIVITY",null,null,2,null,null,16]
["2019-12-18","2019-12-18",null,null,"DUI CHECKPOINT",null,null,8,null,null,64]
["2019-12-19","2019-12-19",null,null,"ACTIVITY",null,null,2,null,null,16]
["2019-12-19","2019-12-19",null,null,"DUI CHECKPOINT",null,null,8,null,null,64]
["2019-12-20","2019-12-20",null,null,"ACTIVITY",null,null,2,null,null,16]
["2019-12-20","2019-12-20",null,null,"DUI CHECKPOINT",null,null,8,null,null,64]
["2019-12-21","2019-12-21",null,null,"ACTIVITY",null,null,2,null,null,16]
["2019-12-21","2019-12-21",null,null,"DUI CHECKPOINT",null,null,8,null,null,64]
["2019-12-22","2019-12-22",null,null,"ACTIVITY",null,null,2,null,null,16]
["2019-12-22","2019-12-22",null,null,"DUI CHECKPOINT",null,null,8,null,null,64]
["2019-12-23","2019-12-23",null,null,"ACTIVITY",null,null,2,null,null,16]
["2019-12-23","2019-12-23",null,null,"DUI CHECKPOINT",null,null,8,null,null,64]
["2019-12-24","2019-12-24",null,null,"ACTIVITY",null,null,2,null,null,16]
["2019-12-24","2019-12-24",null,null,"DUI CHECKPOINT",null,null,8,null,null,64]
["2019-12-25","2019-12-25",null,null,"ACTIVITY",null,null,2,null,null,16]
["2019-12-25","2019-12-25",null,null,"DUI CHECKPOINT",null,null,8,null,null,64]
["2019-12-26","2019-12-26",null,null,"ACTIVITY",null,null,2,null,null,16]
["2019-12-26","2019-12-26",null,null,"DUI CHECKPOINT",null,null,8,null,null,64]
["2019-12-27","2019-12-27",null,null,"ACTIVITY",null,null,2,null,null,16]
["2019-12-27","2019-12-27",null,null,"DUI CHECKPOINT",null,null,8,null,null,64]
["2019-12-28","2019-12-28",null,null,"ACTIVITY",null,null,2,null,null,16]
["2019-12-28","2019-12-28",null,null,"DUI CHECKPOINT",null,null,8,null,null,64]
["2019-12-29","2019-12-29",null,null,"ACTIVITY",null,null,2,null,null,16]
["2019-12-29","2019-12-29",null,null,"DUI CHECKPOINT",null,null,8,null,null,64]
["2019-12-30","2019-12-30",null,null,"ACTIVITY",null,null,2,null,null,16]
["2019-12-30","2019-12-30",null,null,"DUI CHECKPOINT",null,null,8,null,null,64]
["2019-12-31","2019-12-31",null,null,"ACTIVITY",null,null,2,null,null,16]
["2019-12-31","2019-12-31",null,null,"DUI CHECKPOINT",null,null,8,null,null,64]
["2020-01-01","2020-01-01",null,null,"ACTIVITY",null,null,2,null,null,16]
["2020-01-01","2020-01-01",null,null,"DUI CHECKPOINT",null,null,8,null,null,64]
["2020-01-09","2020-01-09",null,null,"ACTIVITY",null,null,2,null,null,16]
["2020-01-09","2020-01-09",null,null,"DUI CHECKPOINT",null,null,8,null,null,64]
["2020-01-10","2020-01-10",null,null,"ACTIVITY",null,null,2,null,null,16]
["2020-01-10","2020-01-10",null,null,"DUI CHECKPOINT",null,null,8,null,null,64]
["2020-01-11","2020-01-11",null,null,"ACTIVITY",null,null,2,null,null,16]
["2020-01-11","2020-01-11",null,null,"DUI CHECKPOINT",null,null,8,null,null,64]
["2020-01-16","2020-01-16",null,null,"ACTIVITY",null,null,2,null,null,16]
["2020-01-16","2020-01-16",null,null,"DUI CHECKPOINT",null,null,8,null,null,64]
["2020-01-17","2020-01-17",null,null,"ACTIVITY",null,null,2,null,null,16]
["2020-01-17","2020-01-17",null,null,"DUI CHECKPOINT",null,null,8,null,null,64]
["2020-01-18","2020-01-18",null,null,"ACTIVITY",null,null,2,null,null,16]
["2020-01-18","2020-01-18",null,null,"DUI CHECKPOINT",null,null,8,null,null,64]
["2020-01-23","2020-01-23",null,null,"ACTIVITY",null,null,2,null,null,16]
["2020-01-23","2020-01-23",null,null,"DUI CHECKPOINT",null,null,8,null,null,64]
["2020-01-24","2020-01-24",null,null,"ACTIVITY",null,null,2,null,null,16]
["2020-01-24","2020-01-24",null,null,"DUI CHECKPOINT",null,null,8,null,null,64]
["2020-01-25","2020-01-25",null,null,"ACTIVITY",null,null,2,null,null,16]
["2020-01-25","2020-01-25",null,null,"DUI CHECKPOINT",null,null,8,null,null,64]
["2020-01-30","2020-01-30",null,null,"ACTIVITY",null,null,2,null,null,16]
["2020-01-30","2020-01-30",null,null,"DUI CHECKPOINT",null,null,8,null,null,64]
["2020-01-31","2020-01-31",null,null,"ACTIVITY",null,null,2,null,null,16]
["2020-01-31","2020-01-31",null,null,"DUI CHECKPOINT",null,null,8,null,null,64]
["2020-02-01","2020-02-01",null,null,"ACTIVITY",null,null,2,null,null,16]
["2020-02-01","2020-02-01",null,null,"DUI CHECKPOINT",null,null,8,null,null,64]
["2020-02-02","2020-02-02",null,null,"ACTIVITY",null,null,2,null,null,16]
["2020-02-02","2020-02-02",null,null,"DUI CHECKPOINT",null,null,8,null,null,64]
["2020-02-06","2020-02-06",null,null,"ACTIVITY",null,null,2,null,null,16]
["2020-02-06","2020-02-06",null,null,"DUI CHECKPOINT",null,null,8,null,null,64]
["2020-02-07","2020-02-07",null,null,"ACTIVITY",null,null,2,null,null,16]
["2020-02-07","2020-02-07",null,null,"DUI CHECKPOINT",null,null,8,null,null,64]
["2020-02-08","2020-02-08",null,null,"ACTIVITY",null,null,2,null,null,16]
["2020-02-08","2020-02-08",null,null,"DUI CHECKPOINT",null,null,8,null,null,64]
["2020-02-13","2020-02-13",null,null,"ACTIVITY",null,null,2,null,null,16]
["2020-02-13","2020-02-13",null,null,"DUI CHECKPOINT",null,null,8,null,null,64]
["2020-02-14","2020-02-14",null,null,"ACTIVITY",null,null,2,null,null,16]
["2020-02-14","2020-02-14",null,null,"DUI CHECKPOINT",null,null,8,null,null,64]
["2020-02-15","2020-02-15",null,null,"ACTIVITY",null,null,2,null,null,16]
["2020-02-15","2020-02-15",null,null,"DUI CHECKPOINT",null,null,8,null,null,64]
["2020-02-20","2020-02-20",null,null,"ACTIVITY",null,null,2,null,null,16]
["2020-02-20","2020-02-20",null,null,"DUI CHECKPOINT",null,null,8,null,null,64]
["2020-02-21","2020-02-21",null,null,"ACTIVITY",null,null,2,null,null,16]
["2020-02-21","2020-02-21",null,null,"DUI CHECKPOINT",null,null,8,null,null,64]
["2020-02-22","2020-02-22",null,null,"ACTIVITY",null,null,2,null,null,16]
["2020-02-22","2020-02-22",null,null,"DUI CHECKPOINT",null,null,8,null,null,64]
["2020-02-27","2020-02-27",null,null,"ACTIVITY",null,null,2,null,null,16]
["2020-02-27","2020-02-27",null,null,"DUI CHECKPOINT",null,null,8,null,null,64]
["2020-02-28","2020-02-28",null,null,"ACTIVITY",null,null,2,null,null,16]
["2020-02-28","2020-02-28",null,null,"DUI CHECKPOINT",null,null,8,null,null,64]
["2020-02-29","2020-02-29",null,null,"ACTIVITY",null,null,2,null,null,16]
["2020-02-29","2020-02-29",null,null,"DUI CHECKPOINT",null,null,8,null,null,64]
["2020-03-05","2020-03-05",null,null,"ACTIVITY",null,null,2,null,null,16]
["2020-03-05","2020-03-05",null,null,"DUI CHECKPOINT",null,null,8,null,null,64]
["2020-03-06","2020-03-06",null,null,"ACTIVITY",null,null,2,null,null,16]
["2020-03-06","2020-03-06",null,null,"DUI CHECKPOINT",null,null,8,null,null,64]
["2020-03-07","2020-03-07",null,null,"ACTIVITY",null,null,2,null,null,16]
["2020-03-07","2020-03-07",null,null,"DUI CHECKPOINT",null,null,8,null,null,64]
["2020-03-12","2020-03-12",null,null,"ACTIVITY",null,null,2,null,null,16]
["2020-03-12","2020-03-12",null,null,"DUI CHECKPOINT",null,null,8,null,null,64]
["2020-03-13","2020-03-13",null,null,"ACTIVITY",null,null,2,null,null,16]
["2020-03-13","2020-03-13",null,null,"DUI CHECKPOINT",null,null,8,null,null,64]
["2020-03-14","2020-03-14",null,null,"ACTIVITY",null,null,2,null,null,16]
["2020-03-14","2020-03-14",null,null,"DUI CHECKPOINT",null,null,8,null,null,64]
["2020-03-17","2020-03-17",null,null,"ACTIVITY",null,null,2,null,null,16]
["2020-03-17","2020-03-17",null,null,"DUI CHECKPOINT",null,null,8,null,null,64]
["2020-03-19","2020-03-19",null,null,"ACTIVITY",null,null,2,null,null,16]
["2020-03-19","2020-03-19",null,null,"DUI CHECKPOINT",null,null,8,null,null,64]
["2020-03-20","2020-03-20",null,null,"ACTIVITY",null,null,2,null,null,16]
["2020-03-20","2020-03-20",null,null,"DUI CHECKPOINT",null,null,8,null,null,64]
["2020-03-21","2020-03-21",null,null,"ACTIVITY",null,null,2,null,null,16]
["2020-03-21","2020-03-21",null,null,"DUI CHECKPOINT",null,null,8,null,null,64]
["2020-03-26","2020-03-26",null,null,"ACTIVITY",null,null,2,null,null,16]
["2020-03-26","2020-03-26",null,null,"DUI CHECKPOINT",null,null,8,null,null,64]
["2020-03-27","2020-03-27",null,null,"ACTIVITY",null,null,2,null,null,16]
["2020-03-27","2020-03-27",null,null,"DUI CHECKPOINT",null,null,8,null,null,64]
["2020-03-28","2020-03-28",null,null,"ACTIVITY",null,null,2,null,null,16]
["2020-03-28","2020-03-28",null,null,"DUI CHECKPOINT",null,null,8,null,null,64]
["2020-04-02","2020-04-02",null,null,"ACTIVITY",null,null,2,null,null,16]
["2020-04-02","2020-04-02",null,null,"DUI CHECKPOINT",null,null,8,null,null,64]
["2020-04-03","2020-04-03",null,null,"ACTIVITY",null,null,2,null,null,16]
["2020-04-03","2020-04-03",null,null,"DUI CHECKPOINT",null,null,8,null,null,64]
["2020-04-04","2020-04-04",null,null,"ACTIVITY",null,null,2,null,null,16]
["2020-04-04","2020-04-04",null,null,"DUI CHECKPOINT",null,null,8,null,null,64]
["2020-04-09","2020-04-09",null,null,"ACTIVITY",null,null,2,null,null,16]
["2020-04-09","2020-04-09",null,null,"DUI CHECKPOINT",null,null,8,null,null,64]
["2020-04-10","2020-04-10",null,null,"ACTIVITY",null,null,2,null,null,16]
["2020-04-10","2020-04-10",null,null,"DUI CHECKPOINT",null,null,8,null,null,64]
["2020-04-11","2020-04-11",null,null,"ACTIVITY",null,null,2,null,null,16]
["2020-04-11","2020-04-11",null,null,"DUI CHECKPOINT",null,null,8,null,null,64]
["2020-04-16","2020-04-16",null,null,"ACTIVITY",null,null,2,null,null,16]
["2020-04-16","2020-04-16",null,null,"DUI CHECKPOINT",null,null,8,null,null,64]
["2020-04-17","2020-04-17",null,null,"ACTIVITY",null,null,2,null,null,16]
["2020-04-17","2020-04-17",null,null,"DUI CHECKPOINT",null,null,8,null,null,64]
["2020-04-18","2020-04-18",null,null,"ACTIVITY",null,null,2,null,null,16]
["2020-04-18","2020-04-18",null,null,"DUI CHECKPOINT",null,null,8,null,null,64]
["2020-04-23","2020-04-23",null,null,"ACTIVITY",null,null,2,null,null,16]
["2020-04-23","2020-04-23",null,null,"DUI CHECKPOINT",null,null,8,null,null,64]
["2020-04-24","2020-04-24",null,null,"ACTIVITY",null,null,2,null,null,16]
["2020-04-24","2020-04-24",null,null,"DUI CHECKPOINT",null,null,8,null,null,64]
["2020-04-25","2020-04-25",null,null,"ACTIVITY",null,null,2,null,null,16]
["2020-04-25","2020-04-25",null,null,"DUI CHECKPOINT",null,null,8,null,null,64]
["2020-04-30","2020-04-30",null,null,"ACTIVITY",null,null,2,null,null,16]
["2020-04-30","2020-04-30",null,null,"DUI CHECKPOINT",null,null,8,null,null,64]
["2020-05-01","2020-05-01",null,null,"ACTIVITY",null,null,2,null,null,16]
["2020-05-01","2020-05-01",null,null,"DUI CHECKPOINT",null,null,8,null,null,64]
["2020-05-02","2020-05-02",null,null,"ACTIVITY",null,null,2,null,null,16]
["2020-05-02","2020-05-02",null,null,"DUI CHECKPOINT",null,null,8,null,null,64]
["2020-05-05","2020-05-05",null,null,"ACTIVITY",null,null,2,null,null,16]
["2020-05-05","2020-05-05",null,null,"DUI CHECKPOINT",null,null,8,null,null,64]
["2020-05-07","2020-05-07",null,null,"ACTIVITY",null,null,2,null,null,16]
["2020-05-07","2020-05-07",null,null,"DUI CHECKPOINT",null,null,8,null,null,64]
["2020-05-08","2020-05-08",null,null,"ACTIVITY",null,null,2,null,null,16]
["2020-05-08","2020-05-08",null,null,"DUI CHECKPOINT",null,null,8,null,null,64]
["2020-05-09","2020-05-09",null,null,"ACTIVITY",null,null,2,null,null,16]
["2020-05-09","2020-05-09",null,null,"DUI CHECKPOINT",null,null,8,null,null,64]
["2020-05-14","2020-05-14",null,null,"ACTIVITY",null,null,2,null,null,16]
["2020-05-14","2020-05-14",null,null,"DUI CHECKPOINT",null,null,8,null,null,64]
["2020-05-15","2020-05-15",null,null,"ACTIVITY",null,null,2,null,null,16]
["2020-05-15","2020-05-15",null,null,"DUI CHECKPOINT",null,null,8,null,null,64]
["2020-05-16","2020-05-16",null,null,"ACTIVITY",null,null,2,null,null,16]
["2020-05-16","2020-05-16",null,null,"DUI CHECKPOINT",null,null,8,null,null,64]
["2020-05-21","2020-05-21",null,null,"ACTIVITY",null,null,2,null,null,16]
["2020-05-21","2020-05-21",null,null,"DUI CHECKPOINT",null,null,8,null,null,64]
["2020-05-22","2020-05-22",null,null,"ACTIVITY",null,null,2,null,null,16]
["2020-05-22","2020-05-22",null,null,"DUI CHECKPOINT",null,null,8,null,null,64]
["2020-05-23","2020-05-23",null,null,"ACTIVITY",null,null,2,null,null,16]
["2020-05-23","2020-05-23",null,null,"DUI CHECKPOINT",null,null,8,null,null,64]
["2020-05-24","2020-05-24",null,null,"ACTIVITY",null,null,2,null,null,16]
["2020-05-24","2020-05-24",null,null,"DUI CHECKPOINT",null,null,8,null,null,64]
["2020-05-25","2020-05-25",null,null,"ACTIVITY",null,null,2,null,null,16]
["2020-05-25","2020-05-25",null,null,"DUI CHECKPOINT",null,null,8,null,null,64]
["2020-05-28","2020-05-28",null,null,"ACTIVITY",null,null,2,null,null,16]
["2020-05-28","2020-05-28",null,null,"DUI CHECKPOINT",null,null,8,null,null,64]
["2020-05-29","2020-05-29",null,null,"ACTIVITY",null,null,2,null,null,16]
["2020-05-29","2020-05-29",null,null,"DUI CHECKPOINT",null,null,8,null,null,64]
["2020-05-30","2020-05-30",null,null,"ACTIVITY",null,null,2,null,null,16]
["2020-05-30","2020-05-30",null,null,"DUI CHECKPOINT",null,null,8,null,null,64]
["2020-06-04","2020-06-04",null,null,"ACTIVITY",null,null,2,null,null,16]
["2020-06-04","2020-06-04",null,null,"DUI CHECKPOINT",null,null,8,null,null,64]
["2020-06-05","2020-06-05",null,null,"ACTIVITY",null,null,2,null,null,16]
["2020-06-05","2020-06-05",null,null,"DUI CHECKPOINT",null,null,8,null,null,64]
["2020-06-06","2020-06-06",null,null,"ACTIVITY",null,null,2,null,null,16]
["2020-06-06","2020-06-06",null,null,"DUI CHECKPOINT",null,null,8,null,null,64]
["2020-06-11","2020-06-11",null,null,"ACTIVITY",null,null,2,null,null,16]
["2020-06-11","2020-06-11",null,null,"DUI CHECKPOINT",null,null,8,null,null,64]
["2020-06-12","2020-06-12",null,null,"ACTIVITY",null,null,2,null,null,16]
["2020-06-12","2020-06-12",null,null,"DUI CHECKPOINT",null,null,8,null,null,64]
["2020-06-13","2020-06-13",null,null,"ACTIVITY",null,null,2,null,null,16]
["2020-06-13","2020-06-13",null,null,"DUI CHECKPOINT",null,null,8,null,null,64]
["2020-06-18","2020-06-18",null,null,"ACTIVITY",null,null,2,null,null,16]
["2020-06-18","2020-06-18",null,null,"DUI CHECKPOINT",null,null,8,null,null,64]
["2020-06-19","2020-06-19",null,null,"ACTIVITY",null,null,2,null,null,16]
["2020-06-19","2020-06-19",null,null,"DUI CHECKPOINT",null,null,8,null,null,64]
["2020-06-20","2020-06-20",null,null,"ACTIVITY",null,null,2,null,null,16]
["2020-06-20","2020-06-20",null,null,"DUI CHECKPOINT",null,null,8,null,null,64]
["2020-06-25","2020-06-25",null,null,"ACTIVITY",null,null,2,null,null,16]
["2020-06-25","2020-06-25",null,null,"DUI CHECKPOINT",null,null,8,null,null,64]
["2020-06-26","2020-06-26",null,null,"ACTIVITY",null,null,2,null,null,16]
["2020-06-26","2020-06-26",null,null,"DUI CHECKPOINT",null,null,8,null,null,64]
["2020-06-27","2020-06-27",null,null,"ACTIVITY",null,null,2,null,null,16]
["2020-06-27","2020-06-27",null,null,"DUI CHECKPOINT",null,null,8,null,null,64]
["2020-07-01","2020-07-01",null,null,"ACTIVITY",null,null,2,null,null,16]
["2020-07-01","2020-07-01",null,null,"DUI CHECKPOINT",null,null,8,null,null,64]
["2020-07-02","2020-07-02",null,null,"ACTIVITY",null,null,2,null,null,16]
["2020-07-02","2020-07-02",null,null,"DUI CHECKPOINT",null,null,8,null,null,64]
["2020-07-03","2020-07-03",null,null,"ACTIVITY",null,null,2,null,null,16]
["2020-07-03","2020-07-03",null,null,"DUI CHECKPOINT",null,null,8,null,null,64]
["2020-07-04","2020-07-04",null,null,"ACTIVITY",null,null,2,null,null,16]
["2020-07-04","2020-07-04",null,null,"DUI CHECKPOINT",null,null,8,null,null,64]
["2020-07-05","2020-07-05",null,null,"ACTIVITY",null,null,2,null,null,16]
["2020-07-05","2020-07-05",null,null,"DUI CHECKPOINT",null,null,8,null,null,64]
["2020-07-09","2020-07-09",null,null,"ACTIVITY",null,null,2,null,null,16]
["2020-07-09","2020-07-09",null,null,"DUI CHECKPOINT",null,null,8,null,null,64]
["2020-07-10","2020-07-10",null,null,"ACTIVITY",null,null,2,null,null,16]
["2020-07-10","2020-07-10",null,null,"DUI CHECKPOINT",null,null,8,null,null,64]
["2020-07-11","2020-07-11",null,null,"ACTIVITY",null,null,2,null,null,16]
["2020-07-11","2020-07-11",null,null,"DUI CHECKPOINT",null,null,8,null,null,64]
["2020-07-16","2020-07-16",null,null,"ACTIVITY",null,null,2,null,null,16]
["2020-07-16","2020-07-16",null,null,"DUI CHECKPOINT",null,null,8,null,null,64]
["2020-07-17","2020-07-17",null,null,"ACTIVITY",null,null,2,null,null,16]
["2020-07-17","2020-07-17",null,null,"DUI CHECKPOINT",null,null,8,null,null,64]
["2020-07-18","2020-07-18",null,null,"ACTIVITY",null,null,2,null,null,16]
["2020-07-18","2020-07-18",null,null,"DUI CHECKPOINT",null,null,8,null,null,64]
["2020-07-23","2020-07-23",null,null,"ACTIVITY",null,null,2,null,null,16]
["2020-07-23","2020-07-23",null,null,"DUI CHECKPOINT",null,null,8,null,null,64]
["2020-07-24","2020-07-24",null,null,"ACTIVITY",null,null,2,null,null,16]
["2020-07-24","2020-07-24",null,null,"DUI CHECKPOINT",null,null,8,null,null,64]
["2020-07-25","2020-07-25",null,null,"ACTIVITY",null,null,2,null,null,16]
["2020-07-25","2020-07-25",null,null,"DUI CHECKPOINT",null,null,8,null,null,64]
["2020-07-30","2020-07-30",null,null,"ACTIVITY",null,null,2,null,null,16]
["2020-07-30","2020-07-30",null,null,"DUI CHECKPOINT",null,null,8,null,null,64]
["2020-07-31","2020-07-31",null,null,"ACTIVITY",null,null,2,null,null,16]
["2020-07-31","2020-07-31",null,null,"DUI CHECKPOINT",null,null,8,null,null,64]
["2020-08-01","2020-08-01",null,null,"ACTIVITY",null,null,2,null,null,16]
["2020-08-01","2020-08-01",null,null,"DUI CHECKPOINT",null,null,8,null,null,64]
["2020-08-06","2020-08-06",null,null,"ACTIVITY",null,null,2,null,null,16]
["2020-08-06","2020-08-06",null,null,"DUI CHECKPOINT",null,null,8,null,null,64]
["2020-08-07","2020-08-07",null,null,"ACTIVITY",null,null,2,null,null,16]
["2020-08-07","2020-08-07",null,null,"DUI CHECKPOINT",null,null,8,null,null,64]
["2020-08-08","2020-08-08",null,null,"ACTIVITY",null,null,2,null,null,16]
["2020-08-08","2020-08-08",null,null,"DUI CHECKPOINT",null,null,8,null,null,64]
["2020-08-13","2020-08-13",null,null,"ACTIVITY",null,null,2,null,null,16]
["2020-08-13","2020-08-13",null,null,"DUI CHECKPOINT",null,null,8,null,null,64]
["2020-08-14","2020-08-14",null,null,"ACTIVITY",null,null,2,null,null,16]
["2020-08-14","2020-08-14",null,null,"DUI CHECKPOINT",null,null,8,null,null,64]
["2020-08-15","2020-08-15",null,null,"ACTIVITY",null,null,2,null,null,16]
["2020-08-15","2020-08-15",null,null,"DUI CHECKPOINT",null,null,8,null,null,64]
["2020-08-20","2020-08-20",null,null,"ACTIVITY",null,null,2,null,null,16]
["2020-08-20","2020-08-20",null,null,"DUI CHECKPOINT",null,null,8,null,null,64]
["2020-08-21","2020-08-21",null,null,"ACTIVITY",null,null,2,null,null,16]
["2020-08-21","2020-08-21",null,null,"DUI CHECKPOINT",null,null,8,null,null,64]
["2020-08-22","2020-08-22",null,null,"ACTIVITY",null,null,2,null,null,16]
["2020-08-22","2020-08-22",null,null,"DUI CHECKPOINT",null,null,8,null,null,64]
["2020-08-23","2020-08-23",null,null,"ACTIVITY",null,null,2,null,null,16]
["2020-08-23","2020-08-23",null,null,"DUI CHECKPOINT",null,null,8,null,null,64]
["2020-08-24","2020-08-24",null,null,"ACTIVITY",null,null,2,null,null,16]
["2020-08-24","2020-08-24",null,null,"DUI CHECKPOINT",null,null,8,null,null,64]
["2020-08-25","2020-08-25",null,null,"ACTIVITY",null,null,2,null,null,16]
["2020-08-25","2020-08-25",null,null,"DUI CHECKPOINT",null,null,8,null,null,64]
["2020-08-26","2020-08-26",null,null,"ACTIVITY",null,null,2,null,null,16]
["2020-08-26","2020-08-26",null,null,"DUI CHECKPOINT",null,null,8,null,null,64]
["2020-08-27","2020-08-27",null,null,"ACTIVITY",null,null,2,null,null,16]
["2020-08-27","2020-08-27",null,null,"DUI CHECKPOINT",null,null,8,null,null,64]
["2020-08-28","2020-08-28",null,null,"ACTIVITY",null,null,2,null,null,16]
["2020-08-28","2020-08-28",null,null,"DUI CHECKPOINT",null,null,8,null,null,64]
["2020-08-29","2020-08-29",null,null,"ACTIVITY",null,null,2,null,null,16]
["2020-08-29","2020-08-29",null,null,"DUI CHECKPOINT",null,null,8,null,null,64]
["2020-08-30","2020-08-30",null,null,"ACTIVITY",null,null,2,null,null,16]
["2020-08-30","2020-08-30",null,null,"DUI CHECKPOINT",null,null,8,null,null,64]
["2020-08-31","2020-08-31",null,null,"ACTIVITY",null,null,2,null,null,16]
["2020-08-31","2020-08-31",null,null,"DUI CHECKPOINT",null,null,8,null,null,64]
["2020-09-01","2020-09-01",null,null,"ACTIVITY",null,null,2,null,null,16]
["2020-09-01","2020-09-01",null,null,"DUI CHECKPOINT",null,null,8,null,null,64]
["2020-09-02","2020-09-02",null,null,"ACTIVITY",null,null,2,null,null,16]
["2020-09-02","2020-09-02",null,null,"DUI CHECKPOINT",null,null,8,null,null,64]
["2020-09-03","2020-09-03",null,null,"ACTIVITY",null,null,2,null,null,16]
["2020-09-03","2020-09-03",null,null,"DUI CHECKPOINT",null,null,8,null,null,64]
["2020-09-04","2020-09-04",null,null,"ACTIVITY",null,null,2,null,null,16]
["2020-09-04","2020-09-04",null,null,"DUI CHECKPOINT",null,null,8,null,null,64]
["2020-09-05","2020-09-05",null,null,"ACTIVITY",null,null,2,null,null,16]
["2020-09-05","2020-09-05",null,null,"DUI CHECKPOINT",null,null,8,null,null,64]
["2020-09-06","2020-09-06",null,null,"ACTIVITY",null,null,2,null,null,16]
["2020-09-06","2020-09-06",null,null,"DUI CHECKPOINT",null,null,8,null,null,64]
["2020-09-07","2020-09-07",null,null,"ACTIVITY",null,null,2,null,null,16]
["2020-09-07","2020-09-07",null,null,"DUI CHECKPOINT",null,null,8,null,null,64]
["2020-09-10","2020-09-10",null,null,"ACTIVITY",null,null,2,null,null,16]
["2020-09-10","2020-09-10",null,null,"DUI CHECKPOINT",null,null,8,null,null,64]
["2020-09-11","2020-09-11",null,null,"ACTIVITY",null,null,2,null,null,16]
["2020-09-11","2020-09-11",null,null,"DUI CHECKPOINT",null,null,8,null,null,64]
["2020-09-12","2020-09-12",null,null,"ACTIVITY",null,null,2,null,null,16]
["2020-09-12","2020-09-12",null,null,"DUI CHECKPOINT",null,null,8,null,null,64]

{"sheet":"MENU","index":3,"n_rows":4,"n_cols":2,"rows_kept":4,"cut":false,"hidden":true,"merged":[]}
[]
[null,"MENU"]
[]
[null,"CONFIR sheet in this workbook is set as xlSheetVeryHidden.  The HideSheets macro allows the user to toggle this sheet between hidden and visible. This macro is assigned to the Unlock/Lock button. The user must supply a password. \n\nThe Auto_Close macro runs automatically when the user attempts to close the book. It hides the two sheets and prompts the user to save.\n\nThis is not intended to be a highly secure method of hiding and protecting data, but could be used to stop casual users from accessing the sheets.\n"]

{"sheet":"CONFIR","index":4,"n_rows":49,"n_cols":6,"rows_kept":49,"cut":false,"hidden":true,"merged":[[26,0,27,7],[29,0,31,7],[6,4,6,5],[44,3,44,4],[48,0,48,7],[18,0,20,7],[32,0,34,7],[36,0,38,7],[40,0,41,7],[13,4,13,5],[22,0,24,7],[0,0,0,7],[1,0,1,7],[2,0,2,7],[3,0,3,7],[5,0,5,7]]}
["Connecticut Department of Transportation"]
["Highway Safety Office"]
["2800 Berlin Turnpike PO Box 317546"]
["Newington, CT 06131-7546"]
[]
["GRANT APPROVAL CONFIRMATION"]
[null,"Delivered by email to:  ",{"$f":"APPLICATION!E49","v":0},null,{"$f":"NOW()","v":"2019-10-09T11:37:59.960"}]
[]
[null,"Approved Project Period:",null,null,null,{"$f":"TEXT(REIMBURSEMENT!A13,\"MMMM D, YYYY\")&\"-\"&TEXT(APPLICATION!E27, \"MMMM D, YYYY\")","v":"-September 12, 2020"}]
[null,"State Project Number: ",null,null,null,{"$f":"APPLICATION!C5","v":0}]
[null,"Project Name:",null,null,null,"Comprehensive DUI Enforcement"]
[null,"Governmental Unit:",null,null,null,{"$f":"APPLICATION!A18","v":0}]
[null,"Applicant:",null,null,null,{"$f":"APPLICATION!A21","v":0}]
[null,"Federal Funds:",null,null,{"$f":"SUMMARY!F13","v":0}]
[null,"Municipal/ Officer/Constable Fringe Rate Overtime %",null,null,null,{"$f":"'FB CERTIFICATION'!$F$30","v":0}]
[null,"State Police/Resident Trooper Fringe Rate Overtime %",null,null,null,{"$f":"'FB CERTIFICATION'!$H$30","v":0}]
[null,"CFDA:",null,null,null,20.606999999999999]
[]
[{"$f":"\"The Department of Transportation would like to notify you of the approval of the \"&APPLICATION!A18&\"'s\"&\" \"&\"\"&\"Highway Safety project application entitled \"&APPLICATION!A15&\" effective:  \"&TEXT(REIMBURSEMENT!A13,\"MMMM D, YYYY\")&\"\"&\" through \"&TEXT(APPLICATION!E27,\"MMMM D, YYYY\")&\".\"","v":"The Department of Transportation would like to notify you of the approval of the 's Highway Safety project application entitled FY 2020 Comprehensive DUI Enforcement Program for Resident Trooper Towns effective:   through September 12, 2020."}]
[]
[]
[]
[{"$f":"\"Federal funds in the amount of \"&TEXT(SUMMARY!F13,\"$#,##0.00\")&\" are allocated to this project in accordance with the approved 2020 Fiscal Year Connecticut Highway Safety Plan.  The total project cost may not exceed this amount for the approved project period.\"","v":"Federal funds in the amount of $0.00 are allocated to this project in accordance with the approved 2020 Fiscal Year Connecticut Highway Safety Plan.  The total project cost may not exceed this amount for the approved project period."}]
[]
[]
[]
["All grants greater than or equal to $25,000 are subject to FFATA (Federal Funding Accountability and Transparency Act) sub-award reporting requirements. For more information go to: https://www.fsrs.gov/#a-faqs. \n"]
[]
[]
["All costs incurred under this project must be in full compliance with both federal and state regulations, policies, and procedures that govern the use of highway safety funds.  Costs are subject to review by both internal and external auditors."]
[]
[]
["Please note that deviations from the specifics of the approved budget must be reviewed and approved by the Highway Safety Office prior to their implementation in order for related costs to be eligible for reimbursement.  "]
[]
[]
[]
["The DUI reimbursement package can be found on the Department's web site under Highway Safety/Office of Highway Safety/DUI Enforcement Program at http://www.ct.gov/dot. All final claims against this project, together with all supporting financial documentation, must be submitted to the Highway Safety Office no later than thirty (30) days after the project period ending date.\""]
[]
[]
[]
["If you have any additional questions or concerns regarding this program, please contact me at 860-594-2412."]
[]
[]
[]
["cc'd by email to:",null,null,"Joseph T. Cristalli"]
[null,{"$f":"APPLICATION!E33","v":0},null,"Transportation Principal Safety Program Coordinator"]
[null,{"$f":"APPLICATION!E41","v":0}]
[]
["PRINT CONFIRMATION AND GRANT FOR YOUR OWN RECORDS"]

{"sheet":"HOL DATES","index":5,"n_rows":64,"n_cols":3,"rows_kept":64,"cut":false,"hidden":true,"merged":[[34,3,35,4],[33,3,33,4],[16,4,17,4]]}
["2019-11-21","Thursday","HOLIDAY DATES ONLY"]
["2019-11-22","Friday","DATES FOR SHIFTS TCNY"]
["2019-11-23","Saturday","DATES FOR SHIFTS MDJ4"]
["2019-11-24","Sunday","DATES FOR SHIFTS LABOR"]
["2019-11-25","Monday"]
["2019-11-26","Tuesday"]
["2019-11-27","Wednesday"]
["2019-11-28","Thursday"]
["2019-11-29","Friday"]
["2019-11-30","Saturday"]
["2019-12-01","Sunday"]
["2019-12-05","Thursday"]
["2019-12-06","Friday"]
["2019-12-07","Saturday"]
["2019-12-12","Thursday"]
["2019-12-13","Friday"]
["2019-12-14","Saturday"]
["2019-12-15","Sunday"]
["2019-12-16","Monday"]
["2019-12-17","Tuesday"]
["2019-12-18","Wednesday"]
["2019-12-19","Thursday"]
["2019-12-20","Friday"]
["2019-12-21","Saturday"]
["2019-12-22","Sunday"]
["2019-12-23","Monday"]
["2019-12-24","Tuesday"]
["2019-12-25","Wednesday"]
["2019-12-26","Thursday"]
["2019-12-27","Friday"]
["2019-12-28","Saturday"]
["2019-12-29","Sunday"]
["2019-12-30","Monday"]
["2019-12-31","Tuesday"]
["2020-01-01","Wednesday"]
["2020-05-21","Thursday"]
["2020-05-22","Friday"]
["2020-05-23","Saturday"]
["2020-05-24","Sunday"]
["2020-05-25","Monday"]
["2020-07-01","Wednesday"]
["2020-07-02","Thursday"]
["2020-07-03","Friday"]
["2020-07-04","Saturday"]
["2020-07-05","Sunday"]
["2020-08-20","Thursday"]
["2020-08-21","Friday"]
["2020-08-22","Saturday"]
["2020-08-23","Sunday"]
["2020-08-24","Monday"]
["2020-08-25","Tuesday"]
["2020-08-26","Wednesday"]
["2020-08-27","Thursday"]
["2020-08-28","Friday"]
["2020-08-29","Saturday"]
["2020-08-30","Sunday"]
["2020-08-31","Monday"]
["2020-09-01","Tuesday"]
["2020-09-02","Wednesday"]
["2020-09-03","Thursday"]
["2020-09-04","Friday"]
["2020-09-05","Saturday"]
["2020-09-06","Sunday"]
["2020-09-07","Monday"]

{"sheet":"Guidelines","index":6,"n_rows":3,"n_cols":1,"rows_kept":3,"cut":false,"hidden":false,"merged":[[2,0,2,11]]}
[]
[]
["GUIDELINES FOR GRANT PROPOSAL"]

{"sheet":"APPLICATION","index":7,"n_rows":59,"n_cols":6,"rows_kept":59,"cut":false,"hidden":false,"merged":[[0,4,0,5],[2,1,2,3],[3,1,3,3],[3,4,9,5],[8,1,9,1],[4,1,5,1],[4,2,5,3],[6,1,7,1],[6,2,7,3],[0,1,1,3],[8,2,9,3],[20,0,21,2],[20,3,21,5],[23,3,24,5],[22,1,22,2],[23,1,24,2],[23,0,24,0],[17,3,18,5],[17,0,18,2],[16,0,16,2],[14,0,15,5],[19,0,19,2],[44,2,46,3],[48,0,50,1],[32,2,34,3],[25,0,25,5],[40,4,42,5],[30,4,30,5],[32,0,34,1],[32,4,34,5],[28,0,30,1],[28,2,30,3],[28,4,28,5],[54,2,54,4],[55,2,55,4],[56,2,56,3],[58,2,58,4],[52,2,52,4],[10,0,12,5],[26,1,26,2],[26,4,26,5],[53,2,53,4],[44,4,44,5],[36,0,38,1],[36,2,38,3],[51,0,51,5],[48,4,50,5],[36,4,36,5],[38,4,38,5],[46,4,46,5],[40,0,42,1],[48,2,50,3],[40,2,42,3],[44,0,46,1]]}
[null,"FY 2020 HIGHWAY SAFETY PROJECT APPLICATION",null,null,"CT-DOT/HSO"]
[null,null,null,null,"FORM","DUI GRANT"]
[null,"CT DEPARTMENT OF TRANSPORTATION",null,null,"CFDA #"]
[null,"SHADED AREA FOR HSO USE ONLY",null,null,"HSO Stamp"]
[null,"PROJECT NO:"]
[]
["REVISION:","PROGRAM AREA:"]
["2019-10-09"]
["EXPIRES:","PROGRAM AREA DESCRIPTION:"]
["2020-09-30"]
["ACCEPTANCE -- IT IS UNDERSTOOD AND AGREED BY THE UNDERSIGNED THAT FUNDS RECEIVED AS A RESULT OF THIS APPLICATION IS SUBJECT TO THE REGULATIONS GOVERNING HIGHWAY SAFETY PROJECTS.  THIS AGREEMENT MAY BE TERMINATED BY EITHER PARTY IN ACCORDANCE WITH TRANSPORTATION SAFETY SECTION POLICY.  COPY OF POLICY OBTAINED UPON REQUEST."]
[]
[]
["  PROJECT TITLE:"]
["FY 2020 Comprehensive DUI Enforcement Program for Resident Trooper Towns"]
[]
["GOVERNMENTAL UNIT:",null,null,"  ADDRESS OF GOVERNMENTAL UNIT:"]
[]
[]
["APPLICANT:",null,null,"  ADDRESS OF APPLICANT:"]
[]
[]
["FEIN:","DUNS NUMBER:",null,"  ANTICIPATED PROJECT STARTUP DATE:"]
[]
[]
["APPROVED PROJECT PERIOD:   (mm/dd/yyyy)  FOR HSO USE ONLY"]
["FROM: ",null,null,"THROUGH: ","2020-09-12"]
["  PROJECT DIRECTOR:",null,"  TITLE:",null,"  TELEPHONE NUMBER:"]
[]
[null,null,null,null,"  FAX NUMBER:"]
[]
["  SIGNATURE:",null,"  ADDRESS & ZIP CODE:",null," E-MAIL ADDRESS:"]
[]
[]
[]
["  FINANCIAL OFFICER:",null,"  TITLE:",null,"  TELEPHONE NUMBER:"]
[]
[null,null,null,null,"  FAX NUMBER:"]
[]
["  SIGNATURE:",null,"  ADDRESS & ZIP CODE:",null," E-MAIL ADDRESS:"]
[]
[]
[]
["  AUTHORIZING OFFICIAL:",null,"  TITLE:",null,"  TELEPHONE NUMBER:"]
[]
[null,null,null,null,"  FAX NUMBER:"]
[]
["  SIGNATURE:",null,"  ADDRESS & ZIP CODE:",null," E-MAIL ADDRESS:"]
[]
[]
[]
["  APPROVAL --  FOR HSO USE ONLY"]
["FISCAL REVIEW COMPLETED BY:",null,"PROJECT MANAGER REVIEW COMPLETED BY:",null,null,"DATE:"]
[null,null,"Eugene Interlandi"]
["Christine Biske",null,"PROGRAM COORDINATOR REVIEW COMPLETED BY:",null,null,"DATE:"]
["DATE:",null,"Joseph T. Cristalli, Jr."]
["REQUESTED AMOUNT",{"$f":"BUDGET!G31","v":0},"GOVERNOR'S HIGHWAY SAFETY REP:",null,null,"DATE:"]
["HSO APPROVED $"]
["TOTAL ALLOTTED: ",null,"Thomas J. Maziarz"]

{"sheet":"A&P","index":8,"n_rows":137,"n_cols":6,"rows_kept":137,"cut":false,"hidden":true,"merged":[[136,0,137,5],[0,0,1,2],[0,3,1,5],[2,0,5,2],[2,3,3,5],[4,3,5,5],[48,0,49,2],[50,0,52,2],[50,3,51,5],[95,0,96,2],[97,0,99,2],[97,3,98,5]]}
["PROJECT TITLE",null,null,"APPLICANT"]
[]
[{"$f":"APPLICATION!A15","v":"FY 2020 Comprehensive DUI Enforcement Program for Resident Trooper Towns"},null,null,{"$f":"IF(APPLICATION!A21=\"\",\"\",APPLICATION!A21)","v":""}]
[]
[]
[]
["ACTIVITIES AND PROCEDURES"]
["     DUI selective enforcement will be conducted during the Thanksgiving/Christmas/New Year's holiday, "]
["  Memorial Day/July 4th holiday and Labor Day holiday high travel periods per schedule listed below."]
["  Enforcement techniques should include extra DUI saturation patrols, (including DUI checkpoints),"]
["  on those days that the law enforcement agency determines to hold the highest impact for traffic volume and potential"]
["  contact with the motoring public as it relates to their community.  Funding consideration will be predicated upon "]
["  several factors including holiday period participation, the municipalities DUI statistics, participation in"]
["  Click It or Ticket WAVE activities and participation in the Law Enforcement Challenge."]
[]
["     NOTE:  For DUI Patrol activities, the number of enforcement officers allowed per vehicle at any one time is"]
["     one per vehicle, however, daily shifts may be split by more than one officer.  Agencies working under these"]
["     DUI enforcement activities will required to develop and implement a training schedule for traffic personnel"]
["     to be trained in the most current methods of Standardized Field Sobriety Testing."]
["     NOTE:  The operation of this selective enforcement program shall be above and beyond the normal/special"]
["     patrol activities scheduled for the days and times listed below.  No shifts in excess of 8 hours."]
[]
[null,"Defined Program Parameters",null,null,"Planned Project Operations"]
["   Thanksgiving/Christmas/New Years Enforcement Period"]
["Dates","Times",null,"(fill in below-",null,"(fill in below-"]
[null,"Example:  5 pm or 5:30 PM",null,"formatted for time)",null,"formatted for time)"]
["2017-11-16","05:00 PM - 04:00 AM",null,null,"through"]
["2017-11-17","05:00 PM - 04:00 AM",null,null,"through"]
["2017-11-18","05:00 PM - 04:00 AM",null,null,"through"]
["2017-11-19","05:00 PM - 04:00 AM",null,null,"through"]
["2017-11-20","05:00 PM - 04:00 AM",null,null,"through"]
["2017-11-21","05:00 PM - 04:00 AM",null,null,"through"]
["2017-11-22","05:00 PM - 04:00 AM",null,null,"through"]
["2017-11-23","05:00 PM - 04:00 AM",null,null,"through"]
["2017-11-24","05:00 PM - 04:00 AM",null,null,"through"]
["2017-11-25","05:00 PM - 04:00 AM",null,null,"through"]
["2017-11-26","05:00 PM - 04:00 AM",null,null,"through"]
["2017-11-30","05:00 PM - 04:00 AM",null,null,"through"]
["2017-12-01","05:00 PM - 04:00 AM",null,null,"through"]
["2017-12-02","05:00 PM - 04:00 AM",null,null,"through"]
["2017-12-07","05:00 PM - 04:00 AM",null,null,"through"]
["2017-12-08","05:00 PM - 04:00 AM",null,null,"through"]
["2017-12-09","05:00 PM - 04:00 AM",null,null,"through"]
["2017-12-14","05:00 PM - 04:00 AM",null,null,"through"]
["2017-12-15","05:00 PM - 04:00 AM",null,null,"through"]
["2017-12-16","05:00 PM - 04:00 AM",null,null,"through"]
["2017-12-17","05:00 PM - 04:00 AM",null,null,"through"]
[]
["PROJECT TITLE",null,null,"APPLICANT"]
[]
[{"$f":"APPLICATION!A15","v":"FY 2020 Comprehensive DUI Enforcement Program for Resident Trooper Towns"},null,null,{"$f":"IF(APPLICATION!A21=\"\",\"\",APPLICATION!A21)","v":""}]
[]
[]
[]
[]
["ACTIVITIES AND PROCEDURES (CONTINUED)"]
[]
["     NOTE:  The operation of this selective enforcement program shall be above and beyond the normal/special"]
["     patrol activities scheduled for the days and times listed below.  No shifts in excess of 8 hours."]
[]
["   Thanksgiving/Christmas/New Years Enforcement Period Continued"]
[]
["2017-12-18","05:00 PM - 04:00 AM",null,null,"through"]
["2017-12-19","05:00 PM - 04:00 AM",null,null,"through"]
["2017-12-20","05:00 PM - 04:00 AM",null,null,"through"]
["2017-12-21","05:00 PM - 04:00 AM",null,null,"through"]
["2017-12-22","05:00 PM - 04:00 AM",null,null,"through"]
["2017-12-23","05:00 PM - 04:00 AM",null,null,"through"]
["2017-12-24","05:00 PM - 04:00 AM",null,null,"through"]
["2017-12-25","05:00 PM - 04:00 AM",null,null,"through"]
["2017-12-26","05:00 PM - 04:00 AM",null,null,"through"]
["2017-12-27","05:00 PM - 04:00 AM",null,null,"through"]
["2017-12-28","05:00 PM - 04:00 AM",null,null,"through"]
["2017-12-29","05:00 PM - 04:00 AM",null,null,"through"]
["2017-12-30","05:00 PM - 04:00 AM",null,null,"through"]
["2017-12-31","05:00 PM - 04:00 AM",null,null,"through"]
["2018-01-01"]
["   Super Bowl Sunday"]
["2017-02-05","05:00 PM - 04:00 AM",null,null,"through"]
[]
["   Saint Patrick's Day"]
["2017-03-17","05:00 PM - 04:00 AM",null,null,"through"]
["2017-03-18","05:00 PM - 04:00 AM",null,null,"through"]
[]
["    Cinco de Mayo"]
["2017-05-05","05:00 PM - 04:00 AM",null,null,"through"]
[]
["   Memorial  Enforcement Periods"]
["2017-05-25","05:00 PM - 04:00 AM",null,null,"through"]
["2017-05-26","05:00 PM - 04:00 AM",null,null,"through"]
["2017-05-27","05:00 PM - 04:00 AM",null,null,"through"]
["2017-05-28","05:00 PM - 04:00 AM",null,null,"through"]
["2017-05-29","05:00 PM - 04:00 AM",null,null,"through"]
[]
[]
["PROJECT TITLE",null,null,"APPLICANT"]
[]
[{"$f":"APPLICATION!A15","v":"FY 2020 Comprehensive DUI Enforcement Program for Resident Trooper Towns"},null,null,{"$f":"IF(APPLICATION!A21=\"\",\"\",APPLICATION!A21)","v":""}]
[]
[]
[]
[]
["ACTIVITIES AND PROCEDURES (CONTINUED)"]
[]
["     NOTE:  The operation of this selective enforcement program shall be above and beyond the normal/special"]
["     patrol activities scheduled for the days and times listed below.  No shifts in excess of 8 hours."]
[]
["  July 4th Enforcement Period"]
["2017-07-01","05:00 PM - 04:00 AM",null,null,"through"]
["2017-07-02","05:00 PM - 04:00 AM",null,null,"through"]
["2017-07-03","05:00 PM - 04:00 AM",null,null,"through"]
["2017-07-04","05:00 PM - 04:00 AM",null,null,"through"]
["2017-07-05","05:00 PM - 04:00 AM",null,null,"through"]
[]
["   Labor Day Enforcement Period"]
["2017-08-17","05:00 PM - 04:00 AM",null,null,"through"]
["2017-08-18","05:00 PM - 04:00 AM",null,null,"through"]
["2017-08-19","05:00 PM - 04:00 AM",null,null,"through"]
["2017-08-20","05:00 PM - 04:00 AM",null,null,"through"]
["2017-08-21","05:00 PM - 04:00 AM",null,null,"through"]
["2017-08-22","05:00 PM - 04:00 AM",null,null,"through"]
["2017-08-23","05:00 PM - 04:00 AM",null,null,"through"]
["2017-08-24","05:00 PM - 04:00 AM",null,null,"through"]
["2017-08-25","05:00 PM - 04:00 AM",null,null,"through"]
["2017-08-26","05:00 PM - 04:00 AM",null,null,"through"]
["2017-08-27","05:00 PM - 04:00 AM",null,null,"through"]
["2017-08-28","05:00 PM - 04:00 AM",null,null,"through"]
["2017-08-29","05:00 PM - 04:00 AM",null,null,"through"]
["2017-08-30","05:00 PM - 04:00 AM",null,null,"through"]
["2017-08-31","05:00 PM - 04:00 AM",null,null,"through"]
["2017-09-01","05:00 PM - 04:00 AM",null,null,"through"]
["2017-09-02","05:00 PM - 04:00 AM",null,null,"through"]
["2017-09-03","05:00 PM - 04:00 AM",null,null,"through"]
["2017-09-04","05:00 PM - 04:00 AM",null,null,"through"]
[]
[]
["THE DATES INCLUDED IN THIS WORKSHEET ARE FOR PLANNING PURPOSES ONLY AND DO NOT REPRESENT APPROVED DATES FOR ANY GRANT ACTIVITIES."]

{"sheet":"HOLIDAY SHIFTS TCNY","index":9,"n_rows":290,"n_cols":6,"rows_kept":290,"cut":false,"hidden":true,"merged":[[30,1,30,2],[65,2,65,3],[59,3,60,5],[24,2,24,3],[26,0,26,5],[0,0,1,2],[0,3,1,5],[2,0,5,2],[2,3,3,5],[4,3,5,5],[128,1,128,4],[123,2,123,3],[71,1,72,4],[67,1,67,4],[35,1,35,2],[40,1,40,2],[50,1,50,2],[69,1,69,4],[45,1,45,2],[61,0,64,2],[70,1,70,4],[63,3,64,5],[61,3,62,5],[59,0,60,2],[185,1,185,4],[117,0,118,2],[117,3,118,5],[175,0,176,2],[175,3,176,5],[177,0,180,2],[177,3,178,5],[179,3,180,5],[183,1,183,4],[181,2,181,3],[119,0,122,2],[129,1,130,4],[119,3,120,5],[125,1,125,4],[127,1,127,4],[121,3,122,5],[186,1,186,4],[188,1,188,4],[187,1,187,4],[244,1,244,4],[233,0,234,2],[233,3,234,5],[245,1,246,4],[235,0,238,2],[235,3,236,5],[237,3,238,5],[239,2,239,3],[241,1,241,4],[243,1,243,4],[7,2,7,3],[9,1,9,4],[11,1,11,4],[12,1,12,4],[13,1,13,4]]}
["PROJECT TITLE",null,null,"APPLICANT"]
[]
[{"$f":"APPLICATION!$A$15","v":"FY 2020 Comprehensive DUI Enforcement Program for Resident Trooper Towns"},null,null,{"$f":"IF(APPLICATION!A21=\"\",\"\",APPLICATION!A21)","v":""}]
[]
[]
[]
[]
[null,null,"PROJECT COST WORK SHEET"]
[]
[null,"Only one Officer allowed per vehicle at any one time"]
[]
[null,"Defined Program Parameters"]
[null,"Core Enforcement Hours:  17:00 - 04:00"]
[null,"NO SHIFT TO EXCEED 8 HOURS\n PER ENFORCEMENT PERIOD"]
[]
[]
[]
[]
[]
["     Hours of operation MUST fall within the defined program parameters.  "]
[]
["     This operational plan will be supported through statewide and regional/local media coverage."]
[]
[]
[]
[]
["THANKSGIVING, CHRISTMAS, AND NEW YEAR'S HOLIDAYS"]
[]
[]
[]
["Date:",{"$f":"'HOL DATES'!A1","v":"2019-11-21"}]
[null,null,"Hrs","Rate","Total"]
[null,"Enforcement Officer # 1: ",8,1,{"$f":"C33*D33","v":8}]
[null,"# 2: ",8,1,{"$f":"C34*D34","v":8}]
[]
["Date:  ",{"$f":"'HOL DATES'!A2","v":"2019-11-22"}]
[null,null,"Hrs","Rate","Total"]
[null,"Enforcement Officer # 1: ",8,1,{"$f":"C38*D38","v":8}]
[null,"# 2: ",8,1,{"$f":"C39*D39","v":8}]
[]
["Date:  ",{"$f":"'HOL DATES'!A3","v":"2019-11-23"}]
[null,null,"Hrs","Rate","Total"]
[null,"Enforcement Officer # 1: ",8,1,{"$f":"C43*D43","v":8}]
[null,"# 2: ",8,1,{"$f":"C44*D44","v":8}]
[]
["Date:  ",{"$f":"'HOL DATES'!A4","v":"2019-11-24"}]
[null,null,"Hrs","Rate","Total"]
[null,"Enforcement Officer # 1: ",8,1,{"$f":"C48*D48","v":8}]
[null,"# 2: ",8,1,{"$f":"C49*D49","v":8}]
[]
["Date:  ",{"$f":"'HOL DATES'!A5","v":"2019-11-25"}]
[null,null,"Hrs","Rate","Total"]
[null,"Enforcement Officer # 1: ",8,1,{"$f":"C53*D53","v":8}]
[null,"# 2: ",8,1,{"$f":"C54*D54","v":8}]
[]
[]
[null,null,null,"Grand Total",{"$f":"SUM(E33:E34,E38:E39,E43:E44,E48:E49,E53:E54)","v":80}]
[]
[]
["PROJECT TITLE",null,null,"APPLICANT"]
[]
[{"$f":"APPLICATION!$A$15","v":"FY 2020 Comprehensive DUI Enforcement Program for Resident Trooper Towns"},null,null,{"$f":"IF(APPLICATION!A21=\"\",\"\",APPLICATION!A21)","v":""}]
[]
[]
[]
[null,null,"PROJECT COST WORK SHEET"]
[]
[null,"Only one Officer allowed per vehicle at any one time"]
[]
[null,"Defined Program Parameters"]
[null,"Core Enforcement Hours:  17:00 - 04:00"]
[null,"NO SHIFT TO EXCEED 8 HOURS\n PER ENFORCEMENT PERIOD"]
[]
[]
["Date:  ",{"$f":"'HOL DATES'!A6","v":"2019-11-26"}]
[null,null,"Hrs","Rate","Total"]
[null,"Enforcement Officer # 1: ",8,1,{"$f":"C77*D77","v":8}]
[null,"# 2: ",8,1,{"$f":"C78*D78","v":8}]
[]
["Date:  ",{"$f":"'HOL DATES'!A7","v":"2019-11-27"}]
[null,null,"Hrs","Rate","Total"]
[null,"Enforcement Officer # 1: ",8,1,{"$f":"C82*D82","v":8}]
[null,"# 2: ",8,1,{"$f":"C83*D83","v":8}]
[]
["Date:  ",{"$f":"'HOL DATES'!A8","v":"2019-11-28"}]
[null,null,"Hrs","Rate","Total"]
[null,"Enforcement Officer # 1: ",8,1,{"$f":"C87*D87","v":8}]
[null,"# 2: ",8,1,{"$f":"C88*D88","v":8}]
[]
["Date:  ",{"$f":"'HOL DATES'!A9","v":"2019-11-29"}]
[null,null,"Hrs","Rate","Total"]
[null,"Enforcement Officer # 1: ",8,1,{"$f":"C92*D92","v":8}]
[null,"# 2: ",8,1,{"$f":"C93*D93","v":8}]
[]
["Date:  ",{"$f":"'HOL DATES'!A10","v":"2019-11-30"}]
[null,null,"Hrs","Rate","Total"]
[null,"Enforcement Officer # 1: ",8,1,{"$f":"C97*D97","v":8}]
[null,"# 2: ",8,1,{"$f":"C98*D98","v":8}]
[]
["Date:  ",{"$f":"'HOL DATES'!A11","v":"2019-12-01"}]
[null,null,"Hrs","Rate","Total"]
[null,"Enforcement Officer # 1: ",8,1,{"$f":"C102*D102","v":8}]
[null,"# 2: ",8,1,{"$f":"C103*D103","v":8}]
[]
["Date:  ",{"$f":"'HOL DATES'!A12","v":"2019-12-05"}]
[null,null,"Hrs","Rate","Total"]
[null,"Enforcement Officer # 1: ",8,1,{"$f":"C107*D107","v":8}]
[null,"# 2: ",8,1,{"$f":"C108*D108","v":8}]
[]
["Date:  ",{"$f":"'HOL DATES'!A13","v":"2019-12-06"}]
[null,null,"Hrs","Rate","Total"]
[null,"Enforcement Officer # 1: ",8,1,{"$f":"C112*D112","v":8}]
[null,"# 2: ",8,1,{"$f":"C113*D113","v":8}]
[]
[null,null,null,"Grand Total",{"$f":"SUM(E77:E78,E82:E83,E87:E88,E92:E93,E97:E98,E102:E103,E107:E108,E112:E113)","v":128}]
[]
[]
["PROJECT TITLE",null,null,"APPLICANT"]
[]
[{"$f":"APPLICATION!$A$15","v":"FY 2020 Comprehensive DUI Enforcement Program for Resident Trooper Towns"},null,null,{"$f":"IF(APPLICATION!A21=\"\",\"\",APPLICATION!A21)","v":""}]
[]
[]
[]
[null,null,"PROJECT COST WORK SHEET"]
[]
[null,"Only one Officer allowed per vehicle at any one time"]
[]
[null,"Defined Program Parameters"]
[null,"Core Enforcement Hours:  17:00 - 04:00"]
[null,"NO SHIFT TO EXCEED 8 HOURS\n PER ENFORCEMENT PERIOD"]
[]
[]
["Date:  ",{"$f":"'HOL DATES'!A14","v":"2019-12-07"}]
[null,null,"Hrs","Rate","Total"]
[null,"Enforcement Officer # 1: ",8,1,{"$f":"C135*D135","v":8}]
[null,"# 2: ",8,1,{"$f":"C136*D136","v":8}]
[]
["Date:  ",{"$f":"'HOL DATES'!A15","v":"2019-12-12"}]
[null,null,"Hrs","Rate","Total"]
[null,"Enforcement Officer # 1: ",8,1,{"$f":"C140*D140","v":8}]
[null,"# 2: ",8,1,{"$f":"C141*D141","v":8}]
[]
["Date:  ",{"$f":"'HOL DATES'!A16","v":"2019-12-13"}]
[null,null,"Hrs","Rate","Total"]
[null,"Enforcement Officer # 1: ",8,1,{"$f":"C145*D145","v":8}]
[null,"# 2: ",8,1,{"$f":"C146*D146","v":8}]
[]
["Date:  ",{"$f":"'HOL DATES'!A17","v":"2019-12-14"}]
[null,null,"Hrs","Rate","Total"]
[null,"Enforcement Officer # 1: ",8,1,{"$f":"C150*D150","v":8}]
[null,"# 2: ",8,1,{"$f":"C151*D151","v":8}]
[]
["Date:  ",{"$f":"'HOL DATES'!A18","v":"2019-12-15"}]
[null,null,"Hrs","Rate","Total"]
[null,"Enforcement Officer # 1: ",8,1,{"$f":"C155*D155","v":8}]
[null,"# 2: ",8,1,{"$f":"C156*D156","v":8}]
[]
["Date:  ",{"$f":"'HOL DATES'!A19","v":"2019-12-16"}]
[null,null,"Hrs","Rate","Total"]
[null,"Enforcement Officer # 1: ",8,1,{"$f":"C160*D160","v":8}]
[null,"# 2: ",8,1,{"$f":"C161*D161","v":8}]
[]
["Date:  ",{"$f":"'HOL DATES'!A20","v":"2019-12-17"}]
[null,null,"Hrs","Rate","Total"]
[null,"Enforcement Officer # 1: ",8,1,{"$f":"C165*D165","v":8}]
[null,"# 2: ",8,1,{"$f":"C166*D166","v":8}]
[]
["Date:  ",{"$f":"'HOL DATES'!A21","v":"2019-12-18"}]
[null,null,"Hrs","Rate","Total"]
[null,"Enforcement Officer # 1: ",8,1,{"$f":"C170*D170","v":8}]
[null,"# 2: ",8,1,{"$f":"C171*D171","v":8}]
[]
[null,null,null,"Grand Total",{"$f":"SUM(E135:E136,E140:E141,E145:E146,E150:E151,E155:E156,E160:E161,E165:E166,E170:E171)","v":128}]
[]
[]
["PROJECT TITLE",null,null,"APPLICANT"]
[]
[{"$f":"APPLICATION!$A$15","v":"FY 2020 Comprehensive DUI Enforcement Program for Resident Trooper Towns"},null,null,{"$f":"IF(APPLICATION!A21=\"\",\"\",APPLICATION!A21)","v":""}]
[]
[]
[]
[null,null,"PROJECT COST WORK SHEET"]
[]
[null,"Only one Officer allowed per vehicle at any one time"]
[]
[null,"Defined Program Parameters"]
[null,"Core Enforcement Hours:  17:00 - 04:00"]
[null,"NO SHIFT TO EXCEED 8 HOURS\n PER ENFORCEMENT PERIOD"]
[null,"PER ENFORCEMENT PERIOD"]
[]
["Date:  ",{"$f":"'HOL DATES'!A22","v":"2019-12-19"}]
[null,null,"Hrs","Rate","Total"]
[null,"Enforcement Officer # 1: ",8,1,{"$f":"C193*D193","v":8}]
[null,"# 2: ",8,1,{"$f":"C194*D194","v":8}]
[]
["Date:  ",{"$f":"'HOL DATES'!A23","v":"2019-12-20"}]
[null,null,"Hrs","Rate","Total"]
[null,"Enforcement Officer # 1: ",8,1,{"$f":"C198*D198","v":8}]
[null,"# 2: ",8,1,{"$f":"C199*D199","v":8}]
[]
["Date:  ",{"$f":"'HOL DATES'!A24","v":"2019-12-21"}]
[null,null,"Hrs","Rate","Total"]
[null,"Enforcement Officer # 1: ",8,1,{"$f":"C203*D203","v":8}]
[null,"# 2: ",8,1,{"$f":"C204*D204","v":8}]
[]
["Date:  ",{"$f":"'HOL DATES'!A25","v":"2019-12-22"}]
[null,null,"Hrs","Rate","Total"]
[null,"Enforcement Officer # 1: ",8,1,{"$f":"C208*D208","v":8}]
[null,"# 2: ",8,1,{"$f":"C209*D209","v":8}]
[]
["Date:  ",{"$f":"'HOL DATES'!A26","v":"2019-12-23"}]
[null,null,"Hrs","Rate","Total"]
[null,"Enforcement Officer # 1: ",8,1,{"$f":"C213*D213","v":8}]
[null,"# 2: ",8,1,{"$f":"C214*D214","v":8}]
[]
["Date:  ",{"$f":"'HOL DATES'!A27","v":"2019-12-24"}]
[null,null,"Hrs","Rate","Total"]
[null,"Enforcement Officer # 1: ",8,1,{"$f":"C218*D218","v":8}]
[null,"# 2: ",8,1,{"$f":"C219*D219","v":8}]
[]
["Date:  ",{"$f":"'HOL DATES'!A28","v":"2019-12-25"}]
[null,null,"Hrs","Rate","Total"]
[null,"Enforcement Officer # 1: ",8,1,{"$f":"C223*D223","v":8}]
[null,"# 2: ",8,1,{"$f":"C224*D224","v":8}]
[]
["Date:  ",{"$f":"'HOL DATES'!A29","v":"2019-12-26"}]
[null,null,"Hrs","Rate","Total"]
[null,"Enforcement Officer # 1: ",8,1,{"$f":"C228*D228","v":8}]
[null,"# 2: ",8,1,{"$f":"C229*D229","v":8}]
[]
[null,null,null,"Grand Total",{"$f":"SUM(E193:E194,E198:E199,E203:E204,E208:E209,E213:E214,E218:E219,E223:E224,E228:E229)","v":128}]
[]
[]
["PROJECT TITLE",null,null,"APPLICANT"]
[]
[{"$f":"APPLICATION!$A$15","v":"FY 2020 Comprehensive DUI Enforcement Program for Resident Trooper Towns"},null,null,{"$f":"IF(APPLICATION!A21=\"\",\"\",APPLICATION!A21)","v":""}]
[]
[]
[]
[null,null,"PROJECT COST WORK SHEET"]
[]
[null,"Only one Officer allowed per vehicle at any one time"]
[]
[null,"Defined Program Parameters"]
[null,"Core Enforcement Hours:  17:00 - 04:00"]
[null,"NO SHIFT TO EXCEED 8 HOURS\n PER ENFORCEMENT PERIOD"]
[]
[]
[]
["Date:  ",{"$f":"'HOL DATES'!A30","v":"2019-12-27"}]
[null,null,"Hrs","Rate","Total"]
[null,"Enforcement Officer # 1: ",8,1,{"$f":"C252*D252","v":8}]
[null,"# 2: ",8,1,{"$f":"C253*D253","v":8}]
[]
["Date:  ",{"$f":"'HOL DATES'!A31","v":"2019-12-28"}]
[null,null,"Hrs","Rate","Total"]
[null,"Enforcement Officer # 1: ",8,1,{"$f":"C257*D257","v":8}]
[null,"# 2: ",8,1,{"$f":"C258*D258","v":8}]
[]
["Date:  ",{"$f":"'HOL DATES'!A32","v":"2019-12-29"}]
[null,null,"Hrs","Rate","Total"]
[null,"Enforcement Officer # 1: ",8,1,{"$f":"C262*D262","v":8}]
[null,"# 2: ",8,1,{"$f":"C263*D263","v":8}]
[]
["Date:  ",{"$f":"'HOL DATES'!A33","v":"2019-12-30"}]
[null,null,"Hrs","Rate","Total"]
[null,"Enforcement Officer # 1: ",8,1,{"$f":"C267*D267","v":8}]
[null,"# 2: ",8,1,{"$f":"C268*D268","v":8}]
[]
["Date:  ",{"$f":"'HOL DATES'!A34","v":"2019-12-31"}]
[null,null,"Hrs","Rate","Total"]
[null,"Enforcement Officer # 1: ",8,1,{"$f":"C272*D272","v":8}]
[null,"# 2: ",8,1,{"$f":"C273*D273","v":8}]
[]
["Date:  ",{"$f":"'HOL DATES'!A35","v":"2020-01-01"}]
[null,null,"Hrs","Rate","Total"]
[null,"Enforcement Officer # 1: ",8,1,{"$f":"C277*D277","v":8}]
[null,"# 2: ",8,1,{"$f":"C278*D278","v":8}]
[]
["Date:  ",{"$f":"'HOL DATES'!A36","v":"2020-05-21"}]
[null,null,"Hrs","Rate","Total"]
[null,"Enforcement Officer # 1: ",8,1,{"$f":"C282*D282","v":8}]
[null,"# 2: ",8,1,{"$f":"C283*D283","v":8}]
[]
["Date:  ","NA",null,null,"Holiday TCNY Total:",{"$f":"SUM(E252:E253,E257:E258,E262:E263,E267:E283,E231,E173,E115,E57)","v":576}]
[null,null,"Hrs","Rate","Total"]
[null,"Enforcement Officer # 1: ",null,null,{"$f":"C287*D287","v":0}]
[null,"# 2: ",null,null,{"$f":"C288*D288","v":0}]
[]
[null,null,null,"Grand Total",{"$f":"SUM(E252:E253,E257:E258,E262:E263,E267:E268,E272:E273,E277:E278,E282:E283,E287:E288)","v":112}]

{"sheet":"HOLIDAY SHIFTS MDJ4","index":10,"n_rows":132,"n_cols":6,"rows_kept":132,"cut":false,"hidden":true,"merged":[[78,0,78,5],[11,0,11,5],[73,2,73,3],[74,1,74,4],[75,1,75,4],[76,1,76,4],[77,1,77,4],[67,0,68,2],[67,3,68,5],[69,0,72,2],[69,3,70,5],[71,3,72,5],[10,1,10,4],[6,2,6,3],[7,1,7,4],[8,1,8,4],[9,1,9,4],[0,0,1,2],[0,3,1,5],[2,0,5,2],[2,3,3,5],[4,3,5,5]]}
["PROJECT TITLE",null,null,"APPLICANT"]
[]
[{"$f":"APPLICATION!$A$15","v":"FY 2020 Comprehensive DUI Enforcement Program for Resident Trooper Towns"},null,null,{"$f":"IF(APPLICATION!A21=\"\",\"\",APPLICATION!A21)","v":""}]
[]
[]
[]
[null,null,"PROJECT COST WORK SHEET"]
[null,"Only one Officer allowed per vehicle at any one time"]
[null,"Defined Program Parameters"]
[null,"Core Enforcement Hours:  17:00 - 04:00"]
[null,"NO SHIFT TO EXCEED 8 HOURS\n PER ENFORCEMENT PERIOD"]
["SUPER BOWL, ST. PAT'S, CINCO DE MAYO, MEMORIAL DAY AND JULY 4TH HOLIDAYS"]
[]
["Date:  ",{"$f":"'HOL DATES'!A37","v":"2020-05-22"}]
[null,null,"Hrs","Rate","Total"]
[null,"Enforcement Officer # 1: ",8,1,{"$f":"C16*D16","v":8}]
[null,"# 2: ",8,1,{"$f":"C17*D17","v":8}]
[]
["Date:  ",{"$f":"'HOL DATES'!A38","v":"2020-05-23"},null,null,"Holiday SB Total: ",{"$f":"SUM(E16:E17)","v":16}]
[null,null,"Hrs","Rate","Total"]
[null,"Enforcement Officer # 1: ",8,1,{"$f":"C21*D21","v":8}]
[null,"# 2: ",8,1,{"$f":"C22*D22","v":8}]
[]
["Date:  ",{"$f":"'HOL DATES'!A39","v":"2020-05-24"},null,null,"Holiday St. Pat's Total: ",{"$f":"SUM(E21:E22)","v":16}]
[null,null,"Hrs","Rate","Total"]
[null,"Enforcement Officer # 1: ",8,1,{"$f":"C26*D26","v":8}]
[null,"# 2: ",8,1,{"$f":"C27*D27","v":8}]
[]
["Date:  ",{"$f":"'HOL DATES'!A40","v":"2020-05-25"},null,null,"Holiday Cinco Total: ",{"$f":"SUM(E26:E27)","v":16}]
[null,null,"Hrs","Rate","Total"]
[null,"Enforcement Officer # 1: ",8,1,{"$f":"C31*D31","v":8}]
[null,"# 2: ",8,1,{"$f":"C32*D32","v":8}]
[]
["Date:  ",{"$f":"'HOL DATES'!A41","v":"2020-07-01"}]
[null,null,"Hrs","Rate","Total"]
[null,"Enforcement Officer # 1: ",8,1,{"$f":"C36*D36","v":8}]
[null,"# 2: ",8,1,{"$f":"C37*D37","v":8}]
[]
[]
["Date:  ",{"$f":"'HOL DATES'!A42","v":"2020-07-02"}]
[null,null,"Hrs","Rate","Total"]
[null,"Enforcement Officer # 1: ",8,1,{"$f":"C42*D42","v":8}]
[null,"# 2: ",8,1,{"$f":"C43*D43","v":8}]
[]
["Date:  ",{"$f":"'HOL DATES'!A43","v":"2020-07-03"}]
[null,null,"Hrs","Rate","Total"]
[null,"Enforcement Officer # 1: ",8,1,{"$f":"C47*D47","v":8}]
[null,"# 2: ",8,1,{"$f":"C48*D48","v":8}]
[]
["Date:  ",{"$f":"'HOL DATES'!A44","v":"2020-07-04"}]
[null,null,"Hrs","Rate","Total"]
[null,"Enforcement Officer # 1: ",8,1,{"$f":"C52*D52","v":8}]
[null,"# 2: ",8,1,{"$f":"C53*D53","v":8}]
[]
["Date:  ",{"$f":"'HOL DATES'!A45","v":"2020-07-05"},null,null,"Holiday MD Total: ",{"$f":"SUM(E31:E32,E42:E43,E47:E48,E52:E53,E36:E37)","v":80}]
[null,null,"Hrs","Rate","Total"]
[null,"Enforcement Officer # 1: ",8,1,{"$f":"C57*D57","v":8}]
[null,"# 2: ",8,1,{"$f":"C58*D58","v":8}]
[]
["Date:  ",{"$f":"'HOL DATES'!A46","v":"2020-08-20"}]
[null,null,"Hrs","Rate","Total"]
[null,"Enforcement Officer # 1: ",8,1,{"$f":"C62*D62","v":8}]
[null,"# 2: ",8,1,{"$f":"C63*D63","v":8}]
[]
[null,null,null,"Grand Total",{"$f":"SUM(E16:E17,E21:E22,E26:E27,E31:E32,E36:E37,E42:E43,E47:E48,E52:E53,E57:E58,E62:E63)","v":160}]
[]
[]
["PROJECT TITLE",null,null,"APPLICANT"]
[]
[{"$f":"APPLICATION!$A$15","v":"FY 2020 Comprehensive DUI Enforcement Program for Resident Trooper Towns"},null,null,{"$f":"IF(APPLICATION!A86=\"\",\"\",APPLICATION!A86)","v":""}]
[]
[]
[]
[null,null,"PROJECT COST WORK SHEET"]
[null,"Only one Officer allowed per vehicle at any one time"]
[null,"Defined Program Parameters"]
[null,"Core Enforcement Hours:  17:00 - 04:00"]
[null,"NO SHIFT TO EXCEED 8 HOURS\n PER ENFORCEMENT PERIOD"]
["JULY 4TH HOLIDAY'S CONTINUED"]
[]
["Date:  ",{"$f":"'HOL DATES'!A47","v":"2020-08-21"}]
[null,null,"Hrs","Rate","Total"]
[null,"Enforcement Officer # 1: ",8,1,{"$f":"C83*D83","v":8}]
[null,"# 2: ",8,1,{"$f":"C84*D84","v":8}]
[]
["Date:  ",{"$f":"'HOL DATES'!#REF!","v":{"$error":"#REF!"}}]
[null,null,"Hrs","Rate","Total"]
[null,"Enforcement Officer # 1: ",8,1,{"$f":"C88*D88","v":8}]
[null,"# 2: ",8,1,{"$f":"C89*D89","v":8}]
[]
["Date:  ",{"$f":"'HOL DATES'!A48","v":"2020-08-22"}]
[null,null,"Hrs","Rate","Total"]
[null,"Enforcement Officer # 1: ",8,1,{"$f":"C93*D93","v":8}]
[null,"# 2: ",8,1,{"$f":"C94*D94","v":8}]
[]
["Date:  ","NA",null,null,"Holiday J4 Total:",{"$f":"SUM(E57:E58,E83:E84,E88:E89,E93:E94,E62:E63)","v":80}]
[null,null,"Hrs","Rate","Total"]
[null,"Enforcement Officer # 1: ",null,null,{"$f":"C98*D98","v":0}]
[null,"# 2: ",null,null,{"$f":"C99*D99","v":0}]
[]
["Date:  ","NA"]
[null,null,"Hrs","Rate","Total"]
[null,"Enforcement Officer # 1: ",null,null,{"$f":"C103*D103","v":0}]
[null,"# 2: ",null,null,{"$f":"C104*D104","v":0}]
[]
[]
["Date:  ","NA"]
[null,null,"Hrs","Rate","Total"]
[null,"Enforcement Officer # 1: ",null,null,{"$f":"C109*D109","v":0}]
[null,"# 2: ",null,null,{"$f":"C110*D110","v":0}]
[]
["Date:  ","NA"]
[null,null,"Hrs","Rate","Total"]
[null,"Enforcement Officer # 1: ",null,null,{"$f":"C114*D114","v":0}]
[null,"# 2: ",null,null,{"$f":"C115*D115","v":0}]
[]
["Date:  ","NA"]
[null,null,"Hrs","Rate","Total"]
[null,"Enforcement Officer # 1: ",null,null,{"$f":"C119*D119","v":0}]
[null,"# 2: ",null,null,{"$f":"C120*D120","v":0}]
[]
["Date:  ","NA"]
[null,null,"Hrs","Rate","Total"]
[null,"Enforcement Officer # 1: ",null,null,{"$f":"C124*D124","v":0}]
[null,"# 2: ",null,null,{"$f":"C125*D125","v":0}]
[]
["Date:  ","NA"]
[null,null,"Hrs","Rate","Total"]
[null,"Enforcement Officer # 1: ",null,null,{"$f":"C129*D129","v":0}]
[null,"# 2: ",null,null,{"$f":"C130*D130","v":0}]
[null,null,null,null,"Holiday J4 Total:",{"$f":"SUM(E129:E130,E124:E125,E119:E120,E114:E115,E109:E110)","v":0}]
[null,null,null,"Grand Total",{"$f":"SUM(E83:E84,E88:E89,E93:E94,E98:E99,E103:E104,E109:E110,E114:E115,E119:E120,E124:E125,E129:E130)","v":48}]

{"sheet":"HOLIDAY SHIFTS LABOR","index":11,"n_rows":157,"n_cols":6,"rows_kept":157,"cut":false,"hidden":true,"merged":[[6,2,6,3],[10,1,10,4],[11,1,11,4],[0,0,1,2],[0,3,1,5],[2,0,5,2],[2,3,3,5],[4,3,5,5],[106,0,107,2],[106,3,107,5],[7,1,7,4],[9,1,9,4],[54,0,55,2],[54,3,55,5],[56,0,59,2],[56,3,57,5],[58,3,59,5],[60,2,60,3],[61,1,61,4],[63,1,63,4],[64,1,64,4],[65,1,65,4],[14,0,14,5],[116,1,116,4],[117,1,117,4],[108,0,111,2],[108,3,109,5],[110,3,111,5],[112,2,112,3],[113,1,113,4],[115,1,115,4]]}
["PROJECT TITLE",null,null,"APPLICANT"]
[]
[{"$f":"APPLICATION!A15","v":"FY 2020 Comprehensive DUI Enforcement Program for Resident Trooper Towns"},null,null,{"$f":"IF(APPLICATION!A21=\"\",\"\",APPLICATION!A21)","v":""}]
[]
[]
[]
[null,null,"PROJECT COST WORK SHEET"]
[null,"Only one Officer allowed per vehicle at any one time"]
[]
[null,"Defined Program Parameters"]
[null,"Core Enforcement Hours:  17:00 - 04:00"]
[null,"NO SHIFT TO EXCEED 8 HOURS\n PER ENFORCEMENT PERIOD"]
[]
[]
["AUGUST/LABOR DAY HOLIDAYS"]
[]
["Date:  ",{"$f":"'HOL DATES'!A49","v":"2020-08-23"}]
[null,null,"Hrs","Rate","Total"]
[null,"Enforcement Officer # 1: ",8,1,{"$f":"C19*D19","v":8}]
[null,"# 2: ",8,1,{"$f":"C20*D20","v":8}]
[]
["Date:  ",{"$f":"'HOL DATES'!A50","v":"2020-08-24"}]
[null,null,"Hrs","Rate","Total"]
[null,"Enforcement Officer # 1: ",8,1,{"$f":"C24*D24","v":8}]
[null,"# 2: ",8,1,{"$f":"C25*D25","v":8}]
[]
["Date:  ",{"$f":"'HOL DATES'!A51","v":"2020-08-25"}]
[null,null,"Hrs","Rate","Total"]
[null,"Enforcement Officer # 1: ",8,1,{"$f":"C29*D29","v":8}]
[null,"# 2: ",8,1,{"$f":"C30*D30","v":8}]
[]
["Date:  ",{"$f":"'HOL DATES'!A52","v":"2020-08-26"}]
[null,null,"Hrs","Rate","Total"]
[null,"Enforcement Officer # 1: ",8,1,{"$f":"C34*D34","v":8}]
[null,"# 2: ",8,1,{"$f":"C35*D35","v":8}]
[]
["Date:  ",{"$f":"'HOL DATES'!A53","v":"2020-08-27"}]
[null,null,"Hrs","Rate","Total"]
[null,"Enforcement Officer # 1: ",8,1,{"$f":"C39*D39","v":8}]
[null,"# 2: ",8,1,{"$f":"C40*D40","v":8}]
[]
["Date:  ",{"$f":"'HOL DATES'!A54","v":"2020-08-28"}]
[null,null,"Hrs","Rate","Total"]
[null,"Enforcement Officer # 1: ",8,1,{"$f":"C44*D44","v":8}]
[null,"# 2: ",8,1,{"$f":"C45*D45","v":8}]
[]
["Date:  ",{"$f":"'HOL DATES'!A55","v":"2020-08-29"}]
[null,null,"Hrs","Rate","Total"]
[null,"Enforcement Officer # 1: ",8,1,{"$f":"C49*D49","v":8}]
[null,"# 2: ",8,1,{"$f":"C50*D50","v":8}]
[]
[null,null,null,"Grand Total",{"$f":"SUM(E19:E20,E24:E25,E29:E30,E34:E35,E39:E40,E44:E45,E49:E50)","v":112}]
[]
[]
["PROJECT TITLE",null,null,"APPLICANT"]
[]
[{"$f":"APPLICATION!A15","v":"FY 2020 Comprehensive DUI Enforcement Program for Resident Trooper Towns"},null,null,{"$f":"IF(APPLICATION!A21=\"\",\"\",APPLICATION!A21)","v":""}]
[]
[]
[]
[null,null,"PROJECT COST WORK SHEET"]
[null,"Only one Officer allowed per vehicle at any one time"]
[]
[null,"Defined Program Parameters"]
[null,"Core Enforcement Hours:  17:00 - 04:00"]
[null,"NO SHIFT TO EXCEED 8 HOURS\n PER ENFORCEMENT PERIOD"]
[]
[]
[]
["Date:  ",{"$f":"'HOL DATES'!A56","v":"2020-08-30"}]
[null,null,"Hrs","Rate","Total"]
[null,"Enforcement Officer # 1: ",8,1,{"$f":"C72*D72","v":8}]
[null,"# 2: ",8,1,{"$f":"C73*D73","v":8}]
[]
["Date:  ",{"$f":"'HOL DATES'!A57","v":"2020-08-31"}]
[null,null,"Hrs","Rate","Total"]
[null,"Enforcement Officer # 1: ",8,1,{"$f":"C77*D77","v":8}]
[null,"# 2: ",8,1,{"$f":"C78*D78","v":8}]
[]
["Date:  ",{"$f":"'HOL DATES'!A58","v":"2020-09-01"}]
[null,null,"Hrs","Rate","Total"]
[null,"Enforcement Officer # 1: ",8,1,{"$f":"C82*D82","v":8}]
[null,"# 2: ",8,1,{"$f":"C83*D83","v":8}]
[]
["Date:  ",{"$f":"'HOL DATES'!A59","v":"2020-09-02"}]
[null,null,"Hrs","Rate","Total"]
[null,"Enforcement Officer # 1: ",8,1,{"$f":"C87*D87","v":8}]
[null,"# 2: ",8,1,{"$f":"C88*D88","v":8}]
[]
["Date:  ",{"$f":"'HOL DATES'!A60","v":"2020-09-03"}]
[null,null,"Hrs","Rate","Total"]
[null,"Enforcement Officer # 1: ",8,1,{"$f":"C92*D92","v":8}]
[null,"# 2: ",8,1,{"$f":"C93*D93","v":8}]
[]
["Date:  ",{"$f":"'HOL DATES'!A61","v":"2020-09-04"}]
[null,null,"Hrs","Rate","Total"]
[null,"Enforcement Officer # 1: ",8,1,{"$f":"C97*D97","v":8}]
[null,"# 2: ",8,1,{"$f":"C98*D98","v":8}]
[]
["Date:  ",{"$f":"'HOL DATES'!A62","v":"2020-09-05"}]
[null,null,"Hrs","Rate","Total"]
[null,"Enforcement Officer # 1: ",8,1,{"$f":"C102*D102","v":8}]
[null,"# 2: ",8,1,{"$f":"C103*D103","v":8}]
[]
[null,null,null,"Grand Total",{"$f":"SUM(E72:E73,E77:E78,E82:E83,E87:E88,E92:E93,E97:E98,E102:E103)","v":112}]
[]
["PROJECT TITLE",null,null,"APPLICANT"]
[]
[{"$f":"APPLICATION!A15","v":"FY 2020 Comprehensive DUI Enforcement Program for Resident Trooper Towns"},null,null,{"$f":"IF(APPLICATION!A21=\"\",\"\",APPLICATION!A21)","v":""}]
[]
[]
[]
[null,null,"PROJECT COST WORK SHEET"]
[null,"Only one Officer allowed per vehicle at any one time"]
[]
[null,"Defined Program Parameters"]
[null,"Core Enforcement Hours:  17:00 - 04:00"]
[null,"NO SHIFT TO EXCEED 8 HOURS\n PER ENFORCEMENT PERIOD"]
[]
[]
[]
["Date:  ",{"$f":"'HOL DATES'!A63","v":"2020-09-06"}]
[null,null,"Hrs","Rate","Total"]
[null,"Enforcement Officer # 1: ",8,1,{"$f":"C124*D124","v":8}]
[null,"# 2: ",8,1,{"$f":"C125*D125","v":8}]
[]
["Date:  ",{"$f":"'HOL DATES'!A64","v":"2020-09-07"}]
[null,null,"Hrs","Rate","Total"]
[null,"Enforcement Officer # 1: ",8,1,{"$f":"C129*D129","v":8}]
[null,"# 2: ",8,1,{"$f":"C130*D130","v":8}]
[]
["Date:  ",{"$f":"'HOL DATES'!#REF!","v":{"$error":"#REF!"}}]
[null,null,"Hrs","Rate","Total"]
[null,"Enforcement Officer # 1: ",8,1,{"$f":"C134*D134","v":8}]
[null,"# 2: ",8,1,{"$f":"C135*D135","v":8}]
[]
["Date:  ",{"$f":"'HOL DATES'!#REF!","v":{"$error":"#REF!"}}]
[null,null,"Hrs","Rate","Total"]
[null,"Enforcement Officer # 1: ",8,1,{"$f":"C139*D139","v":8}]
[null,"# 2: ",8,1,{"$f":"C140*D140","v":8}]
[]
["Date:  ",{"$f":"'HOL DATES'!A65","v":"00:00:00"}]
[null,null,"Hrs","Rate","Total"]
[null,"Enforcement Officer # 1: ",8,1,{"$f":"C144*D144","v":8}]
[null,"# 2: ",8,1,{"$f":"C145*D145","v":8}]
[]
["Date:  ","NA"]
[null,null,"Hrs","Rate","Total"]
[null,"Enforcement Officer # 1: ",null,null,{"$f":"C149*D149","v":0}]
[null,"# 2: ",null,null,{"$f":"C150*D150","v":0}]
[]
["Date:  ","NA"]
[null,null,"Hrs","Rate","Total"]
[null,"Enforcement Officer # 1: ",null,null,{"$f":"C154*D154","v":0}]
[null,"# 2: ",null,null,{"$f":"C155*D155","v":0}]
[null,null,null,null,"Holiday Labor Total:",{"$f":"SUM(E52,E105,E157)","v":304}]
[null,null,null,"Grand Total",{"$f":"SUM(E124:E125,E129:E130,E134:E135,E139:E140,E144:E145,E149:E150,E154:E155)","v":80}]

{"sheet":"PROBLEM ID","index":12,"n_rows":164,"n_cols":6,"rows_kept":164,"cut":false,"hidden":false,"merged":[[152,4,152,5],[153,1,153,2],[153,4,153,5],[0,0,1,2],[0,3,1,6],[2,0,5,2],[2,3,3,6],[54,0,55,2],[54,3,55,6],[4,3,5,4],[4,5,5,6],[110,0,111,2],[110,3,111,6],[56,0,59,2],[56,3,57,6],[58,3,59,4],[58,5,59,6],[67,0,108,6],[112,0,115,2],[112,3,113,6],[114,3,115,4],[114,5,115,6],[130,5,136,6],[131,1,131,3],[134,1,134,3],[128,1,128,3],[126,4,127,4],[135,4,136,4],[151,4,151,5],[140,1,140,5],[141,1,141,5],[142,1,142,5],[145,1,145,5],[146,1,146,5],[123,4,124,4],[160,2,160,5],[162,2,162,5],[163,2,163,5],[143,1,143,5],[144,1,144,5],[155,1,155,5],[161,2,161,3],[156,1,156,5],[159,2,159,5],[148,1,149,2],[148,4,149,5],[150,1,150,2],[151,1,151,2],[152,1,152,2],[150,4,150,5]]}
["PROJECT TITLE",null,null,"APPLICANT"]
[]
[{"$f":"APPLICATION!$A$15","v":"FY 2020 Comprehensive DUI Enforcement Program for Resident Trooper Towns"},null,null,{"$f":"IF(APPLICATION!A21=\"\",\"\",APPLICATION!A21)","v":""}]
[]
[null,null,null,{"$f":"MID(CELL(\"filename\",A1),FIND(\"]\",CELL(\"filename\",A1))+1,255)","v":"PROBLEM ID"},null,"PAGE 1 OF 3"]
[]
[]
["  STATEMENT OF THE PROBLEM AND BACKGROUND INFORMATION"]
[]
["    Alcohol-impaired driving fatalities in Connecticut averaged 106 per year for the 2007-2016 ten year period.  The"]
["    year 2011 had the lowest reported total (94) and the year 2013 had the highest reported total (126)."]
["    Alcohol-impaired driving fatalities for the latest available three years are: 2014 - 97,   2015 - 103,   2016 - 116."]
["    Alcohol-impaired driving fatalities for the 2007-2016 ten year period averaged 39% of total fatalities for the period."]
[]
["    DUI crashes for the latest available three years are: 2016 - 3317,   2017 - 3240,   2018 - 2483."]
["    DUI injuries for the latest available three years are:  2016 - 1963,   2017 - 1863,   2018 - 1343."]
[]
["    66% of fatally injured drinking drivers (BAC > 0.01) occurred in crashes between the hours of 8 PM and 6 AM."]
[]
["    The number of statewide DUI arrests for the latest available three years are:"]
["    FY 2015/2016 - 10,265,   FY 2016/2017 - 9,659,   FY 2017/2018 - 9,252."]
[]
["    NOTE:  For roving patrol activities, the number of enforcement officers allowed per vehicle at any"]
["    one time is one per vehicle.  However, core enforcement hours may be split by more than one"]
["    officer.  All officers who will be assigned to DUI activities should be trained in the most current  "]
["    Standardized Field Sobriety Test (SFST) course curriculum."]
[]
["    NOTE:  The operation of this DUI enforcement project shall be above and beyond regular"]
["    patrol activities scheduled during the program parameter times."]
[]
["     OBJECTIVES"]
["     To reduce the number of crashes, injuries and fatalities from impaired driving through increased high-visibility"]
["     DUI enforcement activities.  To communicate with the public, through media venues, the increased levels of"]
["     DUI enforcement activities so drivers will realize the risks and consequences of operating a vehicle while under "]
["     the influence and therefore deter that behavior."]
["      "]
["     ACTIVITIES AND PROCEDURES"]
["     This program is being offered on an expanded year-round basis and is in line with the goals and objectives as "]
["     highlighted in the Connecticut Highway Safety Plan for FY 2020.  Funding will be used to address  "]
["     various circumstances in which increased drinking and driving within the municipality is anticipated to take"]
["     place.  In the course of discussions with police agencies, it is evident that the incidence of impaired driving    "]
["     increases at certain times of the year in addition to holiday periods, such as shoreline communities that"]
["     experience an increase in population during the summer months.  Events such as summer festivals, country"]
["     fairs, music concerts, sporting events, etc., all represent potential for a higher incidence of impaired driving."]
[]
["     Enforcement techniques employed should include extra DUI patrol activities and may include DUI sobriety"]
["     checkpoints.  A checkpoint is defined as an operation in a fixed location where motor vehicle operators are"]
["     stopped and interviewed to establish if they are operating while impaired.  Checkpoints may only be"]
["     scheduled for a maximum of 8 hours.  Saturation/roaming patrols are not considered checkpoints."]
[]
[]
[]
[]
[]
["PROJECT TITLE",null,null,"APPLICANT"]
[]
[{"$f":"A3","v":"FY 2020 Comprehensive DUI Enforcement Program for Resident Trooper Towns"},null,null,{"$f":"D3","v":""}]
[]
[null,null,null,{"$f":"D5","v":"PROBLEM ID"},null,"PAGE 2 OF 3"]
[]
[]
["  STATEMENT OF THE PROBLEM AND BACKGROUND INFORMATION (CONTINUED):"]
[]
["     (INSERT LOCAL DUI CRASH AND CITATION STATISTICS AND LOCAL PROBLEM ID HERE)"]
["     DATA MUST INCLUDE ALCOHOL-RELATED FATAL AND INJURY CRASH DATA, DUI ARREST DATA,"]
["    TIME OF DAY  AND DAY OF THE WEEK AND LOCATIONS WHERE THE PROBLEM EXISTS."]
[]
[]
[]
[]
[]
[]
[]
[]
[]
[]
[]
[]
[]
[]
[]
[]
[]
[]
[]
[]
[]
[]
[]
[]
[]
[]
[]
[]
[]
[]
[]
[]
[]
[]
[]
[]
[]
[]
[]
[]
[]
[]
[]
[]
["PROJECT TITLE",null,null,"APPLICANT"]
[]
[{"$f":"A3","v":"FY 2020 Comprehensive DUI Enforcement Program for Resident Trooper Towns"},null,null,{"$f":"D3","v":""}]
[]
[null,null,null,{"$f":"D5","v":"PROBLEM ID"},null,"PAGE 3 OF 3"]
[]
[]
["  STATEMENT OF THE PROBLEM AND BACKGROUND INFORMATION (CONTINUED):"]
[]
["     (INSERT LOCAL DUI CRASH AND CITATION STATISTICS AND LOCAL PROBLEM ID HERE)"]
["     DATA MUST INCLUDE ALCOHOL-RELATED FATAL AND INJURY CRASH DATA, DUI ARREST DATA,"]
["    TIME OF DAY  AND DAY OF THE WEEK AND LOCATIONS WHERE THE PROBLEM EXISTS."]
[]
[null,null,null,null,"Target Goals for Project Period *"]
[]
[null,null,"Alcohol Crashes",null,"Alcohol Crashes"]
[null,2016,2017,2018]
[]
[null,"Alcohol Fatalities"]
[null,2016,2017,2018]
[]
[null,"Alcohol Injuries"]
[null,2016,2017,2018]
[]
[null,"DUI Arrests",null,null,"DUI Arrests"]
[null,2016,2017,2018]
[]
[]
[null,"Problem Identification:"]
[null,"List locations with the highest problems:"]
[]
[]
["    "]
[]
["    "]
[]
[]
[]
[null,"List day(s) of the week where data shows increased DUI:",null,null,"List time(s) of the day where data shows increased DUI:"]
["     "]
[]
[]
[]
[]
[]
[null,"You must provide grant point of contact information for this grant"]
[null,"(This would be the person who is the day-to-day point of contact)"]
[]
[null,"Name of Contact:"]
[null,"Contact Title:"]
[null,"Work Phone:"]
["     ","Cell Phone",null,null,null,"For HSO Use Only"]
[null,"FAX No."]
[null,"Email Address:"]

{"sheet":"ELIGIBLE DATES","index":13,"n_rows":21,"n_cols":8,"rows_kept":21,"cut":false,"hidden":false,"merged":[[6,0,6,4],[0,0,1,2],[0,3,1,4],[2,0,5,2],[2,3,3,4],[4,3,5,4],[7,0,7,4],[8,0,10,4],[11,1,11,3],[18,1,18,3],[20,1,20,3],[11,6,11,7],[13,6,13,7],[25,1,25,3],[32,1,32,3],[34,1,34,3]]}
["PROJECT TITLE",null,null,"   APPLICANT"]
[]
[{"$f":"APPLICATION!$A$15","v":"FY 2020 Comprehensive DUI Enforcement Program for Resident Trooper Towns"},null,null,{"$f":"IF(APPLICATION!A21=\"\",\"\",APPLICATION!A21)","v":""}]
[]
[null,null,null,{"$f":"MID(CELL(\"filename\",A1),FIND(\"]\",CELL(\"filename\",A1))+1,255)","v":"ELIGIBLE DATES"}]
[]
[]
[]
[]
[]
[]
[null,null,null,null,null,null,"NON-HOLIDAY"]
[]
[null,null,null,null,null,null,"HOLIDAY"]
[]
[null,null,null,null,null,null,"TCNY","11/21-12/01"]
[null,null,null,null,null,null,null,"12/5-12/7"]
[null,null,null,null,null,null,null,"12/12-1/1"]
[null,null,null,null,null,null,"MD","5/21-5/25"]
[null,null,null,null,null,null,"J4","7/1-7/5"]
[null,null,null,null,null,null,"LABOR","8/20-9/7"]

{"sheet":"MUNICIPAL PD","index":14,"n_rows":147,"n_cols":16,"rows_kept":147,"cut":false,"hidden":true,"merged":[[111,14,111,15],[111,9,111,10],[111,11,111,12],[124,9,124,10],[124,11,124,12],[125,9,126,10],[125,11,126,12],[136,0,139,7],[146,4,146,5],[112,9,112,10],[112,11,112,12],[113,9,114,10],[113,11,114,12],[116,9,116,10],[116,11,116,12],[117,9,118,10],[117,11,118,12],[123,9,123,10],[123,11,123,12],[115,9,115,10],[115,11,115,12],[120,9,120,10],[120,11,120,12],[124,2,125,2],[69,9,69,10],[69,11,69,12],[70,9,71,10],[70,11,71,12],[72,9,72,10],[72,11,72,12],[121,9,122,10],[121,11,122,12],[73,9,73,10],[73,11,73,12],[74,9,75,10],[74,11,75,12],[104,9,104,12],[105,9,105,12],[106,9,106,12],[62,9,63,10],[62,11,63,12],[64,9,64,10],[64,11,64,12],[65,9,65,10],[65,11,65,12],[66,9,67,10],[66,11,67,12],[68,9,68,10],[68,11,68,12],[51,9,51,12],[52,9,52,12],[53,9,53,12],[54,9,54,12],[60,9,60,10],[60,11,60,12],[60,14,60,15],[61,9,61,10],[61,11,61,12],[24,11,24,12],[25,9,26,10],[25,11,26,12],[13,11,14,12],[17,9,18,10],[17,11,18,12],[19,9,19,10],[19,11,19,12],[21,9,22,10],[21,11,22,12],[23,9,23,10],[23,11,23,12],[13,9,14,10],[169,9,169,10],[169,11,169,12],[193,0,195,7],[178,9,179,10],[178,11,179,12],[174,11,175,12],[176,11,176,12],[177,9,177,10],[177,11,177,12],[170,11,171,12],[172,11,172,12],[173,3,173,6],[176,9,176,10],[172,9,172,10],[174,9,175,10],[170,9,171,10],[173,9,173,10],[173,11,173,12],[165,9,165,10],[154,9,154,12],[155,9,155,12],[156,9,156,12],[157,9,157,12],[158,9,158,12],[166,9,167,10],[166,11,167,12],[168,11,168,12],[168,9,168,10],[165,11,165,12],[164,9,164,10],[155,0,156,3],[155,4,156,7],[157,0,160,3],[157,4,158,7],[159,4,160,7],[151,0,153,7],[164,11,164,12],[39,0,39,7],[150,3,150,6],[119,9,119,10],[101,4,102,7],[103,4,104,7],[100,9,100,12],[101,9,101,12],[102,9,102,12],[103,9,103,12],[99,9,99,12],[119,11,119,12],[49,0,50,3],[49,4,50,7],[49,9,49,12],[50,9,50,12],[51,0,54,3],[51,4,52,7],[11,14,11,15],[0,0,1,3],[2,0,5,3],[0,4,1,7],[2,4,3,7],[38,0,38,7],[16,9,16,10],[16,11,16,12],[12,9,12,10],[0,9,0,12],[5,9,5,12],[1,9,1,12],[2,9,2,12],[3,9,3,12],[4,9,4,12],[12,11,12,12],[15,9,15,10],[15,11,15,12],[20,9,20,10],[20,11,20,12],[33,0,36,7],[11,9,11,10],[11,11,11,12],[24,9,24,10],[4,4,5,5],[4,6,5,7],[53,4,54,5],[53,6,54,7],[105,4,106,5],[105,6,106,7],[103,0,106,3],[12,2,13,2],[12,3,13,3],[12,4,13,4],[12,5,13,5],[23,2,24,2],[23,3,24,3],[23,4,24,4],[23,5,24,5],[56,0,56,7],[7,0,7,7],[94,3,94,6],[95,3,95,6],[101,0,102,3],[124,3,125,3],[124,4,125,4],[124,5,125,5],[72,2,73,2],[72,3,73,3],[72,4,73,4],[72,5,73,5],[61,2,62,2],[61,3,62,3],[61,4,62,4],[61,5,62,5],[96,0,99,7],[108,0,108,7],[113,3,114,3],[113,2,114,2],[113,4,114,4],[113,5,114,5]]}
["PROJECT TITLE",null,null,null,"   APPLICANT",null,null,null,null,"PROJECT COST WORKSHEET"]
[null,null,null,null,null,null,null,null,null,"FOR ROVING PATROLS"]
[{"$f":"APPLICATION!$A$15","v":"FY 2020 Comprehensive DUI Enforcement Program for Resident Trooper Towns"},null,null,null,{"$f":"IF(APPLICATION!A21=\"\",\"\",APPLICATION!A21)","v":""},null,null,null,null,"Defined Program Parameters"]
[null,null,null,null,null,null,null,null,null,"Core Enforcement Hours:  17:00 - 04:00"]
[null,null,null,null,{"$f":"MID(CELL(\"filename\",B1),FIND(\"]\",CELL(\"filename\",B1))+1,255)","v":"MUNICIPAL PD"},null,"PAGE 1 OF 3",null,null,"NO SHIFT TO EXCEED 8 HOURS"]
[null,null,null,null,null,null,null,null,null,"16 Hours per Day Maximum"]
[]
["ROVING PATROLS: You must indicate the actual number of roving patrols planned."]
[]
["HOLIDAY ROVING PATROLS (DATES IN BLUE ON ELIGIBLE DATES CALENDAR)"]
["(maximum allowed:  8 hours per shift, 16 hours per day)"]
[null,null,null,null,null,null,null,null,null,"START",null,"END",null,null,"HOLIDAY"]
[null,null,"Number of Patrol Days","Number of Shifts per Day","Hours per Shift","Overtime Hourly Rate",null,null,null,"1st Billing Period",null,"1st Billing Period "]
[null,null,null,null,null,null,"Total",null,null,"2019-10-03",null,"2020-01-01",null,null,"TCNY","11/21-12/01"]
["TCNY",null,null,null,null,null,{"$f":"+E15*+D15*C15*F15","v":0},null,null,null,null,null,null,null,null,"12/5-12/7"]
["MD",null,null,null,null,null,{"$f":"+E16*+D16*C16*F16","v":0},null,null,"START",null,"END",null,null,null,"12/12-1/1"]
["J4",null,null,null,null,null,{"$f":"+E17*+D17*C17*F17","v":0},null,null,"2nd Billing Period ",null,"2nd Billing Period",null,null,"MD","5/21-5/25"]
["LABOR",null,null,null,null,null,{"$f":"+E18*+D18*C18*F18","v":0},null,null,"2020-01-02",null,"2020-04-04",null,null,"J4","7/1-7/5"]
[null,null,null,null,null,"Holiday Roving Patrol Total",null,{"$f":"SUM(G15:G18)","v":0},null,null,null,null,null,null,"LABOR","8/20-9/7"]
[null,null,null,null,null,null,null,null,null,"START",null,"END"]
["NON-HOLIDAY ROVING PATROLS (DATES IN ORANGE ON ELIGIBLE DATES CALENDAR)",null,null,null,null,null,null,null,null,"3rd Billing Period ",null,"3rd Billing Period "]
["(maximum allowed:  8 hours per shift, 16 hours per day)",null,null,null,null,null,null,null,null,"2020-04-09",null,"2020-07-05"]
[]
[null,null,"Number of Patrol Days","Number of Shifts per Day","Hours per Shift","Overtime Hourly Rate",null,null,null,"START",null,"END"]
[null,null,null,null,null,null,"Total",null,null,"4th Billing Period ",null,"4th Billing Period "]
["Non-Holiday 1",null,null,null,null,null,{"$f":"+E26*+D26*C26*F26","v":0},null,null,"2020-07-09",null,"2020-09-12"]
["Non-Holiday 2",null,null,null,null,null,{"$f":"+E27*+D27*C27*F27","v":0}]
["Non-Holiday 3",null,null,null,null,null,{"$f":"+E28*+D28*C28*F28","v":0}]
["Non-Holiday 4",null,null,null,null,null,{"$f":"+E29*+D29*C29*F29","v":0}]
[null,null,null,null,null,"Non-Holiday Roving Patrol Total",null,{"$f":"SUM(G26:G29)","v":0}]
[]
[]
[]
["ALL ROVING PATROL MUST BE CONDUCTED ON THE ELIGIBLE DATES SHOWN ON THE \"ELIGIBLE DATES\".  ROVING PATROL CONDUCTED ON OTHER DATES ARE NOT REIMBURSABLE.  ANY ROVING PATROL ACTIVITY NOT CONDUCTED DURING THE PERIOD PLANNED MAY BE CONDUCTED ON ANY OTHER ELIGIBLE DATE NOT TO EXCEED 16 HOURS PER DAY."]
[]
[]
[]
[]
[]
[]
[]
[]
[]
[]
[]
[]
[]
[]
[]
["PROJECT TITLE",null,null,null,"   APPLICANT",null,null,null,null,"PROJECT COST WORKSHEET"]
[null,null,null,null,null,null,null,null,null,"FOR IN-TOWN CHECKPOINTS"]
[{"$f":"APPLICATION!$A$15","v":"FY 2020 Comprehensive DUI Enforcement Program for Resident Trooper Towns"},null,null,null,{"$f":"E3","v":""},null,null,null,null,"Defined Program Parameters"]
[null,null,null,null,null,null,null,null,null,"Core Enforcement Hours:  17:00 - 04:00"]
[null,null,null,null,{"$f":"MID(CELL(\"filename\",B50),FIND(\"]\",CELL(\"filename\",B50))+1,255)","v":"MUNICIPAL PD"},null,"PAGE 2 OF 3",null,null,"NO SHIFT TO EXCEED 8 HOURS"]
[null,null,null,null,null,null,null,null,null,"64 Hours per Checkpoint Maximum"]
[]
["IN-TOWN CHECKPOINTS: You must indicate the actual number of in-town checkpoints planned."]
[]
["HOLIDAY IN-TOWN CHECKPOINTS (DATES IN BLUE ON ELIGIBLE DATES CALENDAR)"]
["(maximum allowed:  8 hours per shift, 64 hours per checkpoint)"]
[null,null,null,null,null,null,null,null,null,"START",null,"END",null,null,"HOLIDAY"]
[null,null,"Number of Checkpoints","Number of Shifts per Checkpoint","Hours per Checkpoint Shift","Overtime Hourly Rate",null,null,null,"1st Billing Period",null,"1st Billing Period "]
[null,null,null,null,null,null,"Total",null,null,"2019-10-03",null,"2020-01-01",null,null,"TCNY","11/21-12/01"]
["TCNY",null,null,null,null,null,{"$f":"+C64*+D64*E64*F64","v":0},null,null,null,null,null,null,null,null,"12/5-12/7"]
["MD",null,null,null,null,null,{"$f":"+C65*+D65*E65*F65","v":0},null,null,"START",null,"END",null,null,null,"12/12-1/1"]
["J4",null,null,null,null,null,{"$f":"+C66*+D66*E66*F66","v":0},null,null,"2nd Billing Period ",null,"2nd Billing Period",null,null,"MD","5/21-5/25"]
["LABOR",null,null,null,null,null,{"$f":"+C67*+D67*E67*F67","v":0},null,null,"2020-01-02",null,"2020-04-04",null,null,"J4","7/1-7/5"]
[null,null,{"$f":"SUM(C64:C67)","v":0},"Holiday In-Town Checkpoint Total",null,null,null,{"$f":"SUM(G64:G67)","v":0},null,null,null,null,null,null,"LABOR","8/20-9/7"]
[null,null,null,null,null,null,null,null,null,"START",null,"END"]
["NON-HOLIDAY IN-TOWN CHECKPOINTS (DATES IN ORANGE ON ELIGIBLE DATES CALENDAR)",null,null,null,null,null,null,null,null,"3rd Billing Period ",null,"3rd Billing Period "]
["(maximum allowed:  8 hours per shift, 64 hours per checkpoint)",null,null,null,null,null,null,null,null,"2020-04-09",null,"2020-07-05"]
[]
[null,null,"Number of Checkpoints","Number of Shifts per Checkpoint","Hours per Checkpoint Shift","Overtime Hourly Rate",null,null,null,"START",null,"END"]
[null,null,null,null,null,null,"Total",null,null,"4th Billing Period ",null,"4th Billing Period "]
["Non-Holiday 1",null,null,null,null,null,{"$f":"+C75*+D75*E75*F75","v":0},null,null,"2020-07-09",null,"2020-09-12"]
["Non-Holiday 2",null,null,null,null,null,{"$f":"+C76*+D76*E76*F76","v":0}]
["Non-Holiday 3",null,null,null,null,null,{"$f":"+C77*+D77*E77*F77","v":0}]
["Non-Holiday 4",null,null,null,null,null,{"$f":"+C78*+D78*E78*F78","v":0}]
[null,null,{"$f":"SUM(C75:C78)","v":0},null,null,"Non-Holiday In-Town Checkpoint Total",null,{"$f":"SUM(G75:G78)","v":0}]
["Chkpt Total",null,{"$f":"SUM(C68,C79)","v":0}]
["LIST ALL PLANNED IN-TOWN CHECKPOINT DATES.  INCLUDE BOTH HOLIDAY/NON-HOLIDAY DATES."]
[]
[]
[]
[]
[]
[]
[]
[]
[]
[]
[]
[]
[]
[null,null,null,"Chkpt Total must equal Total No. of Dates",null,null,null,{"$f":"SUM(IF(FREQUENCY(A82:G94,A82:G94)>0,1))","v":0}]
[null,null,null,"Checkpoint Total Verification",null,null,null,{"$f":"EXACT(C80,H95)","v":true},null,"Checkpoint Total Verification must equal TRUE"]
["ALL IN-TOWN CHECKPOINT ACTIVITIES MUST BE CONDUCTED ON THE DATES LISTED ON THIS PAGE.  ANY CHANGES TO CHECKPOINT DATES MUST BE APPROVED BY THE HIGHWAY SAFETY OFFICE PRIOR TO RESCHEDULING ANY CHECKPOINT ACTIVITY.  CHECKPOINT ACTIVITY HOURS MAY NOT EXCEED 64 HOURS PER CHECKPOINT."]
[]
[]
[]
[]
["PROJECT TITLE",null,null,null,"   APPLICANT",null,null,null,null,"PROJECT COST WORKSHEET"]
[null,null,null,null,null,null,null,null,null,"FOR OUT-OF-TOWN CHECKPOINTS"]
[{"$f":"APPLICATION!$A$15","v":"FY 2020 Comprehensive DUI Enforcement Program for Resident Trooper Towns"},null,null,null,{"$f":"E52","v":""},null,null,null,null,"Defined Program Parameters"]
[null,null,null,null,null,null,null,null,null,"Core Enforcement Hours:  17:00 - 04:00"]
[null,null,null,null,{"$f":"$E$5","v":"MUNICIPAL PD"},null,"PAGE 3 OF 3",null,null,"NO SHIFT TO EXCEED 8 HOURS"]
[null,null,null,null,null,null,null,null,null,"64 Hours per Checkpoint Maximum"]
[]
["OUT-OF-TOWN CHECKPOINTS: You must indicate the actual number of out-of-town checkpoints planned."]
[]
["HOLIDAY OUT-OF-TOWN CHECKPOINTS (DATES IN BLUE ON ELIGIBLE DATES CALENDAR)"]
["(maximum allowed:  8 hours per shift, 64 hours per checkpoint)",null,null,null,null,null,null,null,null,"START",null,"END",null,null,"HOLIDAY"]
[null,null,null,null,null,null,null,null,null,"1st Billing Period",null,"1st Billing Period "]
[null,null,"Number of Checkpoints","Number of Shifts per Checkpoint","Hours per Checkpoint Shift","Overtime Hourly Rate",null,null,null,"2019-10-03",null,"2020-01-01",null,null,"TCNY","11/21-12/01"]
[null,null,null,null,null,null,"Total",null,null,null,null,null,null,null,null,"12/5-12/7"]
["TCNY",null,null,null,null,null,{"$f":"+C116*+D116*E116*F116","v":0},null,null,"START",null,"END",null,null,null,"12/12-1/1"]
["MD",null,null,null,null,null,{"$f":"+C117*+D117*E117*F117","v":0},null,null,"2nd Billing Period ",null,"2nd Billing Period",null,null,"MD","5/21-5/25"]
["J4",null,null,null,null,null,{"$f":"+C118*+D118*E118*F118","v":0},null,null,"2020-01-02",null,"2020-04-04",null,null,"J4","7/1-7/5"]
["LABOR",null,null,null,null,null,{"$f":"+C119*+D119*E119*F119","v":0},null,null,null,null,null,null,null,"LABOR","8/20-9/7"]
[null,null,{"$f":"SUM(C116:C119)","v":0},"Holiday Out-of-Town Checkpoint Total",null,null,null,{"$f":"SUM(G116:G119)","v":0},null,"START",null,"END"]
[null,null,null,null,null,null,null,null,null,"3rd Billing Period ",null,"3rd Billing Period "]
["NON-HOLIDAY OUT-OF-TOWN CHECKPOINTS (DATES IN ORANGE ON ELIGIBLE DATES CALENDAR)",null,null,null,null,null,null,null,null,"2020-04-09",null,"2020-07-05"]
["(maximum allowed:  8 hours per shift, 64 hours per checkpoint)"]
[null,null,null,null,null,null,null,null,null,"START",null,"END"]
[null,null,"Number of Checkpoints","Number of Shifts per Checkpoint","Hours per Checkpoint Shift","Overtime Hourly Rate",null,null,null,"4th Billing Period ",null,"4th Billing Period "]
[null,null,null,null,null,null,"Total",null,null,"2020-07-09",null,"2020-09-12"]
["Non-Holiday 1",null,null,null,null,null,{"$f":"+C127*+D127*E127*F127","v":0}]
["Non-Holiday 2",null,null,null,null,null,{"$f":"+C128*+D128*E128*F128","v":0}]
["Non-Holiday 3",null,null,null,null,null,{"$f":"+C129*+D129*E129*F129","v":0}]
["Non-Holiday 4",null,null,null,null,null,{"$f":"+C130*+D130*E130*F130","v":0}]
[null,null,{"$f":"SUM(C127:C130)","v":0},null,null,"Non-Holiday Out-of-Town Checkpoint Total",null,{"$f":"SUM(G127:G130)","v":0}]
[null,null,{"$f":"SUM(C120,C131)","v":0}]
[null,null,null,null,null,null,"Grand Total"]
[]
[]
[]
["ALL OUT-OF-TOWN CHECKPOINT ACTIVITIES MUST BE CONDUCTED ON THE DATES LISTED ON THE HOST TOWN'S \"IN-TOWN CHKPTS\" PAGE OR APPROVED BY THE HIGHWAY SAFETY OFFICE.  CHECKPOINT ACTIVITY HOURS MAY NOT EXCEED 64 HOURS PER CHECKPOINT."]
[]
[]
[]
[]
[]
[]
[]
[]
[]
[null,null,null,null,"OVERALL TOTAL:",null,{"$f":"H19+H30+H68+H79+H120+H131","v":0}]

{"sheet":"RESIDENT TROOPER","index":15,"n_rows":155,"n_cols":16,"rows_kept":155,"cut":false,"hidden":false,"merged":[[127,11,127,12],[128,9,129,10],[128,11,129,12],[118,14,118,15],[120,9,121,10],[120,11,121,12],[122,9,122,10],[122,11,122,12],[118,9,118,10],[118,11,118,12],[119,9,119,10],[119,11,119,12],[106,9,106,12],[107,9,107,12],[108,0,111,3],[108,4,109,7],[108,9,108,12],[109,9,109,12],[110,9,110,12],[111,9,111,12],[110,4,111,5],[110,6,111,7],[64,14,64,15],[66,9,67,10],[66,11,67,12],[68,9,68,10],[68,11,68,12],[173,9,174,10],[173,11,174,12],[187,0,189,7],[58,9,58,12],[64,9,64,10],[64,11,64,12],[70,9,71,10],[70,11,71,12],[72,9,72,10],[72,11,72,12],[74,9,75,10],[74,11,75,12],[76,9,76,10],[76,11,76,12],[78,9,79,10],[78,11,79,12],[169,9,170,10],[169,11,170,12],[171,9,171,10],[171,11,171,12],[172,9,172,10],[172,11,172,12],[167,3,167,6],[167,9,167,10],[167,11,167,12],[168,9,168,10],[168,11,168,12],[163,9,163,10],[163,11,163,12],[164,9,164,10],[164,11,164,12],[165,9,166,10],[165,11,166,12],[159,9,159,10],[159,11,159,12],[160,9,160,10],[160,11,160,12],[161,9,162,10],[161,11,162,12],[101,0,103,7],[99,3,99,6],[100,3,100,6],[154,4,154,5],[148,0,151,7],[123,9,123,10],[123,11,123,12],[124,9,125,10],[124,11,125,12],[130,9,130,10],[130,11,130,12],[131,9,131,10],[131,11,131,12],[132,9,133,10],[132,11,133,12],[126,9,126,10],[126,11,126,12],[127,9,127,10],[53,9,53,12],[54,9,54,12],[55,4,56,7],[55,9,55,12],[56,9,56,12],[57,9,57,12],[77,9,77,10],[77,11,77,12],[73,9,73,10],[73,11,73,12],[69,9,69,10],[69,11,69,12],[65,9,65,10],[65,11,65,12],[60,0,60,7],[55,0,58,3],[64,2,65,2],[64,3,65,3],[64,4,65,4],[64,5,65,5],[57,4,58,5],[57,6,58,7],[26,9,27,10],[26,11,27,12],[45,0,45,7],[46,0,46,7],[21,9,21,10],[21,11,21,12],[22,9,23,10],[22,11,23,12],[25,9,25,10],[25,11,25,12],[40,0,44,7],[12,14,12,15],[13,9,13,10],[13,11,13,12],[14,9,15,10],[14,11,15,12],[24,9,24,10],[24,11,24,12],[20,9,20,10],[20,11,20,12],[12,11,12,12],[12,9,12,10],[16,9,16,10],[16,11,16,12],[17,9,17,10],[17,11,17,12],[18,9,19,10],[18,11,19,12],[7,0,7,7],[0,9,0,12],[1,9,1,12],[2,9,2,12],[3,9,3,12],[4,9,4,12],[0,0,1,3],[0,4,1,7],[2,0,5,3],[2,4,3,7],[5,9,5,12],[4,4,5,5],[4,6,5,7],[12,2,13,2],[12,3,13,3],[12,4,13,4],[12,5,13,5],[26,2,27,2],[26,3,27,3],[26,4,27,4],[26,5,27,5],[53,0,54,3],[53,4,54,7],[132,2,133,2],[132,3,133,3],[132,4,133,4],[132,5,133,5],[113,0,113,7],[78,2,79,2],[78,3,79,3],[78,4,79,4],[78,5,79,5],[118,2,119,2],[118,3,119,3],[118,4,119,4],[118,5,119,5],[106,0,107,3],[106,4,107,7]]}
["PROJECT TITLE",null,null,null,"   APPLICANT",null,null,null,null,"PROJECT COST WORKSHEET"]
[null,null,null,null,null,null,null,null,null,"FOR ROVING PATROLS"]
[{"$f":"APPLICATION!$A$15","v":"FY 2020 Comprehensive DUI Enforcement Program for Resident Trooper Towns"},null,null,null,{"$f":"IF(APPLICATION!A21=\"\",\"\",APPLICATION!A21)","v":""},null,null,null,null,"Defined Program Parameters"]
[null,null,null,null,null,null,null,null,null,"Core Enforcement Hours:  17:00 - 04:00"]
[null,null,null,null,{"$f":"MID(CELL(\"filename\",B1),FIND(\"]\",CELL(\"filename\",B1))+1,255)","v":"RESIDENT TROOPER"},null,"PAGE 1 OF 3",null,null,"NO SHIFT TO EXCEED 8 HOURS"]
[null,null,null,null,null,null,null,null,null,"8 Hours per Day Maximum"]
[]
["ROVING PATROLS: You must indicate the actual number of roving patrols planned."]
[]
["HOLIDAY ROVING PATROLS (DATES IN BLUE ON ELIGIBLE DATES CALENDAR)"]
["(maximum allowed:  8 hours per shift, 8 hours per day)"]
[]
[null,null,"Number of Patrol Days","Number of Shifts per Day","Hours per Shift","Overtime Hourly Rate",null,null,null,"START",null,"END",null,null,"HOLIDAY"]
[null,null,null,null,null,null,"Total",null,null,"1st Billing Period",null,"1st Billing Period "]
["Resident Trooper","TCNY",null,null,null,null,{"$f":"C15*E15*F15","v":0},null,null,"2019-10-03",null,"2020-01-01",null,null,"TCNY","11/21-12/01"]
["Officer/Constable","TCNY",null,null,null,null,{"$f":"C16*D16*E16*F16","v":0},null,null,null,null,null,null,null,null,"12/5-12/7"]
["Resident Trooper","MD",null,null,null,null,0,null,null,"START",null,"END",null,null,null,"12/12-1/1"]
["Officer/Constable","MD",null,null,null,null,0,null,null,"2nd Billing Period ",null,"2nd Billing Period",null,null,"MD","5/21-5/25"]
["Resident Trooper","J4",null,null,null,null,0,null,null,"2020-01-02",null,"2020-04-04",null,null,"J4","7/1-7/5"]
["Officer/Constable","J4",null,null,null,null,0,null,null,null,null,null,null,null,"LABOR","8/20-9/7"]
["Resident Trooper","LABOR",null,null,null,null,0,null,null,"START",null,"END"]
["Officer/Constable","LABOR",null,null,null,null,0,null,null,"3rd Billing Period ",null,"3rd Billing Period "]
[null,null,null,null,null,"Holiday Roving Patrol Total",null,{"$f":"SUM(G15:G22)","v":0},null,"2020-04-09",null,"2020-07-05"]
[]
["NON-HOLIDAY ROVING PATROLS (DATES IN ORANGE ON ELIGIBLE DATES CALENDAR)",null,null,null,null,null,null,null,null,"START",null,"END"]
["(maximum allowed:  8 hours per shift, 8 hours per day)",null,null,null,null,null,null,null,null,"4th Billing Period ",null,"4th Billing Period "]
[null,null,"Number of Patrol Days","Shifts per Day","Hours per Shift","Overtime Hourly Rate",null,null,null,"2020-07-09",null,"2020-09-12"]
[null,null,null,null,null,null,"Total"]
["Resident Trooper","Non-Hol 1",null,null,null,null,{"$f":"+C29*+D29*E29*F29","v":0}]
["Officer/Constable","Non-Hol 1",null,null,null,null,0]
["Resident Trooper","Non-Hol 2",null,null,null,null,0]
["Officer/Constable","Non-Hol 2",null,null,null,null,0]
["Resident Trooper","Non-Hol 3",null,null,null,null,0]
["Officer/Constable","Non-Hol 3",null,null,null,null,0]
["Resident Trooper","Non-Hol 4",null,null,null,null,0]
["Officer/Constable","Non-Hol 4",null,null,null,null,0]
[null,null,null,null,null,"Non-Holiday Roving Patrol Total",null,{"$f":"SUM(G29:G36)","v":0}]
[]
[]
[]
["ALL ROVING PATROL MUST BE CONDUCTED ON THE ELIGIBLE DATES SHOWN ON THE \"ELIGIBLE DATES\".  ROVING PATROL CONDUCTED ON OTHER DATES ARE NOT REIMBURSABLE.  ANY ROVING PATROL ACTIVITY NOT CONDUCTED DURING THE PERIOD PLANNED MAY BE CONDUCTED ON ANY OTHER ELIGIBLE DATE NOT TO EXCEED 8 HOURS PER DAY."]
[]
[]
[]
[]
[]
[]
[]
[]
[]
[]
[]
[]
["PROJECT TITLE",null,null,null,"   APPLICANT",null,null,null,null,"PROJECT COST WORKSHEET"]
[null,null,null,null,null,null,null,null,null,"FOR IN-TOWN CHECKPOINTS"]
[{"$f":"APPLICATION!$A$15","v":"FY 2020 Comprehensive DUI Enforcement Program for Resident Trooper Towns"},null,null,null,{"$f":"E3","v":""},null,null,null,null,"Defined Program Parameters"]
[null,null,null,null,null,null,null,null,null,"Core Enforcement Hours:  17:00 - 04:00"]
[null,null,null,null,{"$f":"$E$5","v":"RESIDENT TROOPER"},null,"PAGE 2 OF 3",null,null,"NO SHIFT TO EXCEED 8 HOURS"]
[null,null,null,null,null,null,null,null,null,"64 Hours per Checkpoint Maximum"]
[]
["IN-TOWN CHECKPOINTS: You must indicate the actual number of in-town checkpoints planned."]
[]
["HOLIDAY IN-TOWN CHECKPOINTS (DATES IN BLUE ON ELIGIBLE DATES CALENDAR)"]
["(maximum allowed:  8 hours per shift, 64 hours per checkpoint)"]
[null,null,"Number of Checkpoints","Number of Shifts per Checkpoint","Hours per Checkpoint Shift","Overtime Hourly Rate",null,null,null,"START",null,"END",null,null,"HOLIDAY"]
[null,null,null,null,null,null,"Total",null,null,"1st Billing Period",null,"1st Billing Period "]
["Resident Trooper","TCNY",null,null,null,null,{"$f":"+C67*+D67*E67*F67","v":0},null,null,"2019-10-03",null,"2020-01-01",null,null,"TCNY","11/21-12/01"]
["Officer/Constable","TCNY",null,null,null,null,{"$f":"+C68*+D68*E68*F68","v":0},null,null,null,null,null,null,null,null,"12/5-12/7"]
["Resident Trooper","MD",null,null,null,null,0,null,null,"START",null,"END",null,null,null,"12/12-1/1"]
["Officer/Constable","MD",null,null,null,null,0,null,null,"2nd Billing Period ",null,"2nd Billing Period",null,null,"MD","5/21-5/25"]
["Resident Trooper","J4",null,null,null,null,0,null,null,"2020-01-02",null,"2020-04-04",null,null,"J4","7/1-7/5"]
["Officer/Constable","J4",null,null,null,null,0,null,null,null,null,null,null,null,"LABOR","8/20-9/7"]
["Resident Trooper","LABOR",null,null,null,null,0,null,null,"START",null,"END"]
["Officer/Constable","LABOR",null,null,null,null,0,null,null,"3rd Billing Period ",null,"3rd Billing Period "]
[null,null,{"$f":"SUM(C67:C74)","v":0},null,null,"Holiday In-Town Checkpoint Total",null,{"$f":"SUM(G67:G74)","v":0},null,"2020-04-09",null,"2020-07-05"]
[]
["NON-HOLIDAY IN-TOWN CHECKPOINTS (DATES IN ORANGE ON ELIGIBLE DATES CALENDAR)",null,null,null,null,null,null,null,null,"START",null,"END"]
["(maximum allowed:  8 hours per shift, 64 hours per checkpoint)",null,null,null,null,null,null,null,null,"4th Billing Period ",null,"4th Billing Period "]
[null,null,"Number of Checkpoints","Number of Shifts per Checkpoint","Hours per Checkpoint Shift","Overtime Hourly Rate",null,null,null,"2020-07-09",null,"2020-09-12"]
[null,null,null,null,null,null,"Total"]
["Resident Trooper","Non-Hol 1",null,null,null,null,{"$f":"+C81*+D81*E81*F81","v":0}]
["Officer/Constable","Non-Hol 1",null,null,null,null,0]
["Resident Trooper","Non-Hol 2",null,null,null,null,0]
["Officer/Constable","Non-Hol 2",null,null,null,null,0]
["Resident Trooper","Non-Hol 3",null,null,null,null,0]
["Officer/Constable","Non-Hol 3",null,null,null,null,0]
["Resident Trooper","Non-Hol 4",null,null,null,null,0]
["Officer/Constable","Non-Hol 4",null,null,null,null,0]
[null,null,{"$f":"SUM(C81:C88)","v":0},null,null,"Non-Holiday In-Town Checkpoint Total",null,{"$f":"SUM(G81:G88)","v":0}]
["Chkpt Total",null,{"$f":"SUM(C75,C89)","v":0}]
["LIST ALL PLANNED IN-TOWN CHECKPOINT DATES.  INCLUDE BOTH HOLIDAY/NON-HOLIDAY DATES."]
[]
[]
[]
[]
[]
[]
[]
[]
[null,null,null,"Total No. of Chkpts must equal Total No. of Dates",null,null,null,{"$f":"SUM(IF(FREQUENCY(A92:G99,A92:G99)>0,1))","v":0}]
[null,null,null,"Checkpoint Total Verification",null,null,null,{"$f":"EXACT(C90,H100)","v":true},null,"Checkpoint Total Verification must equal TRUE"]
["ALL IN-TOWN CHECKPOINT ACTIVITIES MUST BE CONDUCTED ON THE DATES LISTED ON THIS PAGE.  ANY CHANGES TO CHECKPOINT DATES MUST BE APPROVED BY THE HIGHWAY SAFETY OFFICE PRIOR TO RESCHEDULING ANY CHECKPOINT ACTIVITY.  CHECKPOINT ACTIVITY HOURS MAY NOT EXCEED 64 HOURS PER CHECKPOINT."]
[]
[]
[]
[]
["PROJECT TITLE",null,null,null,"   APPLICANT",null,null,null,null,"PROJECT COST WORKSHEET"]
[null,null,null,null,null,null,null,null,null,"FOR OUT-OF-TOWN CHECKPOINTS"]
[{"$f":"APPLICATION!$A$15","v":"FY 2020 Comprehensive DUI Enforcement Program for Resident Trooper Towns"},null,null,null,{"$f":"E3","v":""},null,null,null,null,"Defined Program Parameters"]
[null,null,null,null,null,null,null,null,null,"Core Enforcement Hours:  17:00 - 04:00"]
[null,null,null,null,{"$f":"$E$5","v":"RESIDENT TROOPER"},null,"PAGE 3 OF 3",null,null,"NO SHIFT TO EXCEED 8 HOURS"]
[null,null,null,null,null,null,null,null,null,"64 Hours per Checkpoint Maximum"]
[]
["OUT-OF-TOWN CHECKPOINTS: You must indicate the actual number of out-of-town checkpoints planned."]
[]
["HOLIDAY OUT-OF-TOWN CHECKPOINTS (DATES IN BLUE ON ELIGIBLE DATES CALENDAR)"]
["(maximum allowed:  8 hours per shift, 64 hours per checkpoint)"]
[]
[null,null,"Number of Checkpoints","Number of Shifts per Checkpoint","Hours per Checkpoint Shift","Overtime Hourly Rate",null,null,null,"START",null,"END",null,null,"HOLIDAY"]
[null,null,null,null,null,null,"Total",null,null,"1st Billing Period",null,"1st Billing Period "]
["Resident Trooper","TCNY",null,null,null,null,{"$f":"+C121*+D121*E121*F121","v":0},null,null,"2019-10-03",null,"2020-01-01",null,null,"TCNY","11/21-12/01"]
["Officer/Constable","TCNY",null,null,null,null,{"$f":"+C122*+D122*E122*F122","v":0},null,null,null,null,null,null,null,null,"12/5-12/7"]
["Resident Trooper","MD",null,null,null,null,0,null,null,"START",null,"END",null,null,null,"12/12-1/1"]
["Officer/Constable","MD",null,null,null,null,0,null,null,"2nd Billing Period ",null,"2nd Billing Period",null,null,"MD","5/21-5/25"]
["Resident Trooper","J4",null,null,null,null,0,null,null,"2020-01-02",null,"2020-04-04",null,null,"J4","7/1-7/5"]
["Officer/Constable","J4",null,null,null,null,0,null,null,null,null,null,null,null,"LABOR","8/20-9/7"]
["Resident Trooper","LABOR",null,null,null,null,0,null,null,"START",null,"END"]
["Officer/Constable","LABOR",null,null,null,null,0,null,null,"3rd Billing Period ",null,"3rd Billing Period "]
[null,null,{"$f":"SUM(C121:C128)","v":0},null,null,"Holiday Out-of-Town Checkpoint Total",null,{"$f":"SUM(G121:G128)","v":0},null,"2020-04-09",null,"2020-07-05"]
[]
["NON-HOLIDAY OUT-OF-TOWN CHECKPOINTS (DATES IN ORANGE ON ELIGIBLE DATES CALENDAR)",null,null,null,null,null,null,null,null,"START",null,"END"]
["(maximum allowed:  8 hours per shift, 64 hours per checkpoint)",null,null,null,null,null,null,null,null,"4th Billing Period ",null,"4th Billing Period "]
[null,null,"Number of Checkpoints","Shifts per Checkpoint","Hours per Checkpoint Shift","Overtime Hourly Rate",null,null,null,"2020-07-09",null,"2020-09-12"]
[null,null,null,null,null,null,"Total"]
["Resident Trooper","Non-Hol 1",null,null,null,null,{"$f":"+C135*+D135*E135*F135","v":0}]
["Officer/Constable","Non-Hol 1",null,null,null,null,0]
["Resident Trooper","Non-Hol 2",null,null,null,null,0]
["Officer/Constable","Non-Hol 2",null,null,null,null,0]
["Resident Trooper","Non-Hol 3",null,null,null,null,0]
["Officer/Constable","Non-Hol 3",null,null,null,null,0]
["Resident Trooper","Non-Hol 4",null,null,null,null,0]
["Officer/Constable","Non-Hol 4",null,null,null,null,0]
[null,null,{"$f":"SUM(C135:C142)","v":0},null,null,"Non-Holiday Out-of-Town Checkpoint Total",null,{"$f":"SUM(G135:G142)","v":0}]
[null,null,{"$f":"SUM(C129,C143)","v":0}]
[null,null,null,null,null,null,"Grand Total"]
[]
[]
[]
["ALL OUT-OF-TOWN CHECKPOINT ACTIVITIES MUST BE CONDUCTED ON THE DATES LISTED ON THE HOST TOWN'S \"IN-TOWN CHKPTS\" PAGE OR APPROVED BY THE HIGHWAY SAFETY OFFICE.  CHECKPOINT ACTIVITY HOURS MAY NOT EXCEED 64 HOURS PER CHECKPOINT."]
[]
[]
[]
[]
[]
[null,null,null,null,"OVERALL TOTAL:",null,{"$f":"H23+H37+H75+H89+H129+H143","v":0}]

{"sheet":"STATE POLICE","index":16,"n_rows":100,"n_cols":16,"rows_kept":100,"cut":false,"hidden":true,"merged":[[15,9,15,10],[15,11,15,12],[16,9,16,10],[16,11,16,12],[0,0,1,3],[0,4,1,7],[0,9,0,12],[1,9,1,12],[2,0,5,3],[2,4,3,7],[2,9,2,12],[3,9,3,12],[4,4,5,5],[4,6,5,7],[4,9,4,12],[5,9,5,12],[7,0,7,7],[11,9,11,10],[11,14,11,15],[12,2,13,2],[12,3,13,3],[12,4,13,4],[12,5,13,5],[12,9,12,10],[12,11,12,12],[13,9,14,10],[13,11,14,12],[11,11,11,12],[17,9,18,10],[17,11,18,12],[19,9,19,10],[19,11,19,12],[20,9,20,10],[20,11,20,12],[21,9,22,10],[21,11,22,12],[23,2,24,2],[23,3,24,3],[23,4,24,4],[23,5,24,5],[23,9,23,10],[23,11,23,12],[24,9,24,10],[24,11,24,12],[25,9,26,10],[25,11,26,12],[33,0,36,7],[38,0,38,7],[39,0,39,7],[50,9,50,12],[49,9,49,12],[49,4,50,7],[49,0,50,3],[56,0,56,7],[51,0,54,3],[51,4,52,7],[51,9,51,12],[52,9,52,12],[53,4,54,5],[53,6,54,7],[53,9,53,12],[54,9,54,12],[60,9,60,10],[60,11,60,12],[60,14,60,15],[61,2,62,2],[61,3,62,3],[61,4,62,4],[61,5,62,5],[61,9,61,10],[61,11,61,12],[62,9,63,10],[62,11,63,12],[64,9,64,10],[64,11,64,12],[65,9,65,10],[65,11,65,12],[66,9,67,10],[66,11,67,12],[68,9,68,10],[68,11,68,12],[69,9,69,10],[69,11,69,12],[70,9,71,10],[70,11,71,12],[92,3,92,6],[95,0,97,7],[93,4,93,6],[99,4,99,5],[72,11,72,12],[73,9,73,10],[73,11,73,12],[74,9,75,10],[74,11,75,12],[72,2,73,2],[72,3,73,3],[72,4,73,4],[72,5,73,5],[72,9,72,10]]}
["PROJECT TITLE",null,null,null,"   APPLICANT",null,null,null,null,"PROJECT COST WORKSHEET"]
[null,null,null,null,null,null,null,null,null,"FOR ROVING PATROLS"]
[{"$f":"APPLICATION!$A$15","v":"FY 2020 Comprehensive DUI Enforcement Program for Resident Trooper Towns"},null,null,null,{"$f":"IF(APPLICATION!A21=\"\",\"\",APPLICATION!A21)","v":""},null,null,null,null,"Defined Program Parameters"]
[null,null,null,null,null,null,null,null,null,"Core Enforcement Hours:  17:00 - 04:00"]
[null,null,null,null,{"$f":"MID(CELL(\"filename\",B1),FIND(\"]\",CELL(\"filename\",B1))+1,255)","v":"STATE POLICE"},null,"PAGE 1 OF 2",null,null,"NO SHIFT TO EXCEED 8 HOURS"]
[]
[]
["ROVING PATROLS: You must indicate the actual number of roving patrols planned."]
[]
["HOLIDAY ROVING PATROLS (DATES IN BLUE ON ELIGIBLE DATES CALENDAR)"]
[]
[null,null,null,null,null,null,null,null,null,"START",null,"END",null,null,"HOLIDAY"]
[null,null,"Number of Patrol Days","Number of Shifts per Day","Hours per Shift","Overtime Hourly Rate",null,null,null,"1st Billing Period",null,"1st Billing Period "]
[null,null,null,null,null,null,"Total",null,null,"2019-10-03",null,"2020-01-01",null,null,"TCNY","11/21-12/01"]
["TCNY",null,null,null,null,null,{"$f":"+E15*+D15*C15*F15","v":0},null,null,null,null,null,null,null,null,"12/5-12/7"]
["MD",null,null,null,null,null,{"$f":"+E16*+D16*C16*F16","v":0},null,null,"START",null,"END",null,null,null,"12/12-1/1"]
["J4",null,null,null,null,null,{"$f":"+E17*+D17*C17*F17","v":0},null,null,"2nd Billing Period ",null,"2nd Billing Period",null,null,"MD","5/21-5/25"]
["LABOR",null,null,null,null,null,{"$f":"+E18*+D18*C18*F18","v":0},null,null,"2020-01-02",null,"2020-04-04",null,null,"J4","7/1-7/5"]
[null,null,null,null,null,"Holiday Roving Patrol Total",null,{"$f":"SUM(G15:G18)","v":0},null,null,null,null,null,null,"LABOR","8/20-9/7"]
[null,null,null,null,null,null,null,null,null,"START",null,"END"]
["NON-HOLIDAY ROVING PATROLS (DATES IN ORANGE ON ELIGIBLE DATES CALENDAR)",null,null,null,null,null,null,null,null,"3rd Billing Period ",null,"3rd Billing Period "]
[null,null,null,null,null,null,null,null,null,"2020-04-09",null,"2020-07-05"]
[]
[null,null,"Number of Patrol Days","Shifts per Day","Hours per Shift","Overtime Hourly Rate",null,null,null,"START",null,"END"]
[null,null,null,null,null,null,"Total",null,null,"4th Billing Period ",null,"4th Billing Period "]
["Non-Holiday 1",null,null,null,null,null,{"$f":"+E26*+D26*C26*F26","v":0},null,null,"2020-07-09",null,"2020-09-12"]
["Non-Holiday 2",null,null,null,null,null,{"$f":"+E27*+D27*C27*F27","v":0}]
["Non-Holiday 3",null,null,null,null,null,{"$f":"+E28*+D28*C28*F28","v":0}]
["Non-Holiday 4",null,null,null,null,null,{"$f":"+E29*+D29*C29*F29","v":0}]
[null,null,null,null,null,"Non-Holiday Roving Patrol Total",null,{"$f":"SUM(G26:G29)","v":0}]
[]
[]
[]
["ALL ROVING PATROL MUST BE CONDUCTED ON THE ELIGIBLE DATES SHOWN ON THE \"ELIGIBLE DATES\".  ROVING PATROL CONDUCTED ON OTHER DATES ARE NOT REIMBURSABLE.  ANY ROVING PATROL ACTIVITY NOT CONDUCTED DURING THE PERIOD PLANNED MAY BE CONDUCTED ON ANY OTHER ELIGIBLE DATE."]
[]
[]
[]
[]
[]
[]
[]
[]
[]
[]
[]
[]
[]
[]
[]
["PROJECT TITLE",null,null,null,"   APPLICANT",null,null,null,null,"PROJECT COST WORKSHEET"]
[null,null,null,null,null,null,null,null,null,"FOR CHECKPOINTS"]
[{"$f":"APPLICATION!$A$15","v":"FY 2020 Comprehensive DUI Enforcement Program for Resident Trooper Towns"},null,null,null,{"$f":"E3","v":""},null,null,null,null,"Defined Program Parameters"]
[null,null,null,null,null,null,null,null,null,"Core Enforcement Hours:  17:00 - 04:00"]
[null,null,null,null,{"$f":"MID(CELL(\"filename\",B50),FIND(\"]\",CELL(\"filename\",B50))+1,255)","v":"STATE POLICE"},null,"PAGE 2 OF 2",null,null,"NO SHIFT TO EXCEED 8 HOURS"]
[null,null,null,null,null,null,null,null,null,"64 Hours per Checkpoint Maximum"]
[]
["CHECKPOINTS: You must indicate the actual number of checkpoints planned."]
[]
["HOLIDAY CHECKPOINTS (DATES IN BLUE ON ELIGIBLE DATES CALENDAR)"]
["(maximum allowed:  8 hours per shift, 64 hours per checkpoint)"]
[null,null,null,null,null,null,null,null,null,"START",null,"END",null,null,"HOLIDAY"]
[null,null,"Number of Checkpoints","Number of Shifts per Checkpoint","Hours per Checkpoint Shift","Overtime Hourly Rate",null,null,null,"1st Billing Period",null,"1st Billing Period "]
[null,null,null,null,null,null,"Total",null,null,"2019-10-03",null,"2020-01-01",null,null,"TCNY","11/21-12/01"]
["TCNY",null,null,null,null,null,{"$f":"+C64*+D64*E64*F64","v":0},null,null,null,null,null,null,null,null,"12/5-12/7"]
["MD",null,null,null,null,null,{"$f":"+C65*+D65*E65*F65","v":0},null,null,"START",null,"END",null,null,null,"12/12-1/1"]
["J4",null,null,null,null,null,{"$f":"+C66*+D66*E66*F66","v":0},null,null,"2nd Billing Period ",null,"2nd Billing Period",null,null,"MD","5/21-5/25"]
["LABOR",null,null,null,null,null,{"$f":"+C67*+D67*E67*F67","v":0},null,null,"2020-01-02",null,"2020-04-04",null,null,"J4","7/1-7/5"]
[null,null,{"$f":"SUM(C64:C67)","v":0},"Holiday Checkpoint Total",null,null,null,{"$f":"SUM(G64:G67)","v":0},null,null,null,null,null,null,"LABOR","8/20-9/7"]
[null,null,null,null,null,null,null,null,null,"START",null,"END"]
["NON-HOLIDAY CHECKPOINTS (DATES IN ORANGE ON ELIGIBLE DATES CALENDAR)",null,null,null,null,null,null,null,null,"3rd Billing Period ",null,"3rd Billing Period "]
["(maximum allowed:  8 hours per shift, 64 hours per checkpoint)",null,null,null,null,null,null,null,null,"2020-04-09",null,"2020-07-05"]
[]
[null,null,"Number of Checkpoints","Number of Shifts per Checkpoint","Hours per Checkpoint Shift","Overtime Hourly Rate",null,null,null,"START",null,"END"]
[null,null,null,null,null,null,"Total",null,null,"4th Billing Period ",null,"4th Billing Period "]
["Non-Holiday 1",null,null,null,null,null,{"$f":"+C75*+D75*E75*F75","v":0},null,null,"2020-07-09",null,"2020-09-12"]
["Non-Holiday 2",null,null,null,null,null,{"$f":"+C76*+D76*E76*F76","v":0}]
["Non-Holiday 3",null,null,null,null,null,{"$f":"+C77*+D77*E77*F77","v":0}]
["Non-Holiday 4",null,null,null,null,null,{"$f":"+C78*+D78*E78*F78","v":0}]
[null,null,{"$f":"SUM(C75:C78)","v":0},null,null,"Non-Holiday Checkpoint Total",null,{"$f":"SUM(G75:G78)","v":0}]
["Chkpt Total",null,{"$f":"SUM(C68,C79)","v":0}]
["LIST ALL PLANNED IN-TOWN CHECKPOINT DATES.  INCLUDE BOTH HOLIDAY/NON-HOLIDAY DATES."]
[]
[]
[]
[]
[]
[]
[]
[]
[]
[]
[]
[null,null,null,"Chkpt Total must equal Total No. of Dates",null,null,null,{"$f":"SUM(IF(FREQUENCY(A82:G92,A82:G92)>0,1))","v":0}]
[null,null,null,null,"Checkpoint Total Verification",null,null,{"$f":"EXACT(C80,H93)","v":true}]
[]
["ALL CHECKPOINT ACTIVITIES MUST BE CONDUCTED ON THE DATES LISTED ON THIS PAGE.  ANY CHANGES TO CHECKPOINT DATES MUST BE APPROVED BY THE HIGHWAY SAFETY OFFICE PRIOR TO RESCHEDULING ANY CHECKPOINT ACTIVITY.  CHECKPOINT ACTIVITY HOURS MAY NOT EXCEED 64 HOURS PER CHECKPOINT.",null,null,null,null,null,null,null,null,"Checkpoint Total Verification must equal TRUE"]
[]
[]
[]
[null,null,null,null,"OVERALL TOTAL:",null,{"$f":"H19+H30+H68+H79","v":0}]

{"sheet":"SPECIAL ENFORCEMENT","index":17,"n_rows":438,"n_cols":7,"rows_kept":438,"cut":false,"hidden":false,"merged":[[0,0,1,2],[0,3,1,6],[2,0,5,2],[2,3,3,6],[4,3,5,5],[4,6,5,6],[88,0,89,2],[88,3,89,6],[134,0,137,2],[134,3,135,6],[90,3,91,6],[90,0,93,2],[136,3,137,5],[136,6,137,6],[132,0,133,2],[132,3,133,6],[92,3,93,5],[92,6,93,6],[44,0,45,2],[46,0,49,2],[48,3,49,5],[48,6,49,6],[46,3,47,6],[44,3,45,6],[222,0,225,2],[222,3,223,6],[308,0,309,2],[308,3,309,6],[310,0,313,2],[310,3,311,6],[264,0,265,2],[264,3,265,6],[178,3,179,6],[220,0,221,2],[220,3,221,6],[266,0,269,2],[266,3,267,6],[268,3,269,5],[268,6,269,6],[398,3,399,6],[398,0,401,2],[333,0,346,6],[359,0,359,6],[396,0,397,2],[396,3,397,6],[352,0,353,2],[352,3,353,6],[354,0,357,2],[354,3,355,6],[102,0,102,1],[113,0,126,6],[139,0,139,6],[142,1,142,4],[143,0,143,6],[406,1,406,4],[407,0,407,6],[410,0,410,1],[289,0,302,6],[315,0,315,6],[318,1,318,4],[319,0,319,6],[322,0,322,1],[271,0,271,6],[274,1,274,4],[275,0,275,6],[278,0,278,1],[245,0,258,6],[227,0,227,6],[230,1,230,4],[231,0,231,6],[234,0,234,1],[146,0,146,1],[157,0,170,6],[7,0,7,6],[51,0,51,6],[54,1,54,4],[55,0,55,6],[58,0,58,1],[69,0,82,6],[95,0,95,6],[98,1,98,4],[99,0,99,6],[11,0,11,6],[10,1,10,4],[25,0,38,6],[14,0,14,1],[176,0,177,2],[176,3,177,6],[421,0,434,6],[178,0,181,2],[362,1,362,4],[363,0,363,6],[366,0,366,1],[377,0,390,6],[403,0,403,6],[183,0,183,6],[186,1,186,4],[187,0,187,6],[190,0,190,1],[201,0,214,6],[312,3,313,5],[312,6,313,6],[356,3,357,5],[356,6,357,6],[400,3,401,5],[400,6,401,6],[180,3,181,5],[180,6,181,6],[224,3,225,5],[224,6,225,6]]}
["PROJECT TITLE",null,null,"APPLICANT"]
[]
[{"$f":"APPLICATION!$A$15","v":"FY 2020 Comprehensive DUI Enforcement Program for Resident Trooper Towns"},null,null,{"$f":"IF(APPLICATION!A21=\"\",\"\",APPLICATION!A21)","v":""}]
[]
[null,null,null,{"$f":"MID(CELL(\"filename\",B1),FIND(\"]\",CELL(\"filename\",B1))+1,255)","v":"SPECIAL ENFORCEMENT"},null,null,1]
[]
[]
["SPECIAL EVENT ENFORCEMENT WORKSHEET"]
[]
[]
[null,"8  OFFICERS PER EVENT MAXIMUM.\n8 HOUR SHIFTS MAXIMUM.\nSPECIAL EVENT ENFORCEMENT REQUIRES ADDITIONAL WRITTEN JUSTIFICATION AND APPROVAL FROM THE PROGRAM COORDINATOR."]
["*** Please describe in detail the nature of the event, past history, crash data, arrest data, or problems necessitating the additional manpower for alcohol enforcement and any other information necessary to consider for additional enforcement."]
[]
["Date:  ",null,"Event:  "]
["Enforcement Officer",null,"Hrs.","Rate","Total"]
[" # 1: ",null,null,null,{"$f":"C16*D16","v":0}]
["# 2: ",null,null,null,{"$f":"C17*D17","v":0}]
["# 3: ",null,null,null,0]
["# 4: ",null,null,null,0]
["# 5: ",null,null,null,0]
["# 6: ",null,null,null,0]
["# 7: ",null,null,null,0]
["# 8: ",null,null,null,0]
[null,null,null,"Grand Total",{"$f":"SUM(E16:E23)","v":0}]
[]
["ALT + ENTER FOR A NEW PARAGRAPH"]
[]
[]
[]
[]
[]
[]
[]
[]
[]
[]
[]
[]
[]
[]
[]
["Approved: Joseph T. Cristalli, Jr.",null,null,"Disapproved: Joseph T. Cristalli, Jr."]
[]
[]
["PROJECT TITLE",null,null,"APPLICANT"]
[]
[{"$f":"APPLICATION!$A$15","v":"FY 2020 Comprehensive DUI Enforcement Program for Resident Trooper Towns"},null,null,{"$f":"$D$3","v":""}]
[]
[null,null,null,{"$f":"$D$5","v":"SPECIAL ENFORCEMENT"},null,null,{"$f":"G5+1","v":2}]
[]
[]
["SPECIAL EVENT ENFORCEMENT WORKSHEET"]
[]
[]
[null,"8  OFFICERS PER EVENT MAXIMUM.\n8 HOUR SHIFTS MAXIMUM.\nSPECIAL EVENT ENFORCEMENT REQUIRES ADDITIONAL WRITTEN JUSTIFICATION AND APPROVAL FROM THE PROGRAM COORDINATOR."]
["*** Please describe in detail the nature of the event, past history, crash data, arrest data, or problems necessitating the additional manpower for alcohol enforcement and any other information necessary to consider for additional enforcement."]
[]
["Date:  ",null,"Event:  "]
["Enforcement Officer",null,"Hrs.","Rate","Total"]
[" # 1: ",null,null,null,{"$f":"C60*D60","v":0}]
["# 2: ",null,null,null,{"$f":"C61*D61","v":0}]
["# 3: ",null,null,null,0]
["# 4: ",null,null,null,0]
["# 5: ",null,null,null,0]
["# 6: ",null,null,null,0]
["# 7: ",null,null,null,0]
["# 8: ",null,null,null,0]
[null,null,null,"Grand Total",{"$f":"SUM(E60:E67)","v":0}]
[]
["ALT + ENTER FOR A NEW PARAGRAPH"]
[]
[]
[]
[]
[]
[]
[]
[]
[]
[]
[]
[]
[]
[]
[]
["Approved: Joseph T. Cristalli, Jr.",null,null,"Disapproved: Joseph T. Cristalli, Jr."]
[]
[]
["PROJECT TITLE",null,null,"APPLICANT"]
[]
[{"$f":"APPLICATION!$A$15","v":"FY 2020 Comprehensive DUI Enforcement Program for Resident Trooper Towns"},null,null,{"$f":"$D$3","v":""}]
[]
[null,null,null,{"$f":"$D$5","v":"SPECIAL ENFORCEMENT"},null,null,{"$f":"G49+1","v":3}]
[]
[]
["SPECIAL EVENT ENFORCEMENT WORKSHEET"]
[]
[]
[null,"8  OFFICERS PER EVENT MAXIMUM.\n8 HOUR SHIFTS MAXIMUM.\nSPECIAL EVENT ENFORCEMENT REQUIRES ADDITIONAL WRITTEN JUSTIFICATION AND APPROVAL FROM THE PROGRAM COORDINATOR."]
["*** Please describe in detail the nature of the event, past history, crash data, arrest data, or problems necessitating the additional manpower for alcohol enforcement and any other information necessary to consider for additional enforcement."]
[]
["Date:  ",null,"Event:  "]
["Enforcement Officer",null,"Hrs.","Rate","Total"]
[" # 1: ",null,null,null,{"$f":"C104*D104","v":0}]
["# 2: ",null,null,null,{"$f":"C105*D105","v":0}]
["# 3: ",null,null,null,0]
["# 4: ",null,null,null,0]
["# 5: ",null,null,null,0]
["# 6: ",null,null,null,0]
["# 7: ",null,null,null,0]
["# 8: ",null,null,null,0]
[null,null,null,"Grand Total",{"$f":"SUM(E104:E111)","v":0}]
[]
["ALT + ENTER FOR A NEW PARAGRAPH"]
[]
[]
[]
[]
[]
[]
[]
[]
[]
[]
[]
[]
[]
[]
[]
["Approved: Joseph T. Cristalli, Jr.",null,null,"Disapproved: Joseph T. Cristalli, Jr."]
[]
[]
["PROJECT TITLE",null,null,"APPLICANT"]
[]
[{"$f":"APPLICATION!$A$15","v":"FY 2020 Comprehensive DUI Enforcement Program for Resident Trooper Towns"},null,null,{"$f":"$D$3","v":""}]
[]
[null,null,null,{"$f":"$D$5","v":"SPECIAL ENFORCEMENT"},null,null,{"$f":"G93+1","v":4}]
[]
[]
["SPECIAL EVENT ENFORCEMENT WORKSHEET"]
[]
[]
[null,"8  OFFICERS PER EVENT MAXIMUM.\n8 HOUR SHIFTS MAXIMUM.\nSPECIAL EVENT ENFORCEMENT REQUIRES ADDITIONAL WRITTEN JUSTIFICATION AND APPROVAL FROM THE PROGRAM COORDINATOR."]
["*** Please describe in detail the nature of the event, past history, crash data, arrest data, or problems necessitating the additional manpower for alcohol enforcement and any other information necessary to consider for additional enforcement."]
[]
["Date:  ",null,"Event:  "]
["Enforcement Officer",null,"Hrs.","Rate","Total"]
[" # 1: ",null,null,null,{"$f":"C148*D148","v":0}]
["# 2: ",null,null,null,{"$f":"C149*D149","v":0}]
["# 3: ",null,null,null,0]
["# 4: ",null,null,null,0]
["# 5: ",null,null,null,0]
["# 6: ",null,null,null,0]
["# 7: ",null,null,null,0]
["# 8: ",null,null,null,0]
[null,null,null,"Grand Total",{"$f":"SUM(E148:E155)","v":0}]
[]
["ALT + ENTER FOR A NEW PARAGRAPH"]
[]
[]
[]
[]
[]
[]
[]
[]
[]
[]
[]
[]
[]
[]
[]
["Approved: Joseph T. Cristalli, Jr.",null,null,"Disapproved: Joseph T. Cristalli, Jr."]
[]
[]
["PROJECT TITLE",null,null,"APPLICANT"]
[]
[{"$f":"APPLICATION!$A$15","v":"FY 2020 Comprehensive DUI Enforcement Program for Resident Trooper Towns"},null,null,{"$f":"$D$3","v":""}]
[]
[null,null,null,{"$f":"$D$5","v":"SPECIAL ENFORCEMENT"},null,null,{"$f":"G137+1","v":5}]
[]
[]
["SPECIAL EVENT ENFORCEMENT WORKSHEET"]
[]
[]
[null,"8  OFFICERS PER EVENT MAXIMUM.\n8 HOUR SHIFTS MAXIMUM.\nSPECIAL EVENT ENFORCEMENT REQUIRES ADDITIONAL WRITTEN JUSTIFICATION AND APPROVAL FROM THE PROGRAM COORDINATOR."]
["*** Please describe in detail the nature of the event, past history, crash data, arrest data, or problems necessitating the additional manpower for alcohol enforcement and any other information necessary to consider for additional enforcement."]
[]
["Date:  ",null,"Event:  "]
["Enforcement Officer",null,"Hrs.","Rate","Total"]
[" # 1: ",null,null,null,{"$f":"C192*D192","v":0}]
["# 2: ",null,null,null,0]
["# 3: ",null,null,null,0]
["# 4: ",null,null,null,0]
["# 5: ",null,null,null,0]
["# 6: ",null,null,null,0]
["# 7: ",null,null,null,0]
["# 8: ",null,null,null,0]
[null,null,null,"Grand Total",{"$f":"SUM(E192:E199)","v":0}]
[]
["ALT + ENTER FOR A NEW PARAGRAPH"]
[]
[]
[]
[]
[]
[]
[]
[]
[]
[]
[]
[]
[]
[]
[]
["Approved: Joseph T. Cristalli, Jr.",null,null,"Disapproved: Joseph T. Cristalli, Jr."]
[]
[]
["PROJECT TITLE",null,null,"APPLICANT"]
[]
[{"$f":"APPLICATION!$A$15","v":"FY 2020 Comprehensive DUI Enforcement Program for Resident Trooper Towns"},null,null,{"$f":"$D$3","v":""}]
[]
[null,null,null,{"$f":"$D$5","v":"SPECIAL ENFORCEMENT"},null,null,{"$f":"G181+1","v":6}]
[]
[]
["SPECIAL EVENT ENFORCEMENT WORKSHEET"]
[]
[]
[null,"8  OFFICERS PER EVENT MAXIMUM.\n8 HOUR SHIFTS MAXIMUM.\nSPECIAL EVENT ENFORCEMENT REQUIRES ADDITIONAL WRITTEN JUSTIFICATION AND APPROVAL FROM THE PROGRAM COORDINATOR."]
["*** Please describe in detail the nature of the event, past history, crash data, arrest data, or problems necessitating the additional manpower for alcohol enforcement and any other information necessary to consider for additional enforcement."]
[]
["Date:  ",null,"Event:  "]
["Enforcement Officer",null,"Hrs.","Rate","Total"]
[" # 1: ",null,null,null,{"$f":"C236*D236","v":0}]
["# 2: ",null,null,null,0]
["# 3: ",null,null,null,0]
["# 4: ",null,null,null,0]
["# 5: ",null,null,null,0]
["# 6: ",null,null,null,0]
["# 7: ",null,null,null,0]
["# 8: ",null,null,null,0]
[null,null,null,"Grand Total",{"$f":"SUM(E236:E243)","v":0}]
[]
["ALT + ENTER FOR A NEW PARAGRAPH"]
[]
[]
[]
[]
[]
[]
[]
[]
[]
[]
[]
[]
[]
[]
[]
["Approved: Joseph T. Cristalli, Jr.",null,null,"Disapproved: Joseph T. Cristalli, Jr."]
[]
[]
["PROJECT TITLE",null,null,"APPLICANT"]
[]
[{"$f":"APPLICATION!$A$15","v":"FY 2020 Comprehensive DUI Enforcement Program for Resident Trooper Towns"},null,null,{"$f":"IF(APPLICATION!A21=\"\",\"\",APPLICATION!A21)","v":""}]
[]
[null,null,null,{"$f":"MID(CELL(\"filename\",B265),FIND(\"]\",CELL(\"filename\",B265))+1,255)","v":"SPECIAL ENFORCEMENT"},null,null,{"$f":"G225+1","v":7}]
[]
[]
["SPECIAL EVENT ENFORCEMENT WORKSHEET"]
[]
[]
[null,"8  OFFICERS PER EVENT MAXIMUM.\n8 HOUR SHIFTS MAXIMUM.\nSPECIAL EVENT ENFORCEMENT REQUIRES ADDITIONAL WRITTEN JUSTIFICATION AND APPROVAL FROM THE PROGRAM COORDINATOR."]
["*** Please describe in detail the nature of the event, past history, crash data, arrest data, or problems necessitating the additional manpower for alcohol enforcement and any other information necessary to consider for additional enforcement."]
[]
["Date:  ",null,"Event:  "]
["Enforcement Officer",null,"Hrs.","Rate","Total"]
[" # 1: ",null,null,null,{"$f":"C280*D280","v":0}]
["# 2: ",null,null,null,0]
["# 3: ",null,null,null,0]
["# 4: ",null,null,null,0]
["# 5: ",null,null,null,0]
["# 6: ",null,null,null,0]
["# 7: ",null,null,null,0]
["# 8: ",null,null,null,0]
[null,null,null,"Grand Total",{"$f":"SUM(E280:E287)","v":0}]
[]
["ALT + ENTER FOR A NEW PARAGRAPH"]
[]
[]
[]
[]
[]
[]
[]
[]
[]
[]
[]
[]
[]
[]
[]
["Approved: Joseph T. Cristalli, Jr.",null,null,"Disapproved: Joseph T. Cristalli, Jr."]
[]
[]
["PROJECT TITLE",null,null,"APPLICANT"]
[]
[{"$f":"APPLICATION!$A$15","v":"FY 2020 Comprehensive DUI Enforcement Program for Resident Trooper Towns"},null,null,{"$f":"$D$3","v":""}]
[]
[null,null,null,{"$f":"$D$5","v":"SPECIAL ENFORCEMENT"},null,null,{"$f":"G269+1","v":8}]
[]
[]
["SPECIAL EVENT ENFORCEMENT WORKSHEET"]
[]
[]
[null,"8  OFFICERS PER EVENT MAXIMUM.\n8 HOUR SHIFTS MAXIMUM.\nSPECIAL EVENT ENFORCEMENT REQUIRES ADDITIONAL WRITTEN JUSTIFICATION AND APPROVAL FROM THE PROGRAM COORDINATOR."]
["*** Please describe in detail the nature of the event, past history, crash data, arrest data, or problems necessitating the additional manpower for alcohol enforcement and any other information necessary to consider for additional enforcement."]
[]
["Date:  ",null,"Event:  "]
["Enforcement Officer",null,"Hrs.","Rate","Total"]
[" # 1: ",null,null,null,{"$f":"C324*D324","v":0}]
["# 2: ",null,null,null,0]
["# 3: ",null,null,null,0]
["# 4: ",null,null,null,0]
["# 5: ",null,null,null,0]
["# 6: ",null,null,null,0]
["# 7: ",null,null,null,0]
["# 8: ",null,null,null,0]
[null,null,null,"Grand Total",{"$f":"SUM(E324:E331)","v":0}]
[]
["ALT + ENTER FOR A NEW PARAGRAPH"]
[]
[]
[]
[]
[]
[]
[]
[]
[]
[]
[]
[]
[]
[]
[]
["Approved: Joseph T. Cristalli, Jr.",null,null,"Disapproved: Joseph T. Cristalli, Jr."]
[]
[]
["PROJECT TITLE",null,null,"APPLICANT"]
[]
[{"$f":"APPLICATION!$A$15","v":"FY 2020 Comprehensive DUI Enforcement Program for Resident Trooper Towns"},null,null,{"$f":"$D$3","v":""}]
[]
[null,null,null,{"$f":"$D$5","v":"SPECIAL ENFORCEMENT"},null,null,{"$f":"G313+1","v":9}]
[]
[]
["SPECIAL EVENT ENFORCEMENT WORKSHEET"]
[]
[]
[null,"8  OFFICERS PER EVENT MAXIMUM.\n8 HOUR SHIFTS MAXIMUM.\nSPECIAL EVENT ENFORCEMENT REQUIRES ADDITIONAL WRITTEN JUSTIFICATION AND APPROVAL FROM THE PROGRAM COORDINATOR."]
["*** Please describe in detail the nature of the event, past history, crash data, arrest data, or problems necessitating the additional manpower for alcohol enforcement and any other information necessary to consider for additional enforcement."]
[]
["Date:  ",null,"Event:  "]
["Enforcement Officer",null,"Hrs.","Rate","Total"]
[" # 1: ",null,null,null,{"$f":"C368*D368","v":0}]
["# 2: ",null,null,null,0]
["# 3: ",null,null,null,0]
["# 4: ",null,null,null,0]
["# 5: ",null,null,null,0]
["# 6: ",null,null,null,0]
["# 7: ",null,null,null,0]
["# 8: ",null,null,null,0]
[null,null,null,"Grand Total",{"$f":"SUM(E368:E375)","v":0}]
[]
["ALT + ENTER FOR A NEW PARAGRAPH"]
[]
[]
[]
[]
[]
[]
[]
[]
[]
[]
[]
[]
[]
[]
[]
["Approved: Joseph T. Cristalli, Jr.",null,null,"Disapproved: Joseph T. Cristalli, Jr."]
[]
[]
["PROJECT TITLE",null,null,"APPLICANT"]
[]
[{"$f":"APPLICATION!$A$15","v":"FY 2020 Comprehensive DUI Enforcement Program for Resident Trooper Towns"},null,null,{"$f":"D3","v":""}]
[]
[null,null,null,{"$f":"$D$5","v":"SPECIAL ENFORCEMENT"},null,null,{"$f":"G357+1","v":10}]
[]
[]
["SPECIAL EVENT ENFORCEMENT WORKSHEET"]
[]
[]
[null,"8  OFFICERS PER EVENT MAXIMUM.\n8 HOUR SHIFTS MAXIMUM.\nSPECIAL EVENT ENFORCEMENT REQUIRES ADDITIONAL WRITTEN JUSTIFICATION AND APPROVAL FROM THE PROGRAM COORDINATOR."]
["*** Please describe in detail the nature of the event, past history, crash data, arrest data, or problems necessitating the additional manpower for alcohol enforcement and any other information necessary to consider for additional enforcement."]
[]
["Date:  ",null,"Event:  "]
["Enforcement Officer",null,"Hrs.","Rate","Total"]
[" # 1: ",null,null,null,{"$f":"C412*D412","v":0}]
["# 2: ",null,null,null,0]
["# 3: ",null,null,null,0]
["# 4: ",null,null,null,0]
["# 5: ",null,null,null,0]
["# 6: ",null,null,null,0]
["# 7: ",null,null,null,0]
["# 8: ",null,null,null,0]
[null,null,null,"Grand Total",{"$f":"SUM(E412:E419)","v":0}]
[]
["ALT + ENTER FOR A NEW PARAGRAPH"]
[]
[]
[]
[]
[]
[]
[]
[]
[]
[]
[]
[]
[]
[]
[]
["Approved: Joseph T. Cristalli, Jr.",null,null,"Disapproved: Joseph T. Cristalli, Jr."]

{"sheet":"DUI CHECKPOINT","index":18,"n_rows":1240,"n_cols":10,"rows_kept":1240,"cut":false,"hidden":true,"merged":[[422,1,422,4],[374,1,374,4],[375,1,375,4],[376,1,376,4],[414,0,415,2],[414,3,415,5],[416,0,419,2],[421,1,421,4],[420,1,420,4],[418,3,419,5],[416,3,417,5],[237,1,237,4],[282,1,282,4],[238,1,238,4],[276,0,277,2],[276,3,277,5],[370,3,371,5],[370,0,373,2],[368,0,369,2],[368,3,369,5],[329,1,329,4],[330,1,330,4],[322,3,323,5],[324,0,327,2],[322,0,323,2],[328,1,328,4],[324,3,325,5],[326,3,327,5],[372,3,373,5],[140,0,143,2],[140,3,141,5],[283,1,283,4],[284,1,284,4],[232,0,235,2],[232,3,233,5],[234,3,235,5],[278,0,281,2],[278,3,279,5],[192,1,192,4],[142,3,143,5],[236,1,236,4],[230,0,231,2],[230,3,231,5],[191,1,191,4],[190,1,190,4],[186,0,189,2],[280,3,281,5],[186,3,187,5],[188,3,189,5],[145,1,145,4],[146,1,146,4],[184,0,185,2],[184,3,185,5],[54,1,54,4],[92,0,93,2],[92,3,93,5],[94,0,97,2],[94,3,95,5],[96,3,97,5],[138,0,139,2],[100,1,100,4],[138,3,139,5],[460,0,461,2],[460,3,461,5],[462,0,465,2],[462,3,463,5],[464,3,465,5],[466,1,466,4],[6,1,6,4],[8,1,8,4],[0,0,1,2],[0,3,1,5],[2,0,5,2],[2,3,3,5],[4,3,5,5],[7,1,7,4],[53,1,53,4],[46,3,47,5],[48,3,49,5],[46,0,47,2],[48,0,51,2],[50,3,51,5],[52,1,52,4],[98,1,98,4],[99,1,99,4],[144,1,144,4],[512,1,512,4],[513,1,513,4],[514,1,514,4],[552,0,553,2],[552,3,553,5],[554,0,557,2],[554,3,555,5],[556,3,557,5],[467,1,467,4],[468,1,468,4],[506,0,507,2],[506,3,507,5],[508,0,511,2],[508,3,509,5],[510,3,511,5],[604,1,604,4],[605,1,605,4],[606,1,606,4],[558,1,558,4],[559,1,559,4],[560,1,560,4],[598,0,599,2],[598,3,599,5],[600,0,603,2],[600,3,601,5],[602,3,603,5],[644,0,645,2],[644,3,645,5],[646,0,649,2],[646,3,647,5],[648,3,649,5],[650,1,650,4],[651,1,651,4],[652,1,652,4],[690,0,691,2],[690,3,691,5],[692,0,695,2],[692,3,693,5],[694,3,695,5],[696,1,696,4],[697,1,697,4],[698,1,698,4],[736,0,737,2],[736,3,737,5],[738,0,741,2],[738,3,739,5],[740,3,741,5],[742,1,742,4],[743,1,743,4],[744,1,744,4],[782,0,783,2],[782,3,783,5],[784,0,787,2],[784,3,785,5],[786,3,787,5],[788,1,788,4],[789,1,789,4],[790,1,790,4],[828,0,829,2],[828,3,829,5],[830,0,833,2],[830,3,831,5],[832,3,833,5],[834,1,834,4],[835,1,835,4],[836,1,836,4],[874,0,875,2],[874,3,875,5],[876,0,879,2],[876,3,877,5],[878,3,879,5],[880,1,880,4],[881,1,881,4],[882,1,882,4],[920,0,921,2],[920,3,921,5],[922,0,925,2],[922,3,923,5],[924,3,925,5],[926,1,926,4],[927,1,927,4],[928,1,928,4],[966,0,967,2],[966,3,967,5],[968,0,971,2],[968,3,969,5],[970,3,971,5],[972,1,972,4],[973,1,973,4],[974,1,974,4],[1012,0,1013,2],[1012,3,1013,5],[1014,0,1017,2],[1014,3,1015,5],[1016,3,1017,5],[1018,1,1018,4],[1019,1,1019,4],[1020,1,1020,4],[1058,0,1059,2],[1058,3,1059,5],[1060,0,1063,2],[1060,3,1061,5],[1062,3,1063,5],[1064,1,1064,4],[1112,1,1112,4],[1065,1,1065,4],[1066,1,1066,4],[1104,0,1105,2],[1104,3,1105,5],[1106,0,1109,2],[1106,3,1107,5],[1108,3,1109,5],[1110,1,1110,4],[1111,1,1111,4],[1198,0,1201,2],[1198,3,1199,5],[1200,3,1201,5],[1202,1,1202,4],[1203,1,1203,4],[1204,1,1204,4],[1150,0,1151,2],[1150,3,1151,5],[1152,0,1155,2],[1152,3,1153,5],[1154,3,1155,5],[1156,1,1156,4],[1157,1,1157,4],[1158,1,1158,4],[1196,0,1197,2],[1196,3,1197,5]]}
["PROJECT TITLE",null,null,"APPLICANT"]
[]
[{"$f":"APPLICATION!$A$15","v":"FY 2020 Comprehensive DUI Enforcement Program for Resident Trooper Towns"},null,null,{"$f":"IF(APPLICATION!A21=\"\",\"\",APPLICATION!A21)","v":""}]
[]
[]
[]
[null,"Sobriety Check Point Work Sheet"]
[null,"8  OFFICERS PER CHECKPOINT MAXIMUM.\n  8 HOUR SHIFTS MAXIMUM"]
[null,"Core Enforcement Hours:  17:00 - 04:00"]
[null,null,null,null,null,null,null,null,8,1]
["Date:  ","2017-10-05","Event:  ",null,null,null,null,null,8,1]
[null,null,"Hrs","Rate","Total"]
[null,"Enforcement Officer # 1: ",8,1,{"$f":"C13*D13","v":8}]
[null,"# 2: ",8,1,{"$f":"C14*D14","v":8}]
[null,"# 3: ",8,1,8]
[null,"# 4: ",8,1,8]
[null,"# 5: ",8,1,8]
[null,"# 6: ",8,1,8]
[null,"# 7: ",8,1,8]
[null,"# 8: ",8,1,8]
[]
["Date:  ","2017-10-06","Event:  "]
[null,null,"Hrs","Rate","Total"]
[null,"Enforcement Officer # 1: ",8,1,{"$f":"C24*D24","v":8}]
[null,"# 2: ",8,1,{"$f":"C25*D25","v":8}]
[null,"# 3: ",8,1,8]
[null,"# 4: ",8,1,8]
[null,"# 5: ",8,1,8]
[null,"# 6: ",8,1,8]
[null,"# 7: ",8,1,8]
[null,"# 8: ",8,1,8]
[]
["Date:  ","2017-10-07","Event:  "]
[null,null,"Hrs","Rate","Total"]
[null,"Enforcement Officer # 1: ",8,1,{"$f":"C35*D35","v":8}]
[null,"# 2: ",8,1,{"$f":"C36*D36","v":8}]
[null,"# 3: ",8,1,8]
[null,"# 4: ",8,1,8]
[null,"# 5: ",8,1,8]
[null,"# 6: ",8,1,8]
[null,"# 7: ",8,1,8]
[null,"# 8: ",8,1,8]
[]
[null,null,null,"Grand Total",{"$f":"SUM(E13:E20,E24:E31,E35:E42)","v":192}]
[]
[]
["PROJECT TITLE",null,null,"APPLICANT"]
[]
[{"$f":"APPLICATION!$A$15","v":"FY 2020 Comprehensive DUI Enforcement Program for Resident Trooper Towns"},null,null,{"$f":"IF(APPLICATION!A21=\"\",\"\",APPLICATION!A21)","v":""}]
[]
[]
[]
[null,"Sobriety Check Point Work Sheet"]
[null,"8  OFFICERS PER CHECKPOINT MAXIMUM.\n  8 HOUR SHIFTS MAXIMUM"]
[null,"Core Enforcement Hours:  17:00 - 04:00"]
[]
["Date:  ","2017-10-12","Event:  "]
[null,null,"Hrs","Rate","Total"]
[null,"Enforcement Officer # 1: ",8,1,{"$f":"C59*D59","v":8}]
[null,"# 2: ",8,1,{"$f":"C60*D60","v":8}]
[null,"# 3: ",8,1,8]
[null,"# 4: ",8,1,8]
[null,"# 5: ",8,1,8]
[null,"# 6: ",8,1,8]
[null,"# 7: ",8,1,8]
[null,"# 8: ",8,1,8]
[]
["Date:  ","2017-10-13","Event:  "]
[null,null,"Hrs","Rate","Total"]
[null,"Enforcement Officer # 1: ",8,1,{"$f":"C70*D70","v":8}]
[null,"# 2: ",8,1,{"$f":"C71*D71","v":8}]
[null,"# 3: ",8,1,8]
[null,"# 4: ",8,1,8]
[null,"# 5: ",8,1,8]
[null,"# 6: ",8,1,8]
[null,"# 7: ",8,1,8]
[null,"# 8: ",8,1,8]
[]
["Date:  ","2017-10-14","Event:  "]
[null,null,"Hrs","Rate","Total"]
[null,"Enforcement Officer # 1: ",8,1,{"$f":"C81*D81","v":8}]
[null,"# 2: ",8,1,{"$f":"C82*D82","v":8}]
[null,"# 3: ",8,1,8]
[null,"# 4: ",8,1,8]
[null,"# 5: ",8,1,8]
[null,"# 6: ",8,1,8]
[null,"# 7: ",8,1,8]
[null,"# 8: ",8,1,8]
[]
[null,null,null,"Grand Total",{"$f":"SUM(E59:E66,E70:E77,E81:E88)","v":192}]
[]
[]
["PROJECT TITLE",null,null,"APPLICANT"]
[]
[{"$f":"APPLICATION!$A$15","v":"FY 2020 Comprehensive DUI Enforcement Program for Resident Trooper Towns"},null,null,{"$f":"IF(APPLICATION!A21=\"\",\"\",APPLICATION!A21)","v":""}]
[]
[]
[]
[null,"Sobriety Check Point Work Sheet"]
[null,"8  OFFICERS PER CHECKPOINT MAXIMUM.\n  8 HOUR SHIFTS MAXIMUM"]
[null,"Core Enforcement Hours:  17:00 - 04:00"]
[]
["Date:  ","2017-10-19","Event:  "]
[null,null,"Hrs","Rate","Total"]
[null,"Enforcement Officer # 1: ",8,1,{"$f":"C105*D105","v":8}]
[null,"# 2: ",8,1,{"$f":"C106*D106","v":8}]
[null,"# 3: ",8,1,8]
[null,"# 4: ",8,1,8]
[null,"# 5: ",8,1,8]
[null,"# 6: ",8,1,8]
[null,"# 7: ",8,1,8]
[null,"# 8: ",8,1,8]
[]
["Date:  ","2017-10-20","Event:  "]
[null,null,"Hrs","Rate","Total"]
[null,"Enforcement Officer # 1: ",8,1,{"$f":"C116*D116","v":8}]
[null,"# 2: ",8,1,{"$f":"C117*D117","v":8}]
[null,"# 3: ",8,1,8]
[null,"# 4: ",8,1,8]
[null,"# 5: ",8,1,8]
[null,"# 6: ",8,1,8]
[null,"# 7: ",8,1,8]
[null,"# 8: ",8,1,8]
[]
["Date:  ","2017-10-21","Event:  "]
[null,null,"Hrs","Rate","Total"]
[null,"Enforcement Officer # 1: ",8,1,{"$f":"C127*D127","v":8}]
[null,"# 2: ",8,1,{"$f":"C128*D128","v":8}]
[null,"# 3: ",8,1,8]
[null,"# 4: ",8,1,8]
[null,"# 5: ",8,1,8]
[null,"# 6: ",8,1,8]
[null,"# 7: ",8,1,8]
[null,"# 8: ",8,1,8]
[]
[null,null,null,"Grand Total",{"$f":"SUM(E105:E112,E116:E123,E127:E134)","v":192}]
[]
[]
["PROJECT TITLE",null,null,"APPLICANT"]
[]
[{"$f":"APPLICATION!$A$15","v":"FY 2020 Comprehensive DUI Enforcement Program for Resident Trooper Towns"},null,null,{"$f":"IF(APPLICATION!A21=\"\",\"\",APPLICATION!A21)","v":""}]
[]
[]
[]
[null,"Sobriety Check Point Work Sheet"]
[null,"8  OFFICERS PER CHECKPOINT MAXIMUM.\n  8 HOUR SHIFTS MAXIMUM"]
[null,"Core Enforcement Hours:  17:00 - 04:00"]
[]
["Date:  ","2017-10-26","Event:  "]
[null,null,"Hrs","Rate","Total"]
[null,"Enforcement Officer # 1: ",8,1,{"$f":"C151*D151","v":8}]
[null,"# 2: ",8,1,{"$f":"C152*D152","v":8}]
[null,"# 3: ",8,1,8]
[null,"# 4: ",8,1,8]
[null,"# 5: ",8,1,8]
[null,"# 6: ",8,1,8]
[null,"# 7: ",8,1,8]
[null,"# 8: ",8,1,8]
[]
["Date:  ","2017-10-27","Event:  "]
[null,null,"Hrs","Rate","Total"]
[null,"Enforcement Officer # 1: ",8,1,{"$f":"C162*D162","v":8}]
[null,"# 2: ",8,1,{"$f":"C163*D163","v":8}]
[null,"# 3: ",8,1,8]
[null,"# 4: ",8,1,8]
[null,"# 5: ",8,1,8]
[null,"# 6: ",8,1,8]
[null,"# 7: ",8,1,8]
[null,"# 8: ",8,1,8]
[]
["Date:  ","2017-10-28","Event:  "]
[null,null,"Hrs","Rate","Total"]
[null,"Enforcement Officer # 1: ",8,1,{"$f":"C173*D173","v":8}]
[null,"# 2: ",8,1,{"$f":"C174*D174","v":8}]
[null,"# 3: ",8,1,8]
[null,"# 4: ",8,1,8]
[null,"# 5: ",8,1,8]
[null,"# 6: ",8,1,8]
[null,"# 7: ",8,1,8]
[null,"# 8: ",8,1,8]
[]
[null,null,null,"Grand Total",{"$f":"SUM(E151:E158,E162:E169,E173:E180)","v":192}]
[]
[]
["PROJECT TITLE",null,null,"APPLICANT"]
[]
[{"$f":"APPLICATION!$A$15","v":"FY 2020 Comprehensive DUI Enforcement Program for Resident Trooper Towns"},null,null,{"$f":"IF(APPLICATION!A21=\"\",\"\",APPLICATION!A21)","v":""}]
[]
[]
[]
[null,"Sobriety Check Point Work Sheet"]
[null,"8  OFFICERS PER CHECKPOINT MAXIMUM.\n  8 HOUR SHIFTS MAXIMUM"]
[null,"Core Enforcement Hours:  17:00 - 04:00"]
[]
["Date:  ","2017-11-02","Event:  "]
[null,null,"Hrs","Rate","Total"]
[null,"Enforcement Officer # 1: ",8,1,{"$f":"C197*D197","v":8}]
[null,"# 2: ",8,1,{"$f":"C198*D198","v":8}]
[null,"# 3: ",8,1,8]
[null,"# 4: ",8,1,8]
[null,"# 5: ",8,1,8]
[null,"# 6: ",8,1,8]
[null,"# 7: ",8,1,8]
[null,"# 8: ",8,1,8]
[]
["Date:  ","2017-11-03","Event:  "]
[null,null,"Hrs","Rate","Total"]
[null,"Enforcement Officer # 1: ",8,1,{"$f":"C208*D208","v":8}]
[null,"# 2: ",8,1,{"$f":"C209*D209","v":8}]
[null,"# 3: ",8,1,8]
[null,"# 4: ",8,1,8]
[null,"# 5: ",8,1,8]
[null,"# 6: ",8,1,8]
[null,"# 7: ",8,1,8]
[null,"# 8: ",8,1,8]
[]
["Date:  ","2017-11-04","Event:  "]
[null,null,"Hrs","Rate","Total"]
[null,"Enforcement Officer # 1: ",8,1,{"$f":"C219*D219","v":8}]
[null,"# 2: ",8,1,{"$f":"C220*D220","v":8}]
[null,"# 3: ",8,1,8]
[null,"# 4: ",8,1,8]
[null,"# 5: ",8,1,8]
[null,"# 6: ",8,1,8]
[null,"# 7: ",8,1,8]
[null,"# 8: ",8,1,8]
[]
[null,null,null,"Grand Total",{"$f":"SUM(E197:E204,E208:E215,E219:E226)","v":192}]
[]
[]
["PROJECT TITLE",null,null,"APPLICANT"]
[]
[{"$f":"APPLICATION!$A$15","v":"FY 2020 Comprehensive DUI Enforcement Program for Resident Trooper Towns"},null,null,{"$f":"IF(APPLICATION!A21=\"\",\"\",APPLICATION!A21)","v":""}]
[]
[]
[]
[null,"Sobriety Check Point Work Sheet"]
[null,"8  OFFICERS PER CHECKPOINT MAXIMUM.\n  8 HOUR SHIFTS MAXIMUM"]
[null,"Core Enforcement Hours:  17:00 - 04:00"]
[]
["Date:  ","2017-11-09","Event:  "]
[null,null,"Hrs","Rate","Total"]
[null,"Enforcement Officer # 1: ",8,1,{"$f":"C243*D243","v":8}]
[null,"# 2: ",8,1,{"$f":"C244*D244","v":8}]
[null,"# 3: ",8,1,8]
[null,"# 4: ",8,1,8]
[null,"# 5: ",8,1,8]
[null,"# 6: ",8,1,8]
[null,"# 7: ",8,1,8]
[null,"# 8: ",8,1,8]
[]
["Date:  ","2017-11-10","Event:  "]
[null,null,"Hrs","Rate","Total"]
[null,"Enforcement Officer # 1: ",8,1,{"$f":"C254*D254","v":8}]
[null,"# 2: ",8,1,{"$f":"C255*D255","v":8}]
[null,"# 3: ",8,1,8]
[null,"# 4: ",8,1,8]
[null,"# 5: ",8,1,8]
[null,"# 6: ",8,1,8]
[null,"# 7: ",8,1,8]
[null,"# 8: ",8,1,8]
[]
["Date:  ","2017-11-11","Event:  "]
[null,null,"Hrs","Rate","Total"]
[null,"Enforcement Officer # 1: ",8,1,{"$f":"C265*D265","v":8}]
[null,"# 2: ",8,1,{"$f":"C266*D266","v":8}]
[null,"# 3: ",8,1,8]
[null,"# 4: ",8,1,8]
[null,"# 5: ",8,1,8]
[null,"# 6: ",8,1,8]
[null,"# 7: ",8,1,8]
[null,"# 8: ",8,1,8]
[]
[null,null,null,"Grand Total",{"$f":"SUM(E243:E250,E254:E261,E265:E272)","v":192}]
[]
[]
["PROJECT TITLE",null,null,"APPLICANT"]
[]
[{"$f":"APPLICATION!$A$15","v":"FY 2020 Comprehensive DUI Enforcement Program for Resident Trooper Towns"},null,null,{"$f":"IF(APPLICATION!A21=\"\",\"\",APPLICATION!A21)","v":""}]
[]
[]
[]
[null,"Sobriety Check Point Work Sheet"]
[null,"8  OFFICERS PER CHECKPOINT MAXIMUM.\n  8 HOUR SHIFTS MAXIMUM"]
[null,"Core Enforcement Hours:  17:00 - 04:00"]
[]
["Date:  ","2017-11-16","Event:  "]
[null,null,"Hrs","Rate","Total"]
[null,"Enforcement Officer # 1: ",8,1,{"$f":"C289*D289","v":8}]
[null,"# 2: ",8,1,{"$f":"C290*D290","v":8}]
[null,"# 3: ",8,1,8]
[null,"# 4: ",8,1,8]
[null,"# 5: ",8,1,8]
[null,"# 6: ",8,1,8]
[null,"# 7: ",8,1,8]
[null,"# 8: ",8,1,8]
[]
["Date:  ","2017-11-17","Event:  "]
[null,null,"Hrs","Rate","Total"]
[null,"Enforcement Officer # 1: ",8,1,{"$f":"C300*D300","v":8}]
[null,"# 2: ",8,1,{"$f":"C301*D301","v":8}]
[null,"# 3: ",8,1,8]
[null,"# 4: ",8,1,8]
[null,"# 5: ",8,1,8]
[null,"# 6: ",8,1,8]
[null,"# 7: ",8,1,8]
[null,"# 8: ",8,1,8]
[]
["Date:  ","2017-11-18","Event:  "]
[null,null,"Hrs","Rate","Total"]
[null,"Enforcement Officer # 1: ",8,1,{"$f":"C311*D311","v":8}]
[null,"# 2: ",8,1,{"$f":"C312*D312","v":8}]
[null,"# 3: ",8,1,8]
[null,"# 4: ",8,1,8]
[null,"# 5: ",8,1,8]
[null,"# 6: ",8,1,8]
[null,"# 7: ",8,1,8]
[null,"# 8: ",8,1,8]
[]
[null,null,null,"Grand Total",{"$f":"SUM(E289:E296,E300:E307,E311:E318)","v":192}]
[]
[]
["PROJECT TITLE",null,null,"APPLICANT"]
[]
[{"$f":"APPLICATION!$A$15","v":"FY 2020 Comprehensive DUI Enforcement Program for Resident Trooper Towns"},null,null,{"$f":"IF(APPLICATION!A21=\"\",\"\",APPLICATION!A21)","v":""}]
[]
[]
[]
[null,"Sobriety Check Point Work Sheet"]
[null,"8  OFFICERS PER CHECKPOINT MAXIMUM.\n  8 HOUR SHIFTS MAXIMUM"]
[null,"Core Enforcement Hours:  17:00 - 04:00"]
[]
["Date:  ","2017-11-19","Event:  "]
[null,null,"Hrs","Rate","Total"]
[null,"Enforcement Officer # 1: ",8,1,{"$f":"C335*D335","v":8}]
[null,"# 2: ",8,1,{"$f":"C336*D336","v":8}]
[null,"# 3: ",8,1,8]
[null,"# 4: ",8,1,8]
[null,"# 5: ",8,1,8]
[null,"# 6: ",8,1,8]
[null,"# 7: ",8,1,8]
[null,"# 8: ",8,1,8]
[]
["Date:  ","2017-11-20","Event:  "]
[null,null,"Hrs","Rate","Total"]
[null,"Enforcement Officer # 1: ",8,1,{"$f":"C346*D346","v":8}]
[null,"# 2: ",8,1,{"$f":"C347*D347","v":8}]
[null,"# 3: ",8,1,8]
[null,"# 4: ",8,1,8]
[null,"# 5: ",8,1,8]
[null,"# 6: ",8,1,8]
[null,"# 7: ",8,1,8]
[null,"# 8: ",8,1,8]
[]
["Date:  ","2017-11-21","Event:  "]
[null,null,"Hrs","Rate","Total"]
[null,"Enforcement Officer # 1: ",8,1,{"$f":"C357*D357","v":8}]
[null,"# 2: ",8,1,{"$f":"C358*D358","v":8}]
[null,"# 3: ",8,1,8]
[null,"# 4: ",8,1,8]
[null,"# 5: ",8,1,8]
[null,"# 6: ",8,1,8]
[null,"# 7: ",8,1,8]
[null,"# 8: ",8,1,8]
[]
[null,null,null,"Grand Total",{"$f":"SUM(E335:E342,E346:E353,E357:E364)","v":192}]
[]
[]
["PROJECT TITLE",null,null,"APPLICANT"]
[]
[{"$f":"APPLICATION!$A$15","v":"FY 2020 Comprehensive DUI Enforcement Program for Resident Trooper Towns"},null,null,{"$f":"IF(APPLICATION!A21=\"\",\"\",APPLICATION!A21)","v":""}]
[]
[]
[]
[null,"Sobriety Check Point Work Sheet"]
[null,"8  OFFICERS PER CHECKPOINT MAXIMUM.\n  8 HOUR SHIFTS MAXIMUM"]
[null,"Core Enforcement Hours:  17:00 - 04:00"]
[]
["Date:  ","2017-11-22","Event:  "]
[null,null,"Hrs","Rate","Total"]
[null,"Enforcement Officer # 1: ",8,1,{"$f":"C381*D381","v":8}]
[null,"# 2: ",8,1,{"$f":"C382*D382","v":8}]
[null,"# 3: ",8,1,8]
[null,"# 4: ",8,1,8]
[null,"# 5: ",8,1,8]
[null,"# 6: ",8,1,8]
[null,"# 7: ",8,1,8]
[null,"# 8: ",8,1,8]
[]
["Date:  ","2017-11-23","Event:  "]
[null,null,"Hrs","Rate","Total"]
[null,"Enforcement Officer # 1: ",8,1,{"$f":"C392*D392","v":8}]
[null,"# 2: ",8,1,{"$f":"C393*D393","v":8}]
[null,"# 3: ",8,1,8]
[null,"# 4: ",8,1,8]
[null,"# 5: ",8,1,8]
[null,"# 6: ",8,1,8]
[null,"# 7: ",8,1,8]
[null,"# 8: ",8,1,8]
[]
["Date:  ","2017-11-24","Event:  "]
[null,null,"Hrs","Rate","Total"]
[null,"Enforcement Officer # 1: ",8,1,{"$f":"C403*D403","v":8}]
[null,"# 2: ",8,1,{"$f":"C404*D404","v":8}]
[null,"# 3: ",8,1,8]
[null,"# 4: ",8,1,8]
[null,"# 5: ",8,1,8]
[null,"# 6: ",8,1,8]
[null,"# 7: ",8,1,8]
[null,"# 8: ",8,1,8]
[]
[null,null,null,"Grand Total",{"$f":"SUM(E381:E388,E392:E399,E403:E410)","v":192}]
[]
[]
["PROJECT TITLE",null,null,"APPLICANT"]
[]
[{"$f":"APPLICATION!$A$15","v":"FY 2020 Comprehensive DUI Enforcement Program for Resident Trooper Towns"},null,null,{"$f":"IF(APPLICATION!A21=\"\",\"\",APPLICATION!A21)","v":""}]
[]
[]
[]
[null,"Sobriety Check Point Work Sheet"]
[null,"8  OFFICERS PER CHECKPOINT MAXIMUM.\n  8 HOUR SHIFTS MAXIMUM"]
[null,"Core Enforcement Hours:  17:00 - 04:00"]
[]
["Date:  ","2017-11-25","Event:  "]
[null,null,"Hrs","Rate","Total"]
[null,"Enforcement Officer # 1: ",8,1,{"$f":"C427*D427","v":8}]
[null,"# 2: ",8,1,{"$f":"C428*D428","v":8}]
[null,"# 3: ",8,1,8]
[null,"# 4: ",8,1,8]
[null,"# 5: ",8,1,8]
[null,"# 6: ",8,1,8]
[null,"# 7: ",8,1,8]
[null,"# 8: ",8,1,8]
[]
["Date:  ","2017-11-26","Event:  "]
[null,null,"Hrs","Rate","Total"]
[null,"Enforcement Officer # 1: ",8,1,{"$f":"C438*D438","v":8}]
[null,"# 2: ",8,1,{"$f":"C439*D439","v":8}]
[null,"# 3: ",8,1,8]
[null,"# 4: ",8,1,8]
[null,"# 5: ",8,1,8]
[null,"# 6: ",8,1,8]
[null,"# 7: ",8,1,8]
[null,"# 8: ",8,1,8]
[]
["Date:  ","2017-11-30","Event:  "]
[null,null,"Hrs","Rate","Total"]
[null,"Enforcement Officer # 1: ",8,1,{"$f":"C449*D449","v":8}]
[null,"# 2: ",8,1,{"$f":"C450*D450","v":8}]
[null,"# 3: ",8,1,8]
[null,"# 4: ",8,1,8]
[null,"# 5: ",8,1,8]
[null,"# 6: ",8,1,8]
[null,"# 7: ",8,1,8]
[null,"# 8: ",8,1,8]
[]
[null,null,null,"Grand Total",{"$f":"SUM(E427:E434,E438:E445,E449:E456)","v":192}]
[]
[]
["PROJECT TITLE",null,null,"APPLICANT"]
[]
[{"$f":"APPLICATION!$A$15","v":"FY 2020 Comprehensive DUI Enforcement Program for Resident Trooper Towns"},null,null,{"$f":"IF(APPLICATION!A21=\"\",\"\",APPLICATION!A21)","v":""}]
[]
[]
[]
[null,"Sobriety Check Point Work Sheet"]
[null,"8  OFFICERS PER CHECKPOINT MAXIMUM.\n  8 HOUR SHIFTS MAXIMUM"]
[null,"Core Enforcement Hours:  17:00 - 04:00"]
[]
["Date:  ","2017-12-01","Event:  "]
[null,null,"Hrs","Rate","Total"]
[null,"Enforcement Officer # 1: ",8,1,{"$f":"C473*D473","v":8}]
[null,"# 2: ",8,1,{"$f":"C474*D474","v":8}]
[null,"# 3: ",8,1,8]
[null,"# 4: ",8,1,8]
[null,"# 5: ",8,1,8]
[null,"# 6: ",8,1,8]
[null,"# 7: ",8,1,8]
[null,"# 8: ",8,1,8]
[]
["Date:  ","2017-12-02","Event:  "]
[null,null,"Hrs","Rate","Total"]
[null,"Enforcement Officer # 1: ",8,1,{"$f":"C484*D484","v":8}]
[null,"# 2: ",8,1,{"$f":"C485*D485","v":8}]
[null,"# 3: ",8,1,8]
[null,"# 4: ",8,1,8]
[null,"# 5: ",8,1,8]
[null,"# 6: ",8,1,8]
[null,"# 7: ",8,1,8]
[null,"# 8: ",8,1,8]
[]
["Date:  ","2017-12-07","Event:  "]
[null,null,"Hrs","Rate","Total"]
[null,"Enforcement Officer # 1: ",8,1,{"$f":"C495*D495","v":8}]
[null,"# 2: ",8,1,{"$f":"C496*D496","v":8}]
[null,"# 3: ",8,1,8]
[null,"# 4: ",8,1,8]
[null,"# 5: ",8,1,8]
[null,"# 6: ",8,1,8]
[null,"# 7: ",8,1,8]
[null,"# 8: ",8,1,8]
[]
[null,null,null,"Grand Total",{"$f":"SUM(E473:E480,E484:E491,E495:E502)","v":192}]
[]
[]
["PROJECT TITLE",null,null,"APPLICANT"]
[]
[{"$f":"APPLICATION!$A$15","v":"FY 2020 Comprehensive DUI Enforcement Program for Resident Trooper Towns"},null,null,{"$f":"IF(APPLICATION!A21=\"\",\"\",APPLICATION!A21)","v":""}]
[]
[]
[]
[null,"Sobriety Check Point Work Sheet"]
[null,"8  OFFICERS PER CHECKPOINT MAXIMUM.\n  8 HOUR SHIFTS MAXIMUM"]
[null,"Core Enforcement Hours:  17:00 - 04:00"]
[]
["Date:  ","2017-12-08","Event:  "]
[null,null,"Hrs","Rate","Total"]
[null,"Enforcement Officer # 1: ",8,1,{"$f":"C519*D519","v":8}]
[null,"# 2: ",8,1,{"$f":"C520*D520","v":8}]
[null,"# 3: ",8,1,8]
[null,"# 4: ",8,1,8]
[null,"# 5: ",8,1,8]
[null,"# 6: ",8,1,8]
[null,"# 7: ",8,1,8]
[null,"# 8: ",8,1,8]
[]
["Date:  ","2017-12-09","Event:  "]
[null,null,"Hrs","Rate","Total"]
[null,"Enforcement Officer # 1: ",8,1,{"$f":"C530*D530","v":8}]
[null,"# 2: ",8,1,{"$f":"C531*D531","v":8}]
[null,"# 3: ",8,1,8]
[null,"# 4: ",8,1,8]
[null,"# 5: ",8,1,8]
[null,"# 6: ",8,1,8]
[null,"# 7: ",8,1,8]
[null,"# 8: ",8,1,8]
[]
["Date:  ","2017-12-14","Event:  "]
[null,null,"Hrs","Rate","Total"]
[null,"Enforcement Officer # 1: ",8,1,{"$f":"C541*D541","v":8}]
[null,"# 2: ",8,1,{"$f":"C542*D542","v":8}]
[null,"# 3: ",8,1,8]
[null,"# 4: ",8,1,8]
[null,"# 5: ",8,1,8]
[null,"# 6: ",8,1,8]
[null,"# 7: ",8,1,8]
[null,"# 8: ",8,1,8]
[]
[null,null,null,"Grand Total",{"$f":"SUM(E519:E526,E530:E537,E541:E548)","v":192}]
[]
[]
["PROJECT TITLE",null,null,"APPLICANT"]
[]
[{"$f":"APPLICATION!$A$15","v":"FY 2020 Comprehensive DUI Enforcement Program for Resident Trooper Towns"},null,null,{"$f":"IF(APPLICATION!A21=\"\",\"\",APPLICATION!A21)","v":""}]
[]
[]
[]
[null,"Sobriety Check Point Work Sheet"]
[null,"8  OFFICERS PER CHECKPOINT MAXIMUM.\n  8 HOUR SHIFTS MAXIMUM"]
[null,"Core Enforcement Hours:  17:00 - 04:00"]
[]
["Date:  ","2017-12-15","Event:  "]
[null,null,"Hrs","Rate","Total"]
[null,"Enforcement Officer # 1: ",8,1,{"$f":"C565*D565","v":8}]
[null,"# 2: ",8,1,{"$f":"C566*D566","v":8}]
[null,"# 3: ",8,1,8]
[null,"# 4: ",8,1,8]
[null,"# 5: ",8,1,8]
[null,"# 6: ",8,1,8]
[null,"# 7: ",8,1,8]
[null,"# 8: ",8,1,8]
[]
["Date:  ","2017-12-16","Event:  "]
[null,null,"Hrs","Rate","Total"]
[null,"Enforcement Officer # 1: ",8,1,{"$f":"C576*D576","v":8}]
[null,"# 2: ",8,1,{"$f":"C577*D577","v":8}]
[null,"# 3: ",8,1,8]
[null,"# 4: ",8,1,8]
[null,"# 5: ",8,1,8]
[null,"# 6: ",8,1,8]
[null,"# 7: ",8,1,8]
[null,"# 8: ",8,1,8]
[]
["Date:  ","2017-12-17","Event:  "]
[null,null,"Hrs","Rate","Total"]
[null,"Enforcement Officer # 1: ",8,1,{"$f":"C587*D587","v":8}]
[null,"# 2: ",8,1,{"$f":"C588*D588","v":8}]
[null,"# 3: ",8,1,8]
[null,"# 4: ",8,1,8]
[null,"# 5: ",8,1,8]
[null,"# 6: ",8,1,8]
[null,"# 7: ",8,1,8]
[null,"# 8: ",8,1,8]
[]
[null,null,null,"Grand Total",{"$f":"SUM(E565:E572,E576:E583,E587:E594)","v":192}]
[]
[]
["PROJECT TITLE",null,null,"APPLICANT"]
[]
[{"$f":"APPLICATION!$A$15","v":"FY 2020 Comprehensive DUI Enforcement Program for Resident Trooper Towns"},null,null,{"$f":"IF(APPLICATION!A21=\"\",\"\",APPLICATION!A21)","v":""}]
[]
[]
[]
[null,"Sobriety Check Point Work Sheet"]
[null,"8  OFFICERS PER CHECKPOINT MAXIMUM.\n  8 HOUR SHIFTS MAXIMUM"]
[null,"Core Enforcement Hours:  17:00 - 04:00"]
[]
["Date:  ","2017-12-18","Event:  "]
[null,null,"Hrs","Rate","Total"]
[null,"Enforcement Officer # 1: ",8,1,{"$f":"C611*D611","v":8}]
[null,"# 2: ",8,1,{"$f":"C612*D612","v":8}]
[null,"# 3: ",8,1,8]
[null,"# 4: ",8,1,8]
[null,"# 5: ",8,1,8]
[null,"# 6: ",8,1,8]
[null,"# 7: ",8,1,8]
[null,"# 8: ",8,1,8]
[]
["Date:  ","2017-12-19","Event:  "]
[null,null,"Hrs","Rate","Total"]
[null,"Enforcement Officer # 1: ",8,1,{"$f":"C622*D622","v":8}]
[null,"# 2: ",8,1,{"$f":"C623*D623","v":8}]
[null,"# 3: ",8,1,8]
[null,"# 4: ",8,1,8]
[null,"# 5: ",8,1,8]
[null,"# 6: ",8,1,8]
[null,"# 7: ",8,1,8]
[null,"# 8: ",8,1,8]
[]
["Date:  ","2017-12-20","Event:  "]
[null,null,"Hrs","Rate","Total"]
[null,"Enforcement Officer # 1: ",8,1,{"$f":"C633*D633","v":8}]
[null,"# 2: ",8,1,{"$f":"C634*D634","v":8}]
[null,"# 3: ",8,1,8]
[null,"# 4: ",8,1,8]
[null,"# 5: ",8,1,8]
[null,"# 6: ",8,1,8]
[null,"# 7: ",8,1,8]
[null,"# 8: ",8,1,8]
[]
[null,null,null,"Grand Total",{"$f":"SUM(E611:E618,E622:E629,E633:E640)","v":192}]
[]
[]
["PROJECT TITLE",null,null,"APPLICANT"]
[]
[{"$f":"APPLICATION!$A$15","v":"FY 2020 Comprehensive DUI Enforcement Program for Resident Trooper Towns"},null,null,{"$f":"IF(APPLICATION!A21=\"\",\"\",APPLICATION!A21)","v":""}]
[]
[]
[]
[null,"Sobriety Check Point Work Sheet"]
[null,"8  OFFICERS PER CHECKPOINT MAXIMUM.\n  8 HOUR SHIFTS MAXIMUM"]
[null,"Core Enforcement Hours:  17:00 - 04:00"]
[]
["Date:  ","2017-12-21","Event:  "]
[null,null,"Hrs","Rate","Total"]
[null,"Enforcement Officer # 1: ",8,1,{"$f":"C657*D657","v":8}]
[null,"# 2: ",8,1,{"$f":"C658*D658","v":8}]
[null,"# 3: ",8,1,8]
[null,"# 4: ",8,1,8]
[null,"# 5: ",8,1,8]
[null,"# 6: ",8,1,8]
[null,"# 7: ",8,1,8]
[null,"# 8: ",8,1,8]
[]
["Date:  ","2017-12-22","Event:  "]
[null,null,"Hrs","Rate","Total"]
[null,"Enforcement Officer # 1: ",8,1,{"$f":"C668*D668","v":8}]
[null,"# 2: ",8,1,{"$f":"C669*D669","v":8}]
[null,"# 3: ",8,1,8]
[null,"# 4: ",8,1,8]
[null,"# 5: ",8,1,8]
[null,"# 6: ",8,1,8]
[null,"# 7: ",8,1,8]
[null,"# 8: ",8,1,8]
[]
["Date:  ","2017-12-23","Event:  "]
[null,null,"Hrs","Rate","Total"]
[null,"Enforcement Officer # 1: ",8,1,{"$f":"C679*D679","v":8}]
[null,"# 2: ",8,1,{"$f":"C680*D680","v":8}]
[null,"# 3: ",8,1,8]
[null,"# 4: ",8,1,8]
[null,"# 5: ",8,1,8]
[null,"# 6: ",8,1,8]
[null,"# 7: ",8,1,8]
[null,"# 8: ",8,1,8]
[]
[null,null,null,"Grand Total",{"$f":"SUM(E657:E664,E668:E675,E679:E686)","v":192}]
[]
[]
["PROJECT TITLE",null,null,"APPLICANT"]
[]
[{"$f":"APPLICATION!$A$15","v":"FY 2020 Comprehensive DUI Enforcement Program for Resident Trooper Towns"},null,null,{"$f":"IF(APPLICATION!A21=\"\",\"\",APPLICATION!A21)","v":""}]
[]
[]
[]
[null,"Sobriety Check Point Work Sheet"]
[null,"8  OFFICERS PER CHECKPOINT MAXIMUM.\n  8 HOUR SHIFTS MAXIMUM"]
[null,"Core Enforcement Hours:  17:00 - 04:00"]
[]
["Date:  ","2017-12-24","Event:  "]
[null,null,"Hrs","Rate","Total"]
[null,"Enforcement Officer # 1: ",8,1,{"$f":"C703*D703","v":8}]
[null,"# 2: ",8,1,{"$f":"C704*D704","v":8}]
[null,"# 3: ",8,1,8]
[null,"# 4: ",8,1,8]
[null,"# 5: ",8,1,8]
[null,"# 6: ",8,1,8]
[null,"# 7: ",8,1,8]
[null,"# 8: ",8,1,8]
[]
["Date:  ","2017-12-25","Event:  "]
[null,null,"Hrs","Rate","Total"]
[null,"Enforcement Officer # 1: ",8,1,{"$f":"C714*D714","v":8}]
[null,"# 2: ",8,1,{"$f":"C715*D715","v":8}]
[null,"# 3: ",8,1,8]
[null,"# 4: ",8,1,8]
[null,"# 5: ",8,1,8]
[null,"# 6: ",8,1,8]
[null,"# 7: ",8,1,8]
[null,"# 8: ",8,1,8]
[]
["Date:  ","2017-12-26","Event:  "]
[null,null,"Hrs","Rate","Total"]
[null,"Enforcement Officer # 1: ",8,1,{"$f":"C725*D725","v":8}]
[null,"# 2: ",8,1,{"$f":"C726*D726","v":8}]
[null,"# 3: ",8,1,8]
[null,"# 4: ",8,1,8]
[null,"# 5: ",8,1,8]
[null,"# 6: ",8,1,8]
[null,"# 7: ",8,1,8]
[null,"# 8: ",8,1,8]
[]
[null,null,null,"Grand Total",{"$f":"SUM(E703:E710,E714:E721,E725:E732)","v":192}]
[]
[]
["PROJECT TITLE",null,null,"APPLICANT"]
[]
[{"$f":"APPLICATION!$A$15","v":"FY 2020 Comprehensive DUI Enforcement Program for Resident Trooper Towns"},null,null,{"$f":"IF(APPLICATION!A21=\"\",\"\",APPLICATION!A21)","v":""}]
[]
[]
[]
[null,"Sobriety Check Point Work Sheet"]
[null,"8  OFFICERS PER CHECKPOINT MAXIMUM.\n  8 HOUR SHIFTS MAXIMUM"]
[null,"Core Enforcement Hours:  17:00 - 04:00"]
[]
["Date:  ","2017-12-27","Event:  "]
[null,null,"Hrs","Rate","Total"]
[null,"Enforcement Officer # 1: ",8,1,{"$f":"C749*D749","v":8}]
[null,"# 2: ",8,1,{"$f":"C750*D750","v":8}]
[null,"# 3: ",8,1,8]
[null,"# 4: ",8,1,8]
[null,"# 5: ",8,1,8]
[null,"# 6: ",8,1,8]
[null,"# 7: ",8,1,8]
[null,"# 8: ",8,1,8]
[]
["Date:  ","2017-12-28","Event:  "]
[null,null,"Hrs","Rate","Total"]
[null,"Enforcement Officer # 1: ",8,1,{"$f":"C760*D760","v":8}]
[null,"# 2: ",8,1,{"$f":"C761*D761","v":8}]
[null,"# 3: ",8,1,8]
[null,"# 4: ",8,1,8]
[null,"# 5: ",8,1,8]
[null,"# 6: ",8,1,8]
[null,"# 7: ",8,1,8]
[null,"# 8: ",8,1,8]
[]
["Date:  ","2017-12-29","Event:  "]
[null,null,"Hrs","Rate","Total"]
[null,"Enforcement Officer # 1: ",8,1,{"$f":"C771*D771","v":8}]
[null,"# 2: ",8,1,{"$f":"C772*D772","v":8}]
[null,"# 3: ",8,1,8]
[null,"# 4: ",8,1,8]
[null,"# 5: ",8,1,8]
[null,"# 6: ",8,1,8]
[null,"# 7: ",8,1,8]
[null,"# 8: ",8,1,8]
[]
[null,null,null,"Grand Total",{"$f":"SUM(E749:E756,E760:E767,E771:E778)","v":192}]
[]
[]
["PROJECT TITLE",null,null,"APPLICANT"]
[]
[{"$f":"APPLICATION!$A$15","v":"FY 2020 Comprehensive DUI Enforcement Program for Resident Trooper Towns"},null,null,{"$f":"IF(APPLICATION!A21=\"\",\"\",APPLICATION!A21)","v":""}]
[]
[]
[]
[null,"Sobriety Check Point Work Sheet"]
[null,"8  OFFICERS PER CHECKPOINT MAXIMUM.\n  8 HOUR SHIFTS MAXIMUM"]
[null,"Core Enforcement Hours:  17:00 - 04:00"]
[]
["Date:  ","2017-12-30","Event:  "]
[null,null,"Hrs","Rate","Total"]
[null,"Enforcement Officer # 1: ",8,1,{"$f":"C795*D795","v":8}]
[null,"# 2: ",8,1,{"$f":"C796*D796","v":8}]
[null,"# 3: ",8,1,8]
[null,"# 4: ",8,1,8]
[null,"# 5: ",8,1,8]
[null,"# 6: ",8,1,8]
[null,"# 7: ",8,1,8]
[null,"# 8: ",8,1,8]
[]
["Date:  ","2017-12-31","Event:  "]
[null,null,"Hrs","Rate","Total"]
[null,"Enforcement Officer # 1: ",8,1,{"$f":"C806*D806","v":8}]
[null,"# 2: ",8,1,{"$f":"C807*D807","v":8}]
[null,"# 3: ",8,1,8]
[null,"# 4: ",8,1,8]
[null,"# 5: ",8,1,8]
[null,"# 6: ",8,1,8]
[null,"# 7: ",8,1,8]
[null,"# 8: ",8,1,8]
[]
["Date:  ","2018-01-01","Event:  "]
[null,null,"Hrs","Rate","Total"]
[null,"Enforcement Officer # 1: ",8,1,{"$f":"C817*D817","v":8}]
[null,"# 2: ",8,1,{"$f":"C818*D818","v":8}]
[null,"# 3: ",8,1,8]
[null,"# 4: ",8,1,8]
[null,"# 5: ",8,1,8]
[null,"# 6: ",8,1,8]
[null,"# 7: ",8,1,8]
[null,"# 8: ",8,1,8]
[]
[null,null,null,"Grand Total",{"$f":"SUM(E795:E802,E806:E813,E817:E824)","v":192}]
[]
[]
["PROJECT TITLE",null,null,"APPLICANT"]
[]
[{"$f":"APPLICATION!$A$15","v":"FY 2020 Comprehensive DUI Enforcement Program for Resident Trooper Towns"},null,null,{"$f":"IF(APPLICATION!A66=\"\",\"\",APPLICATION!A66)","v":""}]
[]
[]
[]
[null,"Sobriety Check Point Work Sheet"]
[null,"8  OFFICERS PER CHECKPOINT MAXIMUM.\n  8 HOUR SHIFTS MAXIMUM"]
[null,"Core Enforcement Hours:  17:00 - 04:00"]
[]
["Date:  ","2018-01-04","Event:  "]
[null,null,"Hrs","Rate","Total"]
[null,"Enforcement Officer # 1: ",8,1,{"$f":"C841*D841","v":8}]
[null,"# 2: ",8,1,{"$f":"C842*D842","v":8}]
[null,"# 3: ",8,1,8]
[null,"# 4: ",8,1,8]
[null,"# 5: ",8,1,8]
[null,"# 6: ",8,1,8]
[null,"# 7: ",8,1,8]
[null,"# 8: ",8,1,8]
[]
["Date:  ","2018-01-05","Event:  "]
[null,null,"Hrs","Rate","Total"]
[null,"Enforcement Officer # 1: ",8,1,{"$f":"C852*D852","v":8}]
[null,"# 2: ",8,1,{"$f":"C853*D853","v":8}]
[null,"# 3: ",8,1,8]
[null,"# 4: ",8,1,8]
[null,"# 5: ",8,1,8]
[null,"# 6: ",8,1,8]
[null,"# 7: ",8,1,8]
[null,"# 8: ",8,1,8]
[]
["Date:  ","2018-01-06","Event:  "]
[null,null,"Hrs","Rate","Total"]
[null,"Enforcement Officer # 1: ",8,1,{"$f":"C863*D863","v":8}]
[null,"# 2: ",8,1,{"$f":"C864*D864","v":8}]
[null,"# 3: ",8,1,8]
[null,"# 4: ",8,1,8]
[null,"# 5: ",8,1,8]
[null,"# 6: ",8,1,8]
[null,"# 7: ",8,1,8]
[null,"# 8: ",8,1,8]
[]
[null,null,null,"Grand Total",{"$f":"SUM(E841:E848,E852:E859,E863:E870)","v":192}]
[]
[]
["PROJECT TITLE",null,null,"APPLICANT"]
[]
[{"$f":"APPLICATION!$A$15","v":"FY 2020 Comprehensive DUI Enforcement Program for Resident Trooper Towns"},null,null,{"$f":"IF(APPLICATION!A112=\"\",\"\",APPLICATION!A112)","v":""}]
[]
[]
[]
[null,"Sobriety Check Point Work Sheet"]
[null,"8  OFFICERS PER CHECKPOINT MAXIMUM.\n  8 HOUR SHIFTS MAXIMUM"]
[null,"Core Enforcement Hours:  17:00 - 04:00"]
[]
["Date:  ","2018-01-11","Event:  "]
[null,null,"Hrs","Rate","Total"]
[null,"Enforcement Officer # 1: ",8,1,{"$f":"C887*D887","v":8}]
[null,"# 2: ",8,1,{"$f":"C888*D888","v":8}]
[null,"# 3: ",8,1,8]
[null,"# 4: ",8,1,8]
[null,"# 5: ",8,1,8]
[null,"# 6: ",8,1,8]
[null,"# 7: ",8,1,8]
[null,"# 8: ",8,1,8]
[]
["Date:  ","2018-01-12","Event:  "]
[null,null,"Hrs","Rate","Total"]
[null,"Enforcement Officer # 1: ",8,1,{"$f":"C898*D898","v":8}]
[null,"# 2: ",8,1,{"$f":"C899*D899","v":8}]
[null,"# 3: ",8,1,8]
[null,"# 4: ",8,1,8]
[null,"# 5: ",8,1,8]
[null,"# 6: ",8,1,8]
[null,"# 7: ",8,1,8]
[null,"# 8: ",8,1,8]
[]
["Date:  ","2018-01-13","Event:  "]
[null,null,"Hrs","Rate","Total"]
[null,"Enforcement Officer # 1: ",8,1,{"$f":"C909*D909","v":8}]
[null,"# 2: ",8,1,{"$f":"C910*D910","v":8}]
[null,"# 3: ",8,1,8]
[null,"# 4: ",8,1,8]
[null,"# 5: ",8,1,8]
[null,"# 6: ",8,1,8]
[null,"# 7: ",8,1,8]
[null,"# 8: ",8,1,8]
[]
[null,null,null,"Grand Total",{"$f":"SUM(E887:E894,E898:E905,E909:E916)","v":192}]
[]
[]
["PROJECT TITLE",null,null,"APPLICANT"]
[]
[{"$f":"APPLICATION!$A$15","v":"FY 2020 Comprehensive DUI Enforcement Program for Resident Trooper Towns"},null,null,{"$f":"IF(APPLICATION!A158=\"\",\"\",APPLICATION!A158)","v":""}]
[]
[]
[]
[null,"Sobriety Check Point Work Sheet"]
[null,"8  OFFICERS PER CHECKPOINT MAXIMUM.\n  8 HOUR SHIFTS MAXIMUM"]
[null,"Core Enforcement Hours:  17:00 - 04:00"]
[]
["Date:  ","2018-01-18","Event:  "]
[null,null,"Hrs","Rate","Total"]
[null,"Enforcement Officer # 1: ",8,1,{"$f":"C933*D933","v":8}]
[null,"# 2: ",8,1,{"$f":"C934*D934","v":8}]
[null,"# 3: ",8,1,8]
[null,"# 4: ",8,1,8]
[null,"# 5: ",8,1,8]
[null,"# 6: ",8,1,8]
[null,"# 7: ",8,1,8]
[null,"# 8: ",8,1,8]
[]
["Date:  ","2018-01-19","Event:  "]
[null,null,"Hrs","Rate","Total"]
[null,"Enforcement Officer # 1: ",8,1,{"$f":"C944*D944","v":8}]
[null,"# 2: ",8,1,{"$f":"C945*D945","v":8}]
[null,"# 3: ",8,1,8]
[null,"# 4: ",8,1,8]
[null,"# 5: ",8,1,8]
[null,"# 6: ",8,1,8]
[null,"# 7: ",8,1,8]
[null,"# 8: ",8,1,8]
[]
["Date:  ","2018-01-20","Event:  "]
[null,null,"Hrs","Rate","Total"]
[null,"Enforcement Officer # 1: ",8,1,{"$f":"C955*D955","v":8}]
[null,"# 2: ",8,1,{"$f":"C956*D956","v":8}]
[null,"# 3: ",8,1,8]
[null,"# 4: ",8,1,8]
[null,"# 5: ",8,1,8]
[null,"# 6: ",8,1,8]
[null,"# 7: ",8,1,8]
[null,"# 8: ",8,1,8]
[]
[null,null,null,"Grand Total",{"$f":"SUM(E933:E940,E944:E951,E955:E962)","v":192}]
[]
[]
["PROJECT TITLE",null,null,"APPLICANT"]
[]
[{"$f":"APPLICATION!$A$15","v":"FY 2020 Comprehensive DUI Enforcement Program for Resident Trooper Towns"},null,null,{"$f":"IF(APPLICATION!A204=\"\",\"\",APPLICATION!A204)","v":""}]
[]
[]
[]
[null,"Sobriety Check Point Work Sheet"]
[null,"8  OFFICERS PER CHECKPOINT MAXIMUM.\n  8 HOUR SHIFTS MAXIMUM"]
[null,"Core Enforcement Hours:  17:00 - 04:00"]
[]
["Date:  ","2018-01-25","Event:  "]
[null,null,"Hrs","Rate","Total"]
[null,"Enforcement Officer # 1: ",8,1,{"$f":"C979*D979","v":8}]
[null,"# 2: ",8,1,{"$f":"C980*D980","v":8}]
[null,"# 3: ",8,1,8]
[null,"# 4: ",8,1,8]
[null,"# 5: ",8,1,8]
[null,"# 6: ",8,1,8]
[null,"# 7: ",8,1,8]
[null,"# 8: ",8,1,8]
[]
["Date:  ","2018-01-26","Event:  "]
[null,null,"Hrs","Rate","Total"]
[null,"Enforcement Officer # 1: ",8,1,{"$f":"C990*D990","v":8}]
[null,"# 2: ",8,1,{"$f":"C991*D991","v":8}]
[null,"# 3: ",8,1,8]
[null,"# 4: ",8,1,8]
[null,"# 5: ",8,1,8]
[null,"# 6: ",8,1,8]
[null,"# 7: ",8,1,8]
[null,"# 8: ",8,1,8]
[]
["Date:  ","2018-01-27","Event:  "]
[null,null,"Hrs","Rate","Total"]
[null,"Enforcement Officer # 1: ",8,1,{"$f":"C1001*D1001","v":8}]
[null,"# 2: ",8,1,{"$f":"C1002*D1002","v":8}]
[null,"# 3: ",8,1,8]
[null,"# 4: ",8,1,8]
[null,"# 5: ",8,1,8]
[null,"# 6: ",8,1,8]
[null,"# 7: ",8,1,8]
[null,"# 8: ",8,1,8]
[]
[null,null,null,"Grand Total",{"$f":"SUM(E979:E986,E990:E997,E1001:E1008)","v":192}]
[]
[]
["PROJECT TITLE",null,null,"APPLICANT"]
[]
[{"$f":"APPLICATION!$A$15","v":"FY 2020 Comprehensive DUI Enforcement Program for Resident Trooper Towns"},null,null,{"$f":"IF(APPLICATION!A250=\"\",\"\",APPLICATION!A250)","v":""}]
[]
[]
[]
[null,"Sobriety Check Point Work Sheet"]
[null,"8  OFFICERS PER CHECKPOINT MAXIMUM.\n  8 HOUR SHIFTS MAXIMUM"]
[null,"Core Enforcement Hours:  17:00 - 04:00"]
[]
["Date:  ",null,"Event:  "]
[null,null,"Hrs","Rate","Total"]
[null,"Enforcement Officer # 1: ",8,1,{"$f":"C1025*D1025","v":8}]
[null,"# 2: ",8,1,{"$f":"C1026*D1026","v":8}]
[null,"# 3: ",8,1,8]
[null,"# 4: ",8,1,8]
[null,"# 5: ",8,1,8]
[null,"# 6: ",8,1,8]
[null,"# 7: ",8,1,8]
[null,"# 8: ",8,1,8]
[]
["Date:  ",null,"Event:  "]
[null,null,"Hrs","Rate","Total"]
[null,"Enforcement Officer # 1: ",8,1,{"$f":"C1036*D1036","v":8}]
[null,"# 2: ",8,1,{"$f":"C1037*D1037","v":8}]
[null,"# 3: ",8,1,8]
[null,"# 4: ",8,1,8]
[null,"# 5: ",8,1,8]
[null,"# 6: ",8,1,8]
[null,"# 7: ",8,1,8]
[null,"# 8: ",8,1,8]
[]
["Date:  ",null,"Event:  "]
[null,null,"Hrs","Rate","Total"]
[null,"Enforcement Officer # 1: ",8,1,{"$f":"C1047*D1047","v":8}]
[null,"# 2: ",8,1,{"$f":"C1048*D1048","v":8}]
[null,"# 3: ",8,1,8]
[null,"# 4: ",8,1,8]
[null,"# 5: ",8,1,8]
[null,"# 6: ",8,1,8]
[null,"# 7: ",8,1,8]
[null,"# 8: ",8,1,8]
[]
[null,null,null,"Grand Total",{"$f":"SUM(E1025:E1032,E1036:E1043,E1047:E1054)","v":192}]
[]
[]
["PROJECT TITLE",null,null,"APPLICANT"]
[]
[{"$f":"APPLICATION!$A$15","v":"FY 2020 Comprehensive DUI Enforcement Program for Resident Trooper Towns"},null,null,{"$f":"IF(APPLICATION!A296=\"\",\"\",APPLICATION!A296)","v":""}]
[]
[]
[]
[null,"Sobriety Check Point Work Sheet"]
[null,"8  OFFICERS PER CHECKPOINT MAXIMUM.\n  8 HOUR SHIFTS MAXIMUM"]
[null,"Core Enforcement Hours:  17:00 - 04:00"]
[]
["Date:  ",null,"Event:  "]
[null,null,"Hrs","Rate","Total"]
[null,"Enforcement Officer # 1: ",8,1,{"$f":"C1071*D1071","v":8}]
[null,"# 2: ",8,1,{"$f":"C1072*D1072","v":8}]
[null,"# 3: ",8,1,8]
[null,"# 4: ",8,1,8]
[null,"# 5: ",8,1,8]
[null,"# 6: ",8,1,8]
[null,"# 7: ",8,1,8]
[null,"# 8: ",8,1,8]
[]
["Date:  ",null,"Event:  "]
[null,null,"Hrs","Rate","Total"]
[null,"Enforcement Officer # 1: ",8,1,{"$f":"C1082*D1082","v":8}]
[null,"# 2: ",8,1,{"$f":"C1083*D1083","v":8}]
[null,"# 3: ",8,1,8]
[null,"# 4: ",8,1,8]
[null,"# 5: ",8,1,8]
[null,"# 6: ",8,1,8]
[null,"# 7: ",8,1,8]
[null,"# 8: ",8,1,8]
[]
["Date:  ",null,"Event:  "]
[null,null,"Hrs","Rate","Total"]
[null,"Enforcement Officer # 1: ",8,1,{"$f":"C1093*D1093","v":8}]
[null,"# 2: ",8,1,{"$f":"C1094*D1094","v":8}]
[null,"# 3: ",8,1,8]
[null,"# 4: ",8,1,8]
[null,"# 5: ",8,1,8]
[null,"# 6: ",8,1,8]
[null,"# 7: ",8,1,8]
[null,"# 8: ",8,1,8]
[]
[null,null,null,"Grand Total",{"$f":"SUM(E1071:E1078,E1082:E1089,E1093:E1100)","v":192}]
[]
[]
["PROJECT TITLE",null,null,"APPLICANT"]
[]
[{"$f":"APPLICATION!$A$15","v":"FY 2020 Comprehensive DUI Enforcement Program for Resident Trooper Towns"},null,null,{"$f":"IF(APPLICATION!A342=\"\",\"\",APPLICATION!A342)","v":""}]
[]
[]
[]
[null,"Sobriety Check Point Work Sheet"]
[null,"8  OFFICERS PER CHECKPOINT MAXIMUM.\n  8 HOUR SHIFTS MAXIMUM"]
[null,"Core Enforcement Hours:  17:00 - 04:00"]
[]
["Date:  ",null,"Event:  "]
[null,null,"Hrs","Rate","Total"]
[null,"Enforcement Officer # 1: ",8,1,{"$f":"C1117*D1117","v":8}]
[null,"# 2: ",8,1,{"$f":"C1118*D1118","v":8}]
[null,"# 3: ",8,1,8]
[null,"# 4: ",8,1,8]
[null,"# 5: ",8,1,8]
[null,"# 6: ",8,1,8]
[null,"# 7: ",8,1,8]
[null,"# 8: ",8,1,8]
[]
["Date:  ",null,"Event:  "]
[null,null,"Hrs","Rate","Total"]
[null,"Enforcement Officer # 1: ",8,1,{"$f":"C1128*D1128","v":8}]
[null,"# 2: ",8,1,{"$f":"C1129*D1129","v":8}]
[null,"# 3: ",8,1,8]
[null,"# 4: ",8,1,8]
[null,"# 5: ",8,1,8]
[null,"# 6: ",8,1,8]
[null,"# 7: ",8,1,8]
[null,"# 8: ",8,1,8]
[]
["Date:  ",null,"Event:  "]
[null,null,"Hrs","Rate","Total"]
[null,"Enforcement Officer # 1: ",8,1,{"$f":"C1139*D1139","v":8}]
[null,"# 2: ",8,1,{"$f":"C1140*D1140","v":8}]
[null,"# 3: ",8,1,8]
[null,"# 4: ",8,1,8]
[null,"# 5: ",8,1,8]
[null,"# 6: ",8,1,8]
[null,"# 7: ",8,1,8]
[null,"# 8: ",8,1,8]
[]
[null,null,null,"Grand Total",{"$f":"SUM(E1117:E1124,E1128:E1135,E1139:E1146)","v":192}]
[]
[]
["PROJECT TITLE",null,null,"APPLICANT"]
[]
[{"$f":"APPLICATION!$A$15","v":"FY 2020 Comprehensive DUI Enforcement Program for Resident Trooper Towns"},null,null,{"$f":"IF(APPLICATION!A388=\"\",\"\",APPLICATION!A388)","v":""}]
[]
[]
[]
[null,"Sobriety Check Point Work Sheet"]
[null,"8  OFFICERS PER CHECKPOINT MAXIMUM.\n  8 HOUR SHIFTS MAXIMUM"]
[null,"Core Enforcement Hours:  17:00 - 04:00"]
[]
["Date:  ",null,"Event:  "]
[null,null,"Hrs","Rate","Total"]
[null,"Enforcement Officer # 1: ",8,1,{"$f":"C1163*D1163","v":8}]
[null,"# 2: ",8,1,{"$f":"C1164*D1164","v":8}]
[null,"# 3: ",8,1,8]
[null,"# 4: ",8,1,8]
[null,"# 5: ",8,1,8]
[null,"# 6: ",8,1,8]
[null,"# 7: ",8,1,8]
[null,"# 8: ",8,1,8]
[]
["Date:  ",null,"Event:  "]
[null,null,"Hrs","Rate","Total"]
[null,"Enforcement Officer # 1: ",8,1,{"$f":"C1174*D1174","v":8}]
[null,"# 2: ",8,1,{"$f":"C1175*D1175","v":8}]
[null,"# 3: ",8,1,8]
[null,"# 4: ",8,1,8]
[null,"# 5: ",8,1,8]
[null,"# 6: ",8,1,8]
[null,"# 7: ",8,1,8]
[null,"# 8: ",8,1,8]
[]
["Date:  ",null,"Event:  "]
[null,null,"Hrs","Rate","Total"]
[null,"Enforcement Officer # 1: ",8,1,{"$f":"C1185*D1185","v":8}]
[null,"# 2: ",8,1,{"$f":"C1186*D1186","v":8}]
[null,"# 3: ",8,1,8]
[null,"# 4: ",8,1,8]
[null,"# 5: ",8,1,8]
[null,"# 6: ",8,1,8]
[null,"# 7: ",8,1,8]
[null,"# 8: ",8,1,8]
[]
[null,null,null,"Grand Total",{"$f":"SUM(E1163:E1170,E1174:E1181,E1185:E1192)","v":192}]
[]
[]
["PROJECT TITLE",null,null,"APPLICANT"]
[]
[{"$f":"APPLICATION!$A$15","v":"FY 2020 Comprehensive DUI Enforcement Program for Resident Trooper Towns"},null,null,{"$f":"IF(APPLICATION!A434=\"\",\"\",APPLICATION!A434)","v":""}]
[]
[]
[]
[null,"Sobriety Check Point Work Sheet"]
[null,"8  OFFICERS PER CHECKPOINT MAXIMUM.\n  8 HOUR SHIFTS MAXIMUM"]
[null,"Core Enforcement Hours:  17:00 - 04:00"]
[]
["Date:  ",null,"Event:  "]
[null,null,"Hrs","Rate","Total"]
[null,"Enforcement Officer # 1: ",8,1,{"$f":"C1209*D1209","v":8}]
[null,"# 2: ",8,1,{"$f":"C1210*D1210","v":8}]
[null,"# 3: ",8,1,8]
[null,"# 4: ",8,1,8]
[null,"# 5: ",8,1,8]
[null,"# 6: ",8,1,8]
[null,"# 7: ",8,1,8]
[null,"# 8: ",8,1,8]
[]
["Date:  ",null,"Event:  "]
[null,null,"Hrs","Rate","Total"]
[null,"Enforcement Officer # 1: ",8,1,{"$f":"C1220*D1220","v":8}]
[null,"# 2: ",8,1,{"$f":"C1221*D1221","v":8}]
[null,"# 3: ",8,1,8]
[null,"# 4: ",8,1,8]
[null,"# 5: ",8,1,8]
[null,"# 6: ",8,1,8]
[null,"# 7: ",8,1,8]
[null,"# 8: ",8,1,8]
[]
["Date:  ",null,"Event:  "]
[null,null,"Hrs","Rate","Total"]
[null,"Enforcement Officer # 1: ",8,1,{"$f":"C1231*D1231","v":8}]
[null,"# 2: ",8,1,{"$f":"C1232*D1232","v":8}]
[null,"# 3: ",8,1,8]
[null,"# 4: ",8,1,8]
[null,"# 5: ",8,1,8]
[null,"# 6: ",8,1,8]
[null,"# 7: ",8,1,8]
[null,"# 8: ",8,1,8]
[]
[null,null,null,"Grand Total",{"$f":"SUM(E1209:E1216,E1220:E1227,E1231:E1238)","v":192}]

{"sheet":"ACTIVITY","index":19,"n_rows":853,"n_cols":10,"rows_kept":853,"cut":false,"hidden":true,"merged":[[526,3,526,5],[531,3,531,5],[475,3,475,5],[490,3,490,5],[398,0,401,2],[398,3,399,5],[358,3,358,5],[388,3,388,5],[363,3,363,5],[368,3,368,5],[373,3,373,5],[383,3,383,5],[378,3,378,5],[396,0,397,2],[396,3,397,5],[460,3,460,5],[465,3,465,5],[409,3,409,5],[414,3,414,5],[451,3,452,5],[447,3,448,5],[449,3,450,5],[400,3,401,5],[419,3,419,5],[192,0,193,2],[192,3,193,5],[194,3,195,5],[196,3,197,5],[194,0,197,2],[245,3,246,5],[205,3,205,5],[230,3,230,5],[210,3,210,5],[225,3,225,5],[220,3,220,5],[215,3,215,5],[235,3,235,5],[245,0,248,2],[247,3,248,5],[243,0,244,2],[243,3,244,5],[347,0,350,2],[347,3,348,5],[349,3,350,5],[261,3,261,5],[281,3,281,5],[266,3,266,5],[294,3,295,5],[271,3,271,5],[286,3,286,5],[294,0,295,2],[296,3,297,5],[337,3,337,5],[327,3,327,5],[256,3,256,5],[332,3,332,5],[345,0,346,2],[345,3,346,5],[296,0,299,2],[312,3,312,5],[307,3,307,5],[276,3,276,5],[322,3,322,5],[317,3,317,5],[298,3,299,5],[424,3,424,5],[429,3,429,5],[434,3,434,5],[439,3,439,5],[447,0,448,2],[449,0,452,2],[498,0,499,2],[498,3,499,5],[480,3,480,5],[485,3,485,5],[500,0,503,2],[500,3,501,5],[502,3,503,5],[470,3,470,5],[541,3,541,5],[511,3,511,5],[516,3,516,5],[521,3,521,5],[638,3,638,5],[536,3,536,5],[587,3,587,5],[592,3,592,5],[600,0,601,2],[600,3,601,5],[567,3,567,5],[572,3,572,5],[577,3,577,5],[582,3,582,5],[562,3,562,5],[549,0,550,2],[549,3,550,5],[551,0,554,2],[551,3,552,5],[553,3,554,5],[643,3,643,5],[651,0,652,2],[651,3,652,5],[618,3,618,5],[623,3,623,5],[628,3,628,5],[633,3,633,5],[602,0,605,2],[602,3,603,5],[604,3,605,5],[613,3,613,5],[694,3,694,5],[702,0,703,2],[702,3,703,5],[669,3,669,5],[674,3,674,5],[679,3,679,5],[684,3,684,5],[653,0,656,2],[653,3,654,5],[655,3,656,5],[664,3,664,5],[740,3,740,5],[745,3,745,5],[753,0,754,2],[753,3,754,5],[720,3,720,5],[725,3,725,5],[730,3,730,5],[735,3,735,5],[704,0,707,2],[704,3,705,5],[706,3,707,5],[715,3,715,5],[804,0,805,2],[804,3,805,5],[771,3,771,5],[776,3,776,5],[781,3,781,5],[786,3,786,5],[755,0,758,2],[755,3,756,5],[757,3,758,5],[766,3,766,5],[761,3,761,5],[9,1,9,4],[10,1,10,4],[11,1,13,4],[16,3,16,5],[842,3,842,5],[847,3,847,5],[0,0,1,2],[0,3,1,5],[2,0,5,2],[2,3,3,5],[4,3,5,5],[6,2,6,3],[7,1,7,4],[8,1,8,4],[822,3,822,5],[827,3,827,5],[832,3,832,5],[837,3,837,5],[806,0,809,2],[806,3,807,5],[808,3,809,5],[817,3,817,5],[791,3,791,5],[796,3,796,5],[41,0,44,2],[41,3,42,5],[43,3,44,5],[52,3,52,5],[21,3,21,5],[26,3,26,5],[31,3,31,5],[39,0,40,2],[39,3,40,5],[90,0,91,2],[90,3,91,5],[92,0,95,2],[92,3,93,5],[94,3,95,5],[103,3,103,5],[108,3,108,5],[57,3,57,5],[62,3,62,5],[67,3,67,5],[72,3,72,5],[141,0,142,2],[141,3,142,5],[143,0,146,2],[143,3,144,5],[145,3,146,5],[113,3,113,5],[118,3,118,5],[123,3,123,5],[128,3,128,5],[133,3,133,5],[353,3,353,5],[404,3,404,5],[455,3,455,5],[506,3,506,5],[557,3,557,5],[608,3,608,5],[659,3,659,5],[710,3,710,5],[47,3,47,5],[98,3,98,5],[149,3,149,5],[200,3,200,5],[251,3,251,5],[302,3,302,5],[184,3,184,5],[154,3,154,5],[159,3,159,5],[164,3,164,5],[169,3,169,5],[174,3,174,5],[179,3,179,5],[77,3,77,5],[82,3,82,5],[689,3,689,5]]}
["PROJECT TITLE",null,null,"APPLICANT"]
[]
[{"$f":"APPLICATION!A15","v":"FY 2020 Comprehensive DUI Enforcement Program for Resident Trooper Towns"},null,null,{"$f":"IF(APPLICATION!A21=\"\",\"\",APPLICATION!A21)","v":""}]
[]
[]
[]
[null,null,"PROJECT COST WORK SHEET"]
[null,"Only one Officer allowed per Vehicle at any one time"]
[null,"Defined Program Parameters"]
[null,"Core Enforcement Hours:  17:00 - 04:00"]
[null,"NO SHIFT TO EXCEED 8 HOURS\n PER ENFORCEMENT PERIOD\n\nEXPANDED DUI ENFORCEMENT TO BE CONDUCTED DURING THE CORE DAYS OF\n THURSDAY 17:00 - SUNDAY 04:00 ONLY."]
[]
[]
[]
[null,null,"EXPANDED DUI ENFORCEMENT DATES"]
[]
["Date:  ",{"$f":"'EXP DATES'!#REF!","v":{"$error":"#REF!"}},"Event:  ",null,null,null,null,null,8,1]
[null,null,"Hrs","Rate","Total",null,null,null,8,1]
[null,"Enforcement Officer # 1: ",8,1,{"$f":"C19*D19","v":8}]
[null,"# 2: ",8,1,{"$f":"C20*D20","v":8}]
[]
["Date:  ",{"$f":"'EXP DATES'!A1","v":"2019-10-03"},"Event:  "]
[null,null,"Hrs","Rate","Total"]
[null,"Enforcement Officer # 1: ",8,1,{"$f":"C24*D24","v":8}]
[null,"# 2: ",8,1,{"$f":"C25*D25","v":8}]
[]
["Date:  ",{"$f":"'EXP DATES'!A2","v":"2019-10-04"},"Event:  "]
[null,null,"Hrs","Rate","Total"]
[null,"Enforcement Officer # 1: ",8,1,{"$f":"C29*D29","v":8}]
[null,"# 2: ",8,1,{"$f":"C30*D30","v":8}]
[]
["Date:  ",{"$f":"'EXP DATES'!A3","v":"2019-10-05"},"Event:  "]
[null,null,"Hrs","Rate","Total"]
[null,"Enforcement Officer # 1: ",8,1,{"$f":"C34*D34","v":8}]
[null,"# 2: ",8,1,{"$f":"C35*D35","v":8}]
[]
[null,null,null,"Grand Total",{"$f":"SUM(E19:E20,E24:E25,E29:E30,E34:E35)","v":64}]
[]
[]
["PROJECT TITLE",null,null,"APPLICANT"]
[]
[{"$f":"APPLICATION!$A$15","v":"FY 2020 Comprehensive DUI Enforcement Program for Resident Trooper Towns"},null,null,{"$f":"IF(APPLICATION!A21=\"\",\"\",APPLICATION!A21)","v":""}]
[]
[]
[]
[null,null,"EXPANDED DUI ENFORCEMENT DATES"]
[]
["Date:  ",{"$f":"'EXP DATES'!A4","v":"2019-10-10"},"Event:  "]
[null,null,"Hrs","Rate","Total"]
[null,"Enforcement Officer # 1: ",8,1,{"$f":"C50*D50","v":8}]
[null,"# 2: ",8,1,{"$f":"C51*D51","v":8}]
[]
["Date:  ",{"$f":"'EXP DATES'!A5","v":"2019-10-11"},"Event:  "]
[null,null,"Hrs","Rate","Total"]
[null,"Enforcement Officer # 1: ",8,1,{"$f":"C55*D55","v":8}]
[null,"# 2: ",8,1,{"$f":"C56*D56","v":8}]
[]
["Date:  ",{"$f":"'EXP DATES'!A6","v":"2019-10-12"},"Event:  "]
[null,null,"Hrs","Rate","Total"]
[null,"Enforcement Officer # 1: ",8,1,{"$f":"C60*D60","v":8}]
[null,"# 2: ",8,1,{"$f":"C61*D61","v":8}]
[]
["Date:  ",{"$f":"'EXP DATES'!A7","v":"2019-10-17"},"Event:  "]
[null,null,"Hrs","Rate","Total"]
[null,"Enforcement Officer # 1: ",8,1,{"$f":"C65*D65","v":8}]
[null,"# 2: ",8,1,{"$f":"C66*D66","v":8}]
[]
["Date:  ",{"$f":"'EXP DATES'!A8","v":"2019-10-18"},"Event:  "]
[null,null,"Hrs","Rate","Total"]
[null,"Enforcement Officer # 1: ",8,1,{"$f":"C70*D70","v":8}]
[null,"# 2: ",8,1,{"$f":"C71*D71","v":8}]
[]
["Date:  ",{"$f":"'EXP DATES'!A9","v":"2019-10-19"},"Event:  "]
[null,null,"Hrs","Rate","Total"]
[null,"Enforcement Officer # 1: ",8,1,{"$f":"C75*D75","v":8}]
[null,"# 2: ",8,1,{"$f":"C76*D76","v":8}]
[]
["Date:  ",{"$f":"'EXP DATES'!A10","v":"2019-10-24"},"Event:  "]
[null,null,"Hrs","Rate","Total"]
[null,"Enforcement Officer # 1: ",8,1,{"$f":"C80*D80","v":8}]
[null,"# 2: ",8,1,{"$f":"C81*D81","v":8}]
[]
["Date:  ",{"$f":"'EXP DATES'!A11","v":"2019-10-25"},"Event:  "]
[null,null,"Hrs","Rate","Total"]
[null,"Enforcement Officer # 1: ",8,1,{"$f":"C85*D85","v":8}]
[null,"# 2: ",8,1,{"$f":"C86*D86","v":8}]
[]
[null,null,null,"Grand Total",{"$f":"SUM(E85:E86,E80:E81,E75:E76,E70:E71,E65:E66,E60:E61,E55:E56,E50:E51)","v":128}]
[]
[]
["PROJECT TITLE",null,null,"APPLICANT"]
[]
[{"$f":"APPLICATION!$A$15","v":"FY 2020 Comprehensive DUI Enforcement Program for Resident Trooper Towns"},null,null,{"$f":"IF(APPLICATION!A21=\"\",\"\",APPLICATION!A21)","v":""}]
[]
[]
[]
[null,null,"EXPANDED DUI ENFORCEMENT DATES"]
[]
["Date:  ",{"$f":"'EXP DATES'!A12","v":"2019-10-26"},"Event:  "]
[null,null,"Hrs","Rate","Total"]
[null,"Enforcement Officer # 1: ",8,1,{"$f":"C101*D101","v":8}]
[null,"# 2: ",8,1,{"$f":"C102*D102","v":8}]
[]
["Date:  ",{"$f":"'EXP DATES'!A13","v":"2019-10-31"},"Event:  "]
[null,null,"Hrs","Rate","Total"]
[null,"Enforcement Officer # 1: ",8,1,{"$f":"C106*D106","v":8}]
[null,"# 2: ",8,1,{"$f":"C107*D107","v":8}]
[]
["Date:  ",{"$f":"'EXP DATES'!A14","v":"2019-11-01"},"Event:  "]
[null,null,"Hrs","Rate","Total"]
[null,"Enforcement Officer # 1: ",8,1,{"$f":"C111*D111","v":8}]
[null,"# 2: ",8,1,{"$f":"C112*D112","v":8}]
[]
["Date:  ",{"$f":"'EXP DATES'!A15","v":"2019-11-02"},"Event:  "]
[null,null,"Hrs","Rate","Total"]
[null,"Enforcement Officer # 1: ",8,1,{"$f":"C116*D116","v":8}]
[null,"# 2: ",8,1,{"$f":"C117*D117","v":8}]
[]
["Date:  ",{"$f":"'EXP DATES'!A16","v":"2019-11-07"},"Event:  "]
[null,null,"Hrs","Rate","Total"]
[null,"Enforcement Officer # 1: ",8,1,{"$f":"C121*D121","v":8}]
[null,"# 2: ",8,1,{"$f":"C122*D122","v":8}]
[]
["Date:  ",{"$f":"'EXP DATES'!A17","v":"2019-11-08"},"Event:  "]
[null,null,"Hrs","Rate","Total"]
[null,"Enforcement Officer # 1: ",8,1,{"$f":"C126*D126","v":8}]
[null,"# 2: ",8,1,{"$f":"C127*D127","v":8}]
[]
["Date:  ",{"$f":"'EXP DATES'!#REF!","v":{"$error":"#REF!"}},"Event:  "]
[null,null,"Hrs","Rate","Total"]
[null,"Enforcement Officer # 1: ",8,1,{"$f":"C131*D131","v":8}]
[null,"# 2: ",8,1,{"$f":"C132*D132","v":8}]
[]
["Date:  ",{"$f":"'EXP DATES'!#REF!","v":{"$error":"#REF!"}},"Event:  "]
[null,null,"Hrs","Rate","Total"]
[null,"Enforcement Officer # 1: ",8,1,{"$f":"C136*D136","v":8}]
[null,"# 2: ",8,1,{"$f":"C137*D137","v":8}]
[]
[null,null,null,"Grand Total",{"$f":"SUM(E136:E137,E131:E132,E126:E127,E121:E122,E116:E117,E111:E112,E106:E107,E101:E102)","v":128}]
[]
[]
["PROJECT TITLE",null,null,"APPLICANT"]
[]
[{"$f":"APPLICATION!$A$15","v":"FY 2020 Comprehensive DUI Enforcement Program for Resident Trooper Towns"},null,null,{"$f":"IF(APPLICATION!A21=\"\",\"\",APPLICATION!A21)","v":""}]
[]
[]
[]
[null,null,"EXPANDED DUI ENFORCEMENT DATES"]
[]
["Date:  ",{"$f":"'EXP DATES'!#REF!","v":{"$error":"#REF!"}},"Event:  "]
[null,null,"Hrs","Rate","Total"]
[null,"Enforcement Officer # 1: ",8,1,{"$f":"C152*D152","v":8}]
[null,"# 2: ",8,1,{"$f":"C153*D153","v":8}]
[]
["Date:  ",{"$f":"'EXP DATES'!#REF!","v":{"$error":"#REF!"}},"Event:  "]
[null,null,"Hrs","Rate","Total"]
[null,"Enforcement Officer # 1: ",8,1,{"$f":"C157*D157","v":8}]
[null,"# 2: ",8,1,{"$f":"C158*D158","v":8}]
[]
["Date:  ",{"$f":"'EXP DATES'!#REF!","v":{"$error":"#REF!"}},"Event:  "]
[null,null,"Hrs","Rate","Total"]
[null,"Enforcement Officer # 1: ",8,1,{"$f":"C162*D162","v":8}]
[null,"# 2: ",8,1,{"$f":"C163*D163","v":8}]
[]
["Date:  ",{"$f":"'EXP DATES'!#REF!","v":{"$error":"#REF!"}},"Event:  "]
[null,null,"Hrs","Rate","Total"]
[null,"Enforcement Officer # 1: ",8,1,{"$f":"C167*D167","v":8}]
[null,"# 2: ",8,1,{"$f":"C168*D168","v":8}]
[]
["Date:  ",{"$f":"'EXP DATES'!#REF!","v":{"$error":"#REF!"}},"Event:  "]
[null,null,"Hrs","Rate","Total"]
[null,"Enforcement Officer # 1: ",8,1,{"$f":"C172*D172","v":8}]
[null,"# 2: ",8,1,{"$f":"C173*D173","v":8}]
[]
["Date:  ",{"$f":"'EXP DATES'!#REF!","v":{"$error":"#REF!"}},"Event:  "]
[null,null,"Hrs","Rate","Total"]
[null,"Enforcement Officer # 1: ",8,1,{"$f":"C177*D177","v":8}]
[null,"# 2: ",8,1,{"$f":"C178*D178","v":8}]
[]
["Date:  ",{"$f":"'EXP DATES'!#REF!","v":{"$error":"#REF!"}},"Event:  "]
[null,null,"Hrs","Rate","Total"]
[null,"Enforcement Officer # 1: ",8,1,{"$f":"C182*D182","v":8}]
[null,"# 2: ",8,1,{"$f":"C183*D183","v":8}]
[]
["Date:  ",{"$f":"'EXP DATES'!#REF!","v":{"$error":"#REF!"}},"Event:  "]
[null,null,"Hrs","Rate","Total"]
[null,"Enforcement Officer # 1: ",8,1,{"$f":"C187*D187","v":8}]
[null,"# 2: ",8,1,{"$f":"C188*D188","v":8}]
[]
[null,null,null,"Grand Total",{"$f":"SUM(E187:E188,E182:E183,E177:E178,E172:E173,E167:E168,E162:E163,E157:E158,E152:E153)","v":128}]
[]
[]
["PROJECT TITLE",null,null,"APPLICANT"]
[]
[{"$f":"APPLICATION!$A$15","v":"FY 2020 Comprehensive DUI Enforcement Program for Resident Trooper Towns"},null,null,{"$f":"IF(APPLICATION!A21=\"\",\"\",APPLICATION!A21)","v":""}]
[]
[]
[]
[null,null,"EXPANDED DUI ENFORCEMENT DATES"]
[]
["Date:  ",{"$f":"'EXP DATES'!#REF!","v":{"$error":"#REF!"}},"Event:  "]
[null,null,"Hrs","Rate","Total"]
[null,"Enforcement Officer # 1: ",8,1,{"$f":"C203*D203","v":8}]
[null,"# 2: ",8,1,{"$f":"C204*D204","v":8}]
[]
["Date:  ",{"$f":"'EXP DATES'!#REF!","v":{"$error":"#REF!"}},"Event:  "]
[null,null,"Hrs","Rate","Total"]
[null,"Enforcement Officer # 1: ",8,1,{"$f":"C208*D208","v":8}]
[null,"# 2: ",8,1,{"$f":"C209*D209","v":8}]
[]
["Date:  ",{"$f":"'EXP DATES'!#REF!","v":{"$error":"#REF!"}},"Event:  "]
[null,null,"Hrs","Rate","Total"]
[null,"Enforcement Officer # 1: ",8,1,{"$f":"C213*D213","v":8}]
[null,"# 2: ",8,1,{"$f":"C214*D214","v":8}]
[]
["Date:  ",{"$f":"'EXP DATES'!#REF!","v":{"$error":"#REF!"}},"Event:  "]
[null,null,"Hrs","Rate","Total"]
[null,"Enforcement Officer # 1: ",8,1,{"$f":"C218*D218","v":8}]
[null,"# 2: ",8,1,{"$f":"C219*D219","v":8}]
[]
["Date:  ",{"$f":"'EXP DATES'!#REF!","v":{"$error":"#REF!"}},"Event:  "]
[null,null,"Hrs","Rate","Total"]
[null,"Enforcement Officer # 1: ",8,1,{"$f":"C223*D223","v":8}]
[null,"# 2: ",8,1,{"$f":"C224*D224","v":8}]
[]
["Date:  ",{"$f":"'EXP DATES'!#REF!","v":{"$error":"#REF!"}},"Event:  "]
[null,null,"Hrs","Rate","Total"]
[null,"Enforcement Officer # 1: ",8,1,{"$f":"C228*D228","v":8}]
[null,"# 2: ",8,1,{"$f":"C229*D229","v":8}]
[]
["Date:  ",{"$f":"'EXP DATES'!#REF!","v":{"$error":"#REF!"}},"Event:  "]
[null,null,"Hrs","Rate","Total"]
[null,"Enforcement Officer # 1: ",8,1,{"$f":"C233*D233","v":8}]
[null,"# 2: ",8,1,{"$f":"C234*D234","v":8}]
[]
["Date:  ",{"$f":"'EXP DATES'!#REF!","v":{"$error":"#REF!"}},"Event:  "]
[null,null,"Hrs","Rate","Total"]
[null,"Enforcement Officer # 1: ",8,1,{"$f":"C238*D238","v":8}]
[null,"# 2: ",8,1,{"$f":"C239*D239","v":8}]
[]
[null,null,null,"Grand Total",{"$f":"SUM(E238:E239,E233:E234,E228:E229,E223:E224,E218:E219,E213:E214,E208:E209,E203:E204)","v":128}]
[]
[]
["PROJECT TITLE",null,null,"APPLICANT"]
[]
[{"$f":"APPLICATION!$A$15","v":"FY 2020 Comprehensive DUI Enforcement Program for Resident Trooper Towns"},null,null,{"$f":"IF(APPLICATION!A21=\"\",\"\",APPLICATION!A21)","v":""}]
[]
[]
[]
[null,null,"EXPANDED DUI ENFORCEMENT DATES"]
[]
["Date:  ",{"$f":"'EXP DATES'!#REF!","v":{"$error":"#REF!"}},"Event:  "]
[null,null,"Hrs","Rate","Total"]
[null,"Enforcement Officer # 1: ",8,1,{"$f":"C254*D254","v":8}]
[null,"# 2: ",8,1,{"$f":"C255*D255","v":8}]
[]
["Date:  ",{"$f":"'EXP DATES'!#REF!","v":{"$error":"#REF!"}},"Event:  "]
[null,null,"Hrs","Rate","Total"]
[null,"Enforcement Officer # 1: ",8,1,{"$f":"C259*D259","v":8}]
[null,"# 2: ",8,1,{"$f":"C260*D260","v":8}]
[]
["Date:  ",{"$f":"'EXP DATES'!#REF!","v":{"$error":"#REF!"}},"Event:  "]
[null,null,"Hrs","Rate","Total"]
[null,"Enforcement Officer # 1: ",8,1,{"$f":"C264*D264","v":8}]
[null,"# 2: ",8,1,{"$f":"C265*D265","v":8}]
[]
["Date:  ",{"$f":"'EXP DATES'!#REF!","v":{"$error":"#REF!"}},"Event:  "]
[null,null,"Hrs","Rate","Total"]
[null,"Enforcement Officer # 1: ",8,1,{"$f":"C269*D269","v":8}]
[null,"# 2: ",8,1,{"$f":"C270*D270","v":8}]
[]
["Date:  ",{"$f":"'EXP DATES'!#REF!","v":{"$error":"#REF!"}},"Event:  "]
[null,null,"Hrs","Rate","Total"]
[null,"Enforcement Officer # 1: ",8,1,{"$f":"C274*D274","v":8}]
[null,"# 2: ",8,1,{"$f":"C275*D275","v":8}]
[]
["Date:  ",{"$f":"'EXP DATES'!#REF!","v":{"$error":"#REF!"}},"Event:  "]
[null,null,"Hrs","Rate","Total"]
[null,"Enforcement Officer # 1: ",8,1,{"$f":"C279*D279","v":8}]
[null,"# 2: ",8,1,{"$f":"C280*D280","v":8}]
[]
["Date:  ",{"$f":"'EXP DATES'!#REF!","v":{"$error":"#REF!"}},"Event:  "]
[null,null,"Hrs","Rate","Total"]
[null,"Enforcement Officer # 1: ",8,1,{"$f":"C284*D284","v":8}]
[null,"# 2: ",8,1,{"$f":"C285*D285","v":8}]
[]
["Date:  ",{"$f":"'EXP DATES'!#REF!","v":{"$error":"#REF!"}},"Event:  "]
[null,null,"Hrs","Rate","Total"]
[null,"Enforcement Officer # 1: ",8,1,{"$f":"C289*D289","v":8}]
[null,"# 2: ",8,1,{"$f":"C290*D290","v":8}]
[]
[null,null,null,"Grand Total",{"$f":"SUM(E289:E290,E284:E285,E279:E280,E274:E275,E269:E270,E264:E265,E259:E260,E254:E255)","v":128}]
[]
[]
["PROJECT TITLE",null,null,"APPLICANT"]
[]
[{"$f":"APPLICATION!$A$15","v":"FY 2020 Comprehensive DUI Enforcement Program for Resident Trooper Towns"},null,null,{"$f":"IF(APPLICATION!A21=\"\",\"\",APPLICATION!A21)","v":""}]
[]
[]
[]
[null,null,"EXPANDED DUI ENFORCEMENT DATES"]
[]
["Date:  ",{"$f":"'EXP DATES'!#REF!","v":{"$error":"#REF!"}},"Event:  "]
[null,null,"Hrs","Rate","Total"]
[null,"Enforcement Officer # 1: ",8,1,{"$f":"C305*D305","v":8}]
[null,"# 2: ",8,1,{"$f":"C306*D306","v":8}]
[]
["Date:  ",{"$f":"'EXP DATES'!#REF!","v":{"$error":"#REF!"}},"Event:  "]
[null,null,"Hrs","Rate","Total"]
[null,"Enforcement Officer # 1: ",8,1,{"$f":"C310*D310","v":8}]
[null,"# 2: ",8,1,{"$f":"C311*D311","v":8}]
[]
["Date:  ",{"$f":"'EXP DATES'!#REF!","v":{"$error":"#REF!"}},"Event:  "]
[null,null,"Hrs","Rate","Total"]
[null,"Enforcement Officer # 1: ",8,1,{"$f":"C315*D315","v":8}]
[null,"# 2: ",8,1,{"$f":"C316*D316","v":8}]
[]
["Date:  ",{"$f":"'EXP DATES'!#REF!","v":{"$error":"#REF!"}},"Event:  "]
[null,null,"Hrs","Rate","Total"]
[null,"Enforcement Officer # 1: ",8,1,{"$f":"C320*D320","v":8}]
[null,"# 2: ",8,1,{"$f":"C321*D321","v":8}]
[]
["Date:  ",{"$f":"'EXP DATES'!#REF!","v":{"$error":"#REF!"}},"Event:  "]
[null,null,"Hrs","Rate","Total"]
[null,"Enforcement Officer # 1: ",8,1,{"$f":"C325*D325","v":8}]
[null,"# 2: ",8,1,{"$f":"C326*D326","v":8}]
[]
["Date:  ",{"$f":"'EXP DATES'!#REF!","v":{"$error":"#REF!"}},"Event:  "]
[null,null,"Hrs","Rate","Total"]
[null,"Enforcement Officer # 1: ",8,1,{"$f":"C330*D330","v":8}]
[null,"# 2: ",8,1,{"$f":"C331*D331","v":8}]
[]
["Date:  ",{"$f":"'EXP DATES'!#REF!","v":{"$error":"#REF!"}},"Event:  "]
[null,null,"Hrs","Rate","Total"]
[null,"Enforcement Officer # 1: ",8,1,{"$f":"C335*D335","v":8}]
[null,"# 2: ",8,1,{"$f":"C336*D336","v":8}]
[]
["Date:  ",{"$f":"'EXP DATES'!#REF!","v":{"$error":"#REF!"}},"Event:  "]
[null,null,"Hrs","Rate","Total"]
[null,"Enforcement Officer # 1: ",8,1,{"$f":"C340*D340","v":8}]
[null,"# 2: ",8,1,{"$f":"C341*D341","v":8}]
[]
[null,null,null,"Grand Total",{"$f":"SUM(E340:E341,E335:E336,E330:E331,E325:E326,E320:E321,E315:E316,E310:E311,E305:E306)","v":128}]
[]
[]
["PROJECT TITLE",null,null,"APPLICANT"]
[]
[{"$f":"APPLICATION!$A$15","v":"FY 2020 Comprehensive DUI Enforcement Program for Resident Trooper Towns"},null,null,{"$f":"IF(APPLICATION!A21=\"\",\"\",APPLICATION!A21)","v":""}]
[]
[]
[]
[null,null,"EXPANDED DUI ENFORCEMENT DATES"]
[]
["Date:  ",{"$f":"'EXP DATES'!#REF!","v":{"$error":"#REF!"}},"Event:  "]
[null,null,"Hrs","Rate","Total"]
[null,"Enforcement Officer # 1: ",8,1,{"$f":"C356*D356","v":8}]
[null,"# 2: ",8,1,{"$f":"C357*D357","v":8}]
[]
["Date:  ",{"$f":"'EXP DATES'!#REF!","v":{"$error":"#REF!"}},"Event:  "]
[null,null,"Hrs","Rate","Total"]
[null,"Enforcement Officer # 1: ",8,1,{"$f":"C361*D361","v":8}]
[null,"# 2: ",8,1,{"$f":"C362*D362","v":8}]
[]
["Date:  ",{"$f":"'EXP DATES'!#REF!","v":{"$error":"#REF!"}},"Event:  "]
[null,null,"Hrs","Rate","Total"]
[null,"Enforcement Officer # 1: ",8,1,{"$f":"C366*D366","v":8}]
[null,"# 2: ",8,1,{"$f":"C367*D367","v":8}]
[]
["Date:  ",{"$f":"'EXP DATES'!A18","v":"2019-11-09"},"Event:  "]
[null,null,"Hrs","Rate","Total"]
[null,"Enforcement Officer # 1: ",8,1,{"$f":"C371*D371","v":8}]
[null,"# 2: ",8,1,{"$f":"C372*D372","v":8}]
[]
["Date:  ",{"$f":"'EXP DATES'!A19","v":"2019-11-14"},"Event:  "]
[null,null,"Hrs","Rate","Total"]
[null,"Enforcement Officer # 1: ",8,1,{"$f":"C376*D376","v":8}]
[null,"# 2: ",8,1,{"$f":"C377*D377","v":8}]
[]
["Date:  ",{"$f":"'EXP DATES'!A20","v":"2019-11-15"},"Event:  "]
[null,null,"Hrs","Rate","Total"]
[null,"Enforcement Officer # 1: ",8,1,{"$f":"C381*D381","v":8}]
[null,"# 2: ",8,1,{"$f":"C382*D382","v":8}]
[]
["Date:  ",{"$f":"'EXP DATES'!A21","v":"2019-11-16"},"Event:  "]
[null,null,"Hrs","Rate","Total"]
[null,"Enforcement Officer # 1: ",8,1,{"$f":"C386*D386","v":8}]
[null,"# 2: ",8,1,{"$f":"C387*D387","v":8}]
[]
["Date:  ",{"$f":"'EXP DATES'!A22","v":"2020-01-02"},"Event:  "]
[null,null,"Hrs","Rate","Total"]
[null,"Enforcement Officer # 1: ",8,1,{"$f":"C391*D391","v":8}]
[null,"# 2: ",8,1,{"$f":"C392*D392","v":8}]
[]
[null,null,null,"Grand Total",{"$f":"SUM(E356:E357,E361:E362,E366:E367,E371:E372,E376:E377,E381:E382,E386:E387,E391:E392)","v":128}]
[]
[]
["PROJECT TITLE",null,null,"APPLICANT"]
[]
[{"$f":"APPLICATION!$A$15","v":"FY 2020 Comprehensive DUI Enforcement Program for Resident Trooper Towns"},null,null,{"$f":"IF(APPLICATION!A21=\"\",\"\",APPLICATION!A21)","v":""}]
[]
[]
[]
[null,null,"EXPANDED DUI ENFORCEMENT DATES"]
[]
["Date:  ",{"$f":"'EXP DATES'!A23","v":"2020-01-03"},"Event:  "]
[null,null,"Hrs","Rate","Total"]
[null,"Enforcement Officer # 1: ",8,1,{"$f":"C407*D407","v":8}]
[null,"# 2: ",8,1,{"$f":"C408*D408","v":8}]
[]
["Date:  ",{"$f":"'EXP DATES'!A24","v":"2020-01-04"},"Event:  "]
[null,null,"Hrs","Rate","Total"]
[null,"Enforcement Officer # 1: ",8,1,{"$f":"C412*D412","v":8}]
[null,"# 2: ",8,1,{"$f":"C413*D413","v":8}]
[]
["Date:  ",{"$f":"'EXP DATES'!A25","v":"2020-01-09"},"Event:  "]
[null,null,"Hrs","Rate","Total"]
[null,"Enforcement Officer # 1: ",8,1,{"$f":"C417*D417","v":8}]
[null,"# 2: ",8,1,{"$f":"C418*D418","v":8}]
[]
["Date:  ",{"$f":"'EXP DATES'!A26","v":"2020-01-10"},"Event:  "]
[null,null,"Hrs","Rate","Total"]
[null,"Enforcement Officer # 1: ",8,1,{"$f":"C422*D422","v":8}]
[null,"# 2: ",8,1,{"$f":"C423*D423","v":8}]
[]
["Date:  ",{"$f":"'EXP DATES'!A27","v":"2020-01-11"},"Event:  "]
[null,null,"Hrs","Rate","Total"]
[null,"Enforcement Officer # 1: ",8,1,{"$f":"C427*D427","v":8}]
[null,"# 2: ",8,1,{"$f":"C428*D428","v":8}]
[]
["Date:  ",{"$f":"'EXP DATES'!A28","v":"2020-01-16"},"Event:  "]
[null,null,"Hrs","Rate","Total"]
[null,"Enforcement Officer # 1: ",8,1,{"$f":"C432*D432","v":8}]
[null,"# 2: ",8,1,{"$f":"C433*D433","v":8}]
[]
["Date:  ",{"$f":"'EXP DATES'!A29","v":"2020-01-17"},"Event:  "]
[null,null,"Hrs","Rate","Total"]
[null,"Enforcement Officer # 1: ",8,1,{"$f":"C437*D437","v":8}]
[null,"# 2: ",8,1,{"$f":"C438*D438","v":8}]
[]
["Date:  ",{"$f":"'EXP DATES'!A30","v":"2020-01-18"},"Event:  "]
[null,null,"Hrs","Rate","Total"]
[null,"Enforcement Officer # 1: ",8,1,{"$f":"C442*D442","v":8}]
[null,"# 2: ",8,1,{"$f":"C443*D443","v":8}]
[]
[null,null,null,"Grand Total",{"$f":"SUM(E407:E408,E412:E413,E417:E418,E422:E423,E427:E428,E432:E433,E437:E438,E442:E443)","v":128}]
[]
[]
["PROJECT TITLE",null,null,"APPLICANT"]
[]
[{"$f":"APPLICATION!$A$15","v":"FY 2020 Comprehensive DUI Enforcement Program for Resident Trooper Towns"},null,null,{"$f":"IF(APPLICATION!A21=\"\",\"\",APPLICATION!A21)","v":""}]
[]
[]
[]
[null,null,"EXPANDED DUI ENFORCEMENT DATES"]
[]
["Date:  ",{"$f":"'EXP DATES'!A31","v":"2020-01-23"},"Event:  "]
[null,null,"Hrs","Rate","Total"]
[null,"Enforcement Officer # 1: ",8,1,{"$f":"C458*D458","v":8}]
[null,"# 2: ",8,1,{"$f":"C459*D459","v":8}]
[]
["Date:  ",{"$f":"'EXP DATES'!A32","v":"2020-01-24"},"Event:  "]
[null,null,"Hrs","Rate","Total"]
[null,"Enforcement Officer # 1: ",8,1,{"$f":"C463*D463","v":8}]
[null,"# 2: ",8,1,{"$f":"C464*D464","v":8}]
[]
["Date:  ",{"$f":"'EXP DATES'!A33","v":"2020-01-25"},"Event:  "]
[null,null,"Hrs","Rate","Total"]
[null,"Enforcement Officer # 1: ",8,1,{"$f":"C468*D468","v":8}]
[null,"# 2: ",8,1,{"$f":"C469*D469","v":8}]
[]
["Date:  ",{"$f":"'EXP DATES'!A34","v":"2020-01-30"},"Event:  "]
[null,null,"Hrs","Rate","Total"]
[null,"Enforcement Officer # 1: ",8,1,{"$f":"C473*D473","v":8}]
[null,"# 2: ",8,1,{"$f":"C474*D474","v":8}]
[]
["Date:  ",{"$f":"'EXP DATES'!A35","v":"2020-01-31"},"Event:  "]
[null,null,"Hrs","Rate","Total"]
[null,"Enforcement Officer # 1: ",8,1,{"$f":"C478*D478","v":8}]
[null,"# 2: ",8,1,{"$f":"C479*D479","v":8}]
[]
["Date:  ",{"$f":"'EXP DATES'!A36","v":"2020-02-01"},"Event:  "]
[null,null,"Hrs","Rate","Total"]
[null,"Enforcement Officer # 1: ",8,1,{"$f":"C483*D483","v":8}]
[null,"# 2: ",8,1,{"$f":"C484*D484","v":8}]
[]
["Date:  ",{"$f":"'EXP DATES'!A37","v":"2020-02-02"},"Event:  "]
[null,null,"Hrs","Rate","Total"]
[null,"Enforcement Officer # 1: ",8,1,{"$f":"C488*D488","v":8}]
[null,"# 2: ",8,1,{"$f":"C489*D489","v":8}]
[]
["Date:  ",{"$f":"'EXP DATES'!A38","v":"2020-02-06"},"Event:  "]
[null,null,"Hrs","Rate","Total"]
[null,"Enforcement Officer # 1: ",8,1,{"$f":"C493*D493","v":8}]
[null,"# 2: ",8,1,{"$f":"C494*D494","v":8}]
[]
[null,null,null,"Grand Total",{"$f":"SUM(E458:E459,E463:E464,E468:E469,E473:E474,E478:E479,E483:E484,E488:E489,E493:E494)","v":128}]
[]
[]
["PROJECT TITLE",null,null,"APPLICANT"]
[]
[{"$f":"APPLICATION!$A$15","v":"FY 2020 Comprehensive DUI Enforcement Program for Resident Trooper Towns"},null,null,{"$f":"IF(APPLICATION!A21=\"\",\"\",APPLICATION!A21)","v":""}]
[]
[]
[]
[null,null,"EXPANDED DUI ENFORCEMENT DATES"]
[]
["Date:  ",{"$f":"'EXP DATES'!A39","v":"2020-02-07"},"Event:  "]
[null,null,"Hrs","Rate","Total"]
[null,"Enforcement Officer # 1: ",8,1,{"$f":"C509*D509","v":8}]
[null,"# 2: ",8,1,{"$f":"C510*D510","v":8}]
[]
["Date:  ",{"$f":"'EXP DATES'!A40","v":"2020-02-08"},"Event:  "]
[null,null,"Hrs","Rate","Total"]
[null,"Enforcement Officer # 1: ",8,1,{"$f":"C514*D514","v":8}]
[null,"# 2: ",8,1,{"$f":"C515*D515","v":8}]
[]
["Date:  ",{"$f":"'EXP DATES'!A41","v":"2020-02-13"},"Event:  "]
[null,null,"Hrs","Rate","Total"]
[null,"Enforcement Officer # 1: ",8,1,{"$f":"C519*D519","v":8}]
[null,"# 2: ",8,1,{"$f":"C520*D520","v":8}]
[]
["Date:  ",{"$f":"'EXP DATES'!A42","v":"2020-02-14"},"Event:  "]
[null,null,"Hrs","Rate","Total"]
[null,"Enforcement Officer # 1: ",8,1,{"$f":"C524*D524","v":8}]
[null,"# 2: ",8,1,{"$f":"C525*D525","v":8}]
[]
["Date:  ",{"$f":"'EXP DATES'!A43","v":"2020-02-15"},"Event:  "]
[null,null,"Hrs","Rate","Total"]
[null,"Enforcement Officer # 1: ",8,1,{"$f":"C529*D529","v":8}]
[null,"# 2: ",8,1,{"$f":"C530*D530","v":8}]
[]
["Date:  ",{"$f":"'EXP DATES'!A44","v":"2020-02-20"},"Event:  "]
[null,null,"Hrs","Rate","Total"]
[null,"Enforcement Officer # 1: ",8,1,{"$f":"C534*D534","v":8}]
[null,"# 2: ",8,1,{"$f":"C535*D535","v":8}]
[]
["Date:  ",{"$f":"'EXP DATES'!A45","v":"2020-02-21"},"Event:  "]
[null,null,"Hrs","Rate","Total"]
[null,"Enforcement Officer # 1: ",8,1,{"$f":"C539*D539","v":8}]
[null,"# 2: ",8,1,{"$f":"C540*D540","v":8}]
[]
["Date:  ",{"$f":"'EXP DATES'!A46","v":"2020-02-22"},"Event:  "]
[null,null,"Hrs","Rate","Total"]
[null,"Enforcement Officer # 1: ",8,1,{"$f":"C544*D544","v":8}]
[null,"# 2: ",8,1,{"$f":"C545*D545","v":8}]
[]
[null,null,null,"Grand Total",{"$f":"SUM(E509:E510,E514:E515,E519:E520,E524:E525,E529:E530,E534:E535,E539:E540,E544:E545)","v":128}]
[]
[]
["PROJECT TITLE",null,null,"APPLICANT"]
[]
[{"$f":"APPLICATION!$A$15","v":"FY 2020 Comprehensive DUI Enforcement Program for Resident Trooper Towns"},null,null,{"$f":"IF(APPLICATION!A21=\"\",\"\",APPLICATION!A21)","v":""}]
[]
[]
[]
[null,null,"EXPANDED DUI ENFORCEMENT DATES"]
[]
["Date:  ",{"$f":"'EXP DATES'!A47","v":"2020-02-27"},"Event:  "]
[null,null,"Hrs","Rate","Total"]
[null,"Enforcement Officer # 1: ",8,1,{"$f":"C560*D560","v":8}]
[null,"# 2: ",8,1,{"$f":"C561*D561","v":8}]
[]
["Date:  ",{"$f":"'EXP DATES'!A48","v":"2020-02-28"},"Event:  "]
[null,null,"Hrs","Rate","Total"]
[null,"Enforcement Officer # 1: ",8,1,{"$f":"C565*D565","v":8}]
[null,"# 2: ",8,1,{"$f":"C566*D566","v":8}]
[]
["Date:  ",{"$f":"'EXP DATES'!A49","v":"2020-02-29"},"Event:  "]
[null,null,"Hrs","Rate","Total"]
[null,"Enforcement Officer # 1: ",8,1,{"$f":"C570*D570","v":8}]
[null,"# 2: ",8,1,{"$f":"C571*D571","v":8}]
[]
["Date:  ",{"$f":"'EXP DATES'!A50","v":"2020-03-05"},"Event:  "]
[null,null,"Hrs","Rate","Total"]
[null,"Enforcement Officer # 1: ",8,1,{"$f":"C575*D575","v":8}]
[null,"# 2: ",8,1,{"$f":"C576*D576","v":8}]
[]
["Date:  ",{"$f":"'EXP DATES'!A51","v":"2020-03-06"},"Event:  "]
[null,null,"Hrs","Rate","Total"]
[null,"Enforcement Officer # 1: ",8,1,{"$f":"C580*D580","v":8}]
[null,"# 2: ",8,1,{"$f":"C581*D581","v":8}]
[]
["Date:  ",{"$f":"'EXP DATES'!A52","v":"2020-03-07"},"Event:  "]
[null,null,"Hrs","Rate","Total"]
[null,"Enforcement Officer # 1: ",8,1,{"$f":"C585*D585","v":8}]
[null,"# 2: ",8,1,{"$f":"C586*D586","v":8}]
[]
["Date:  ",{"$f":"'EXP DATES'!A53","v":"2020-03-12"},"Event:  "]
[null,null,"Hrs","Rate","Total"]
[null,"Enforcement Officer # 1: ",8,1,{"$f":"C590*D590","v":8}]
[null,"# 2: ",8,1,{"$f":"C591*D591","v":8}]
[]
["Date:  ",{"$f":"'EXP DATES'!A54","v":"2020-03-13"},"Event:  "]
[null,null,"Hrs","Rate","Total"]
[null,"Enforcement Officer # 1: ",8,1,{"$f":"C595*D595","v":8}]
[null,"# 2: ",8,1,{"$f":"C596*D596","v":8}]
[]
[null,null,null,"Grand Total",{"$f":"SUM(E560:E561,E565:E566,E570:E571,E575:E576,E580:E581,E585:E586,E590:E591,E595:E596)","v":128}]
[]
[]
["PROJECT TITLE",null,null,"APPLICANT"]
[]
[{"$f":"APPLICATION!$A$15","v":"FY 2020 Comprehensive DUI Enforcement Program for Resident Trooper Towns"},null,null,{"$f":"IF(APPLICATION!A21=\"\",\"\",APPLICATION!A21)","v":""}]
[]
[]
[]
[null,null,"EXPANDED DUI ENFORCEMENT DATES"]
[]
["Date:  ",{"$f":"'EXP DATES'!A55","v":"2020-03-14"},"Event:  "]
[null,null,"Hrs","Rate","Total"]
[null,"Enforcement Officer # 1: ",8,1,{"$f":"C611*D611","v":8}]
[null,"# 2: ",8,1,{"$f":"C612*D612","v":8}]
[]
["Date:  ",{"$f":"'EXP DATES'!A56","v":"2020-03-17"},"Event:  "]
[null,null,"Hrs","Rate","Total"]
[null,"Enforcement Officer # 1: ",8,1,{"$f":"C616*D616","v":8}]
[null,"# 2: ",8,1,{"$f":"C617*D617","v":8}]
[]
["Date:  ",{"$f":"'EXP DATES'!A57","v":"2020-03-19"},"Event:  "]
[null,null,"Hrs","Rate","Total"]
[null,"Enforcement Officer # 1: ",8,1,{"$f":"C621*D621","v":8}]
[null,"# 2: ",8,1,{"$f":"C622*D622","v":8}]
[]
["Date:  ",{"$f":"'EXP DATES'!A58","v":"2020-03-20"},"Event:  "]
[null,null,"Hrs","Rate","Total"]
[null,"Enforcement Officer # 1: ",8,1,{"$f":"C626*D626","v":8}]
[null,"# 2: ",8,1,{"$f":"C627*D627","v":8}]
[]
["Date:  ",{"$f":"'EXP DATES'!A59","v":"2020-03-21"},"Event:  "]
[null,null,"Hrs","Rate","Total"]
[null,"Enforcement Officer # 1: ",8,1,{"$f":"C631*D631","v":8}]
[null,"# 2: ",8,1,{"$f":"C632*D632","v":8}]
[]
["Date:  ",{"$f":"'EXP DATES'!A60","v":"2020-03-26"},"Event:  "]
[null,null,"Hrs","Rate","Total"]
[null,"Enforcement Officer # 1: ",8,1,{"$f":"C636*D636","v":8}]
[null,"# 2: ",8,1,{"$f":"C637*D637","v":8}]
[]
["Date:  ",{"$f":"'EXP DATES'!A61","v":"2020-03-27"},"Event:  "]
[null,null,"Hrs","Rate","Total"]
[null,"Enforcement Officer # 1: ",8,1,{"$f":"C641*D641","v":8}]
[null,"# 2: ",8,1,{"$f":"C642*D642","v":8}]
[]
["Date:  ",{"$f":"'EXP DATES'!A62","v":"2020-03-28"},"Event:  "]
[null,null,"Hrs","Rate","Total"]
[null,"Enforcement Officer # 1: ",8,1,{"$f":"C646*D646","v":8}]
[null,"# 2: ",8,1,{"$f":"C647*D647","v":8}]
[]
[null,null,null,"Grand Total",{"$f":"SUM(E611:E612,E616:E617,E621:E622,E626:E627,E631:E632,E636:E637,E641:E642,E646:E647)","v":128}]
[]
[]
["PROJECT TITLE",null,null,"APPLICANT"]
[]
[{"$f":"APPLICATION!$A$15","v":"FY 2020 Comprehensive DUI Enforcement Program for Resident Trooper Towns"},null,null,{"$f":"IF(APPLICATION!A21=\"\",\"\",APPLICATION!A21)","v":""}]
[]
[]
[]
[null,null,"EXPANDED DUI ENFORCEMENT DATES"]
[]
["Date:  ",{"$f":"'EXP DATES'!A63","v":"2020-04-02"},"Event:  "]
[null,null,"Hrs","Rate","Total"]
[null,"Enforcement Officer # 1: ",8,1,{"$f":"C662*D662","v":8}]
[null,"# 2: ",8,1,{"$f":"C663*D663","v":8}]
[]
["Date:  ",{"$f":"'EXP DATES'!A64","v":"2020-04-03"},"Event:  "]
[null,null,"Hrs","Rate","Total"]
[null,"Enforcement Officer # 1: ",8,1,{"$f":"C667*D667","v":8}]
[null,"# 2: ",8,1,{"$f":"C668*D668","v":8}]
[]
["Date:  ",{"$f":"'EXP DATES'!A65","v":"2020-04-04"},"Event:  "]
[null,null,"Hrs","Rate","Total"]
[null,"Enforcement Officer # 1: ",8,1,{"$f":"C672*D672","v":8}]
[null,"# 2: ",8,1,{"$f":"C673*D673","v":8}]
[]
["Date:  ",{"$f":"'EXP DATES'!A66","v":"2020-04-09"},"Event:  "]
[null,null,"Hrs","Rate","Total"]
[null,"Enforcement Officer # 1: ",8,1,{"$f":"C677*D677","v":8}]
[null,"# 2: ",8,1,{"$f":"C678*D678","v":8}]
[]
["Date:  ",{"$f":"'EXP DATES'!A67","v":"2020-04-10"},"Event:  "]
[null,null,"Hrs","Rate","Total"]
[null,"Enforcement Officer # 1: ",8,1,{"$f":"C682*D682","v":8}]
[null,"# 2: ",8,1,{"$f":"C683*D683","v":8}]
[]
["Date:  ",{"$f":"'EXP DATES'!A68","v":"2020-04-11"},"Event:  "]
[null,null,"Hrs","Rate","Total"]
[null,"Enforcement Officer # 1: ",8,1,{"$f":"C687*D687","v":8}]
[null,"# 2: ",8,1,{"$f":"C688*D688","v":8}]
[]
["Date:  ",{"$f":"'EXP DATES'!A69","v":"2020-04-16"},"Event:  "]
[null,null,"Hrs","Rate","Total"]
[null,"Enforcement Officer # 1: ",8,1,{"$f":"C692*D692","v":8}]
[null,"# 2: ",8,1,{"$f":"C693*D693","v":8}]
[]
["Date:  ",{"$f":"'EXP DATES'!A70","v":"2020-04-17"},"Event:  "]
[null,null,"Hrs","Rate","Total"]
[null,"Enforcement Officer # 1: ",8,1,{"$f":"C697*D697","v":8}]
[null,"# 2: ",8,1,{"$f":"C698*D698","v":8}]
[]
[null,null,null,"Grand Total",{"$f":"SUM(E662:E663,E667:E668,E672:E673,E677:E678,E682:E683,E687:E688,E692:E693,E697:E698)","v":128}]
[]
[]
["PROJECT TITLE",null,null,"APPLICANT"]
[]
[{"$f":"APPLICATION!$A$15","v":"FY 2020 Comprehensive DUI Enforcement Program for Resident Trooper Towns"},null,null,{"$f":"IF(APPLICATION!A21=\"\",\"\",APPLICATION!A21)","v":""}]
[]
[]
[]
[null,null,"EXPANDED DUI ENFORCEMENT DATES"]
[]
["Date:  ",{"$f":"'EXP DATES'!A71","v":"2020-04-18"},"Event:  "]
[null,null,"Hrs","Rate","Total"]
[null,"Enforcement Officer # 1: ",8,1,{"$f":"C713*D713","v":8}]
[null,"# 2: ",8,1,{"$f":"C714*D714","v":8}]
[]
["Date:  ",{"$f":"'EXP DATES'!A72","v":"2020-04-23"},"Event:  "]
[null,null,"Hrs","Rate","Total"]
[null,"Enforcement Officer # 1: ",8,1,{"$f":"C718*D718","v":8}]
[null,"# 2: ",8,1,{"$f":"C719*D719","v":8}]
[]
["Date:  ",{"$f":"'EXP DATES'!A73","v":"2020-04-24"},"Event:  "]
[null,null,"Hrs","Rate","Total"]
[null,"Enforcement Officer # 1: ",8,1,{"$f":"C723*D723","v":8}]
[null,"# 2: ",8,1,{"$f":"C724*D724","v":8}]
[]
["Date:  ",null,"Event:  "]
[null,null,"Hrs","Rate","Total"]
[null,"Enforcement Officer # 1: ",null,null,{"$f":"C728*D728","v":0}]
[null,"# 2: ",null,null,{"$f":"C729*D729","v":0}]
[]
["Date:  ",null,"Event:  "]
[null,null,"Hrs","Rate","Total"]
[null,"Enforcement Officer # 1: ",null,null,{"$f":"C733*D733","v":0}]
[null,"# 2: ",null,null,{"$f":"C734*D734","v":0}]
[]
["Date:  ",null,"Event:  "]
[null,null,"Hrs","Rate","Total"]
[null,"Enforcement Officer # 1: ",null,null,{"$f":"C738*D738","v":0}]
[null,"# 2: ",null,null,{"$f":"C739*D739","v":0}]
[]
["Date:  ",null,"Event:  "]
[null,null,"Hrs","Rate","Total"]
[null,"Enforcement Officer # 1: ",null,null,{"$f":"C743*D743","v":0}]
[null,"# 2: ",null,null,{"$f":"C744*D744","v":0}]
[]
["Date:  ",null,"Event:  "]
[null,null,"Hrs","Rate","Total"]
[null,"Enforcement Officer # 1: ",null,null,{"$f":"C748*D748","v":0}]
[null,"# 2: ",null,null,{"$f":"C749*D749","v":0}]
[]
[null,null,null,"Grand Total",{"$f":"SUM(E713:E714,E718:E719,E723:E724,E728:E729,E733:E734,E738:E739,E743:E744,E748:E749)","v":48}]
[]
[]
["PROJECT TITLE",null,null,"APPLICANT"]
[]
[{"$f":"APPLICATION!$A$15","v":"FY 2020 Comprehensive DUI Enforcement Program for Resident Trooper Towns"},null,null,{"$f":"IF(APPLICATION!A21=\"\",\"\",APPLICATION!A21)","v":""}]
[]
[]
[]
[null,null,"EXPANDED DUI ENFORCEMENT DATES"]
[]
["Date:  ",null,"Event:  "]
[null,null,"Hrs","Rate","Total"]
[null,"Enforcement Officer # 1: ",null,null,{"$f":"C764*D764","v":0}]
[null,"# 2: ",null,null,{"$f":"C765*D765","v":0}]
[]
["Date:  ",null,"Event:  "]
[null,null,"Hrs","Rate","Total"]
[null,"Enforcement Officer # 1: ",null,null,{"$f":"C769*D769","v":0}]
[null,"# 2: ",null,null,{"$f":"C770*D770","v":0}]
[]
["Date:  ",null,"Event:  "]
[null,null,"Hrs","Rate","Total"]
[null,"Enforcement Officer # 1: ",null,null,{"$f":"C774*D774","v":0}]
[null,"# 2: ",null,null,{"$f":"C775*D775","v":0}]
[]
["Date:  ",null,"Event:  "]
[null,null,"Hrs","Rate","Total"]
[null,"Enforcement Officer # 1: ",null,null,{"$f":"C779*D779","v":0}]
[null,"# 2: ",null,null,{"$f":"C780*D780","v":0}]
[]
["Date:  ",null,"Event:  "]
[null,null,"Hrs","Rate","Total"]
[null,"Enforcement Officer # 1: ",null,null,{"$f":"C784*D784","v":0}]
[null,"# 2: ",null,null,{"$f":"C785*D785","v":0}]
[]
["Date:  ",null,"Event:  "]
[null,null,"Hrs","Rate","Total"]
[null,"Enforcement Officer # 1: ",null,null,{"$f":"C789*D789","v":0}]
[null,"# 2: ",null,null,{"$f":"C790*D790","v":0}]
[]
["Date:  ",null,"Event:  "]
[null,null,"Hrs","Rate","Total"]
[null,"Enforcement Officer # 1: ",null,null,{"$f":"C794*D794","v":0}]
[null,"# 2: ",null,null,{"$f":"C795*D795","v":0}]
[]
["Date:  ",null,"Event:  "]
[null,null,"Hrs","Rate","Total"]
[null,"Enforcement Officer # 1: ",null,null,{"$f":"C799*D799","v":0}]
[null,"# 2: ",null,null,{"$f":"C800*D800","v":0}]
[]
[null,null,null,"Grand Total",{"$f":"SUM(E764:E765,E769:E770,E774:E775,E779:E780,E784:E785,E789:E790,E794:E795,E799:E800)","v":0}]
[]
[]
["PROJECT TITLE",null,null,"APPLICANT"]
[]
[{"$f":"APPLICATION!$A$15","v":"FY 2020 Comprehensive DUI Enforcement Program for Resident Trooper Towns"},null,null,{"$f":"IF(APPLICATION!A21=\"\",\"\",APPLICATION!A21)","v":""}]
[]
[]
[]
[null,null,"EXPANDED DUI ENFORCEMENT DATES"]
[]
["Date:  ",null,"Event:  "]
[null,null,"Hrs","Rate","Total"]
[null,"Enforcement Officer # 1: ",null,null,{"$f":"C815*D815","v":0}]
[null,"# 2: ",null,null,{"$f":"C816*D816","v":0}]
[]
["Date:  ",null,"Event:  "]
[null,null,"Hrs","Rate","Total"]
[null,"Enforcement Officer # 1: ",null,null,{"$f":"C820*D820","v":0}]
[null,"# 2: ",null,null,{"$f":"C821*D821","v":0}]
[]
["Date:  ",null,"Event:  "]
[null,null,"Hrs","Rate","Total"]
[null,"Enforcement Officer # 1: ",null,null,{"$f":"C825*D825","v":0}]
[null,"# 2: ",null,null,{"$f":"C826*D826","v":0}]
[]
["Date:  ",null,"Event:  "]
[null,null,"Hrs","Rate","Total"]
[null,"Enforcement Officer # 1: ",null,null,{"$f":"C830*D830","v":0}]
[null,"# 2: ",null,null,{"$f":"C831*D831","v":0}]
[]
["Date:  ",null,"Event:  "]
[null,null,"Hrs","Rate","Total"]
[null,"Enforcement Officer # 1: ",null,null,{"$f":"C835*D835","v":0}]
[null,"# 2: ",null,null,{"$f":"C836*D836","v":0}]
[]
["Date:  ",null,"Event:  "]
[null,null,"Hrs","Rate","Total"]
[null,"Enforcement Officer # 1: ",null,null,{"$f":"C840*D840","v":0}]
[null,"# 2: ",null,null,{"$f":"C841*D841","v":0}]
[]
["Date:  ",null,"Event:  "]
[null,null,"Hrs","Rate","Total"]
[null,"Enforcement Officer # 1: ",null,null,{"$f":"C845*D845","v":0}]
[null,"# 2: ",null,null,{"$f":"C846*D846","v":0}]
[]
["Date:  ",null,"Event:  "]
[null,null,"Hrs","Rate","Total"]
[null,"Enforcement Officer # 1: ",null,null,{"$f":"C850*D850","v":0}]
[null,"# 2: ",null,null,{"$f":"C851*D851","v":0}]
[]
[null,null,null,"Grand Total",{"$f":"SUM(E815:E816,E820:E821,E825:E826,E830:E831,E835:E836,E840:E841,E845:E846,E850:E851)","v":0}]

{"sheet":"NON-CORE PATROLS","index":20,"n_rows":141,"n_cols":5,"rows_kept":141,"cut":false,"hidden":true,"merged":[[0,0,1,2],[0,3,1,5],[2,0,5,2],[2,3,3,5],[4,3,5,5],[18,3,18,5],[23,3,23,5],[8,2,8,3],[9,1,9,4],[10,1,10,4],[11,1,11,4],[12,1,12,4],[13,1,15,4],[54,3,54,5],[28,3,28,5],[33,3,33,5],[41,0,42,2],[41,3,42,5],[135,3,135,5],[105,3,105,5],[110,3,110,5],[115,3,115,5],[120,3,120,5],[125,3,125,5],[130,3,130,5],[6,0,7,5],[16,1,16,4],[94,0,97,2],[94,3,95,5],[96,3,97,5],[79,3,79,5],[84,3,84,5],[92,0,93,2],[92,3,93,5],[59,3,59,5],[64,3,64,5],[69,3,69,5],[74,3,74,5],[43,0,46,2],[43,3,44,5],[45,3,46,5]]}
["PROJECT TITLE",null,null,"APPLICANT"]
[]
[{"$f":"APPLICATION!$A$15","v":"FY 2020 Comprehensive DUI Enforcement Program for Resident Trooper Towns"},null,null,{"$f":"IF(APPLICATION!A21=\"\",\"\",APPLICATION!A21)","v":""}]
[]
[]
[]
["THIS WORKSHEET SHOULD ONLY BE USED FOR SPECIAL SITUATIONS.  PLEASE CONTACT HIGHWAY SAFETY OFFICE FOR PRE-APPROVAL PRIOR TO COMPLETING THIS WORKSHEET."]
[]
[null,null,"PROJECT COST WORK SHEET"]
[null,"Only one Officer allowed per Vehicle at any one time"]
[null,"Defined Program Parameters"]
[null,"Core Enforcement Hours:  17:00 - 04:00"]
[null,"NO SHIFT TO EXCEED 8 HOURS\n PER ENFORCEMENT PERIOD\n\nNON-CORE DUI ENFORCEMENT TO BE CONDUCTED OUTSIDE THE CORE HOURS OR\n ELIGIBLE DATES."]
[null,"Please include any specific dates where special circumstances necessitate additional DUI patrols over and above the designated core hours or eligible dates.  Also include any specific dates where based on past history, additional alcohol enforcement is needed. "]
[]
[]
[null,"NON-CORE PATROL DATES"]
[]
["Date:  ",null,"Event:  "]
[null,null,"Hrs","Rate","Total"]
[null,"Enforcement Officer # 1: ",null,null,{"$f":"C21*D21","v":0}]
[null,"# 2: ",null,null,{"$f":"C22*D22","v":0}]
[]
["Date:  ",null,"Event:  "]
[null,null,"Hrs","Rate","Total"]
[null,"Enforcement Officer # 1: ",null,null,{"$f":"C26*D26","v":0}]
[null,"# 2: ",null,null,{"$f":"C27*D27","v":0}]
[]
["Date:  ",null,"Event:  "]
[null,null,"Hrs","Rate","Total"]
[null,"Enforcement Officer # 1: ",null,null,{"$f":"C31*D31","v":0}]
[null,"# 2: ",null,null,{"$f":"C32*D32","v":0}]
[]
["Date:  ",null,"Event:  "]
[null,null,"Hrs","Rate","Total"]
[null,"Enforcement Officer # 1: ",null,null,{"$f":"C36*D36","v":0}]
[null,"# 2: ",null,null,{"$f":"C37*D37","v":0}]
[]
[null,null,null,"Grand Total",{"$f":"SUM(E21:E22,E26:E27,E31:E32,E36:E37)","v":0}]
[]
[]
["PROJECT TITLE",null,null,"APPLICANT"]
[]
[{"$f":"APPLICATION!$A$15","v":"FY 2020 Comprehensive DUI Enforcement Program for Resident Trooper Towns"},null,null,{"$f":"IF(APPLICATION!A21=\"\",\"\",APPLICATION!A21)","v":""}]
[]
[]
[]
[null,null,{"$f":"B17","v":"NON-CORE PATROL DATES"}]
[]
["Date:  ",null,"Event:  "]
[null,null,"Hrs","Rate","Total"]
[null,"Enforcement Officer # 1: ",null,null,{"$f":"C52*D52","v":0}]
[null,"# 2: ",null,null,{"$f":"C53*D53","v":0}]
[]
["Date:  ",null,"Event:  "]
[null,null,"Hrs","Rate","Total"]
[null,"Enforcement Officer # 1: ",null,null,{"$f":"C57*D57","v":0}]
[null,"# 2: ",null,null,{"$f":"C58*D58","v":0}]
[]
["Date:  ",null,"Event:  "]
[null,null,"Hrs","Rate","Total"]
[null,"Enforcement Officer # 1: ",null,null,{"$f":"C62*D62","v":0}]
[null,"# 2: ",null,null,{"$f":"C63*D63","v":0}]
[]
["Date:  ",null,"Event:  "]
[null,null,"Hrs","Rate","Total"]
[null,"Enforcement Officer # 1: ",null,null,{"$f":"C67*D67","v":0}]
[null,"# 2: ",null,null,{"$f":"C68*D68","v":0}]
[]
["Date:  ",null,"Event:  "]
[null,null,"Hrs","Rate","Total"]
[null,"Enforcement Officer # 1: ",null,null,{"$f":"C72*D72","v":0}]
[null,"# 2: ",null,null,{"$f":"C73*D73","v":0}]
[]
["Date:  ",null,"Event:  "]
[null,null,"Hrs","Rate","Total"]
[null,"Enforcement Officer # 1: ",null,null,{"$f":"C77*D77","v":0}]
[null,"# 2: ",null,null,{"$f":"C78*D78","v":0}]
[]
["Date:  ",null,"Event:  "]
[null,null,"Hrs","Rate","Total"]
[null,"Enforcement Officer # 1: ",null,null,{"$f":"C82*D82","v":0}]
[null,"# 2: ",null,null,{"$f":"C83*D83","v":0}]
[]
["Date:  ",null,"Event:  "]
[null,null,"Hrs","Rate","Total"]
[null,"Enforcement Officer # 1: ",null,null,{"$f":"C87*D87","v":0}]
[null,"# 2: ",null,null,{"$f":"C88*D88","v":0}]
[]
[null,null,null,"Grand Total",{"$f":"SUM(E87:E88,E82:E83,E77:E78,E72:E73,E67:E68,E62:E63,E57:E58,E52:E53)","v":0}]
[]
[]
["PROJECT TITLE",null,null,"APPLICANT"]
[]
[{"$f":"APPLICATION!$A$15","v":"FY 2020 Comprehensive DUI Enforcement Program for Resident Trooper Towns"},null,null,{"$f":"IF(APPLICATION!A21=\"\",\"\",APPLICATION!A21)","v":""}]
[]
[]
[]
[null,null,{"$f":"B17","v":"NON-CORE PATROL DATES"}]
[]
["Date:  ",null,"Event:  "]
[null,null,"Hrs","Rate","Total"]
[null,"Enforcement Officer # 1: ",null,null,{"$f":"C103*D103","v":0}]
[null,"# 2: ",null,null,{"$f":"C104*D104","v":0}]
[]
["Date:  ",null,"Event:  "]
[null,null,"Hrs","Rate","Total"]
[null,"Enforcement Officer # 1: ",null,null,{"$f":"C108*D108","v":0}]
[null,"# 2: ",null,null,{"$f":"C109*D109","v":0}]
[]
["Date:  ",null,"Event:  "]
[null,null,"Hrs","Rate","Total"]
[null,"Enforcement Officer # 1: ",null,null,{"$f":"C113*D113","v":0}]
[null,"# 2: ",null,null,{"$f":"C114*D114","v":0}]
[]
["Date:  ",null,"Event:  "]
[null,null,"Hrs","Rate","Total"]
[null,"Enforcement Officer # 1: ",null,null,{"$f":"C118*D118","v":0}]
[null,"# 2: ",null,null,{"$f":"C119*D119","v":0}]
[]
["Date:  ",null,"Event:  "]
[null,null,"Hrs","Rate","Total"]
[null,"Enforcement Officer # 1: ",null,null,{"$f":"C123*D123","v":0}]
[null,"# 2: ",null,null,{"$f":"C124*D124","v":0}]
[]
["Date:  ",null,"Event:  "]
[null,null,"Hrs","Rate","Total"]
[null,"Enforcement Officer # 1: ",null,null,{"$f":"C128*D128","v":0}]
[null,"# 2: ",null,null,{"$f":"C129*D129","v":0}]
[]
["Date:  ",null,"Event:  "]
[null,null,"Hrs","Rate","Total"]
[null,"Enforcement Officer # 1: ",null,null,{"$f":"C133*D133","v":0}]
[null,"# 2: ",null,null,{"$f":"C134*D134","v":0}]
[]
["Date:  ",null,"Event:  "]
[null,null,"Hrs","Rate","Total"]
[null,"Enforcement Officer # 1: ",null,null,{"$f":"C138*D138","v":0}]
[null,"# 2: ",null,null,{"$f":"C139*D139","v":0}]
[]
[null,null,null,"Grand Total",{"$f":"SUM(E138:E139,E133:E134,E128:E129,E123:E124,E118:E119,E113:E114,E108:E109,E103:E104)","v":0}]

{"sheet":"FB CERTIFICATION","index":21,"n_rows":38,"n_cols":16,"rows_kept":38,"cut":false,"hidden":false,"merged":[[17,11,18,14],[35,2,35,4],[37,2,37,4],[35,6,35,8],[37,6,37,8],[17,1,17,3],[17,7,17,9],[18,7,18,9],[19,1,19,3],[19,7,19,9],[20,1,20,3],[20,7,20,9],[18,1,18,3],[21,7,21,9],[22,1,22,3],[22,7,22,9],[10,0,10,9],[12,0,12,9],[13,3,13,9],[15,2,15,4],[15,6,15,8],[13,0,13,2],[23,7,23,9],[21,1,21,3],[24,7,24,9],[25,1,25,3],[25,7,25,9],[31,0,31,9],[33,0,33,9],[27,1,27,3],[7,0,7,9],[0,5,1,9],[0,0,1,4],[2,0,5,4],[2,5,3,9],[4,5,5,9],[26,1,26,3],[26,7,26,9],[24,1,24,3],[27,7,27,9],[29,0,29,3],[29,7,29,9],[23,1,23,3]]}
["PROJECT TITLE",null,null,null,null,"APPLICANT"]
[]
[{"$f":"APPLICATION!A15","v":"FY 2020 Comprehensive DUI Enforcement Program for Resident Trooper Towns"},null,null,null,null,{"$f":"IF(APPLICATION!A21=\"\",\"\",APPLICATION!A21)","v":""}]
[]
[null,null,null,null,null,{"$f":"MID(CELL(\"filename\",B1),FIND(\"]\",CELL(\"filename\",B1))+1,255)","v":"FB CERTIFICATION"}]
[]
[]
["FRINGE BENEFIT CERTIFICATION STATEMENT"]
[]
[]
["NOTE: If fringe rate is being charged/reimbursed, this page should be completed and signed. Fringe benefit charges should NOT be included in the hourly rate. No hourly rate should be inflated--all hourly rates should be reported as acutals."]
[]
["I hereby certify that the information below is the true and accurate and authorized by the City/Town/Agency of   "]
[{"$f":"F3","v":""},null,null,"for hours worked by personnel for the following time period:"]
[]
[null,"FROM Date:",null,null,null,"TO Date:"]
[]
["#","Actual Cost Category",null,null,"Officer's Fringe Rate OVT %","Submitting for Reimbursement","Trooper's Fringe Rate OVT %","Submitting for Reimbursement",null,null,null,"* Please be sure to select \"YES\" or \"NO\" in the \"Submitting for Reimbursement\" column"]
[1,null,null,null,0,null,0]
[2,null,null,null,0,null,0]
[3,null,null,null,0,null,0]
[4,null,null,null,0,null,0]
[5,null,null,null,0,null,0]
[6,null,null,null,0,null,0]
[7,null,null,null,0,null,0]
[8,null,null,null,0,null,0]
[9,null,null,null,0,null,0]
[10,null,null,null,0,null,0]
[null,null,null,null,null,null,null,null,null,null,null,null,null,null,"St FR",{"$f":"F30","v":0}]
["Total Fringe Rate",null,null,null,{"$f":"SUM(E19:E28)","v":0},{"$f":"SUMIF(F19:F28,\"YES\",E19:E28)","v":0},{"$f":"SUM(G19:G28)","v":0},{"$f":"SUMIF(H19:J28,\"YES\",G19:G28)","v":0},null,null,null,null,null,null,"Ot FR",{"$f":"H30","v":0}]
[]
["I further certify that this statement is correct in all respects and that the fringe benefit rate(s) identified above accurately represents the fringe benefit costs to the city/town/agency for the individuals employed under or working on this project."]
[]
["City/Town/Agency's Chief Financial Officer or Authorized Official"]
[]
[null,"Name (Please Print):",null,null,null,"Ink Signature:"]
[]
[null,"Title:",null,null,null,"Date:"]

{"sheet":"BUDGET","index":22,"n_rows":31,"n_cols":15,"rows_kept":31,"cut":false,"hidden":false,"merged":[[17,11,17,13],[30,6,30,7],[9,0,9,8],[0,0,1,4],[0,5,1,8],[2,0,5,4],[2,5,3,8],[4,5,5,8],[7,0,7,8]]}
["PROJECT TITLE",null,null,null,null,"APPLICANT"]
[]
[{"$f":"APPLICATION!A15","v":"FY 2020 Comprehensive DUI Enforcement Program for Resident Trooper Towns"},null,null,null,null,{"$f":"IF(APPLICATION!A21=\"\",\"\",APPLICATION!A21)","v":""}]
[]
[null,null,null,null,null,{"$f":"MID(CELL(\"filename\",D1),FIND(\"]\",CELL(\"filename\",D1))+1,255)","v":"BUDGET"}]
[]
[]
["BUDGET DETAIL",null,null,null,null,null,null,null,null,null,"MUNICIPAL PD TAB:",null,null,"SPECIAL ENFORCEMENT TAB:"]
[null,null,null,null,null,null,null,null,null,null,{"$f":"'MUNICIPAL PD'!$G$147","v":0},"Municipal PD",null,{"$f":"SUMIF('SPECIAL ENFORCEMENT'!B:B,\"Municipal PD\",'SPECIAL ENFORCEMENT'!E:E)","v":0},"Municipal PD"]
["THIS WORKSHEET WILL AUTO POPULATE ONCE THE OTHER TABS ARE FILLED OUT"]
[null,null,null,null,null,null,null,null,null,null,"RESIDENT TROOPER TAB:",null,null,"SPECIAL ENFORCEMENT TAB:"]
[null,null,null,null,null,null,null,null,null,null,{"$f":"SUMIF('RESIDENT TROOPER'!A:A,\"Resident Trooper\",'RESIDENT TROOPER'!G:G)","v":0},"Resident Trooper",null,{"$f":"SUMIF('SPECIAL ENFORCEMENT'!B:B,\"Resident Trooper\",'SPECIAL ENFORCEMENT'!E:E)","v":0},"Resident Tooper"]
["(A)  SALARIES:",null,null,null,null,null,null,null,null,null,{"$f":"SUMIF('RESIDENT TROOPER'!A:A,\"Officer/Constable\",'RESIDENT TROOPER'!G:G)","v":0},"Officer/Constable",null,{"$f":"SUMIF('SPECIAL ENFORCEMENT'!B:B,\"Officer/Constable\",'SPECIAL ENFORCEMENT'!E:E)","v":0},"Officer/Constable"]
[null,null,null,null,null,"Total Estimated Wages:","( A )",{"$f":"L19","v":0}]
[null,null,null,null,null,null,null,null,null,null,"STATE POLICE TAB:",null,null,"SPECIAL ENFORCEMENT TAB:"]
["(B)  FRINGE BENEFITS:",null,null,null,null,null,null,null,null,null,{"$f":"'STATE POLICE'!$G$100","v":0},"State Police",null,{"$f":"SUMIF('SPECIAL ENFORCEMENT'!B:B,\"State Police\",'SPECIAL ENFORCEMENT'!E:E)","v":0},"State Police"]
[null,"Overtime Fringe Benefit of:",null,null,"Rate","Salary Breakdown","Fringe Benefits"]
[null,null,"Municipal PD","@",{"$f":"IF($C$18=\"Municipal PD\",'FB CERTIFICATION'!$P$29,\"\")","v":0},{"$f":"K9+N9","v":0},{"$f":"F18*E18","v":0},null,null,null,null,"TOTAL WAGES FROM ALL TABS:"]
[null,null,"Resident Trooper","@",{"$f":"IF($C$19=\"Resident Trooper\",'FB CERTIFICATION'!$P$30,\"\")","v":0},{"$f":"K12+N12","v":0},{"$f":"F19*E19","v":0},null,null,null,null,{"$f":"K12+K13+K16+K9+N12+N13+N16+N9","v":0},"TOTAL"]
[null,null,"Officer/Constable","@",{"$f":"IF($C$20=\"Officer/Constable\",'FB CERTIFICATION'!$P$29,\"\")","v":0},{"$f":"K13+N13","v":0},{"$f":"F20*E20","v":0}]
[null,null,"State Police","@",{"$f":"IF($C$21=\"State Police\",'FB CERTIFICATION'!$P$30,\"\")","v":0},{"$f":"K16+N16","v":0},{"$f":"F21*E21","v":0}]
[]
[]
[null,null,null,null,null,"     Total Fringe Benefits Costs:","( B )",{"$f":"G18+G19+G20+G21","v":0}]
[]
["(C) INDIRECT COST:"]
[null,null,"Indirect Rate ","@"]
[null,null,null,null,null,"     Total Indirect Costs:","( C )",{"$f":"E27*H14","v":0}]
[]
[]
[null,null,null,null,null,"Grand Total Amount:",{"$f":"H14+H24+H28","v":0}]

{"sheet":"REIMBURSEMENT","index":23,"n_rows":55,"n_cols":5,"rows_kept":55,"cut":false,"hidden":false,"merged":[[6,0,8,5],[0,0,1,2],[0,3,1,5],[2,0,5,2],[2,3,3,5],[4,3,5,5],[14,0,14,1],[14,2,14,3],[15,0,15,1],[14,4,14,5],[15,2,15,3],[15,4,15,5],[18,4,18,5],[18,0,18,1],[18,2,18,3],[17,0,17,1],[17,2,17,3],[17,4,17,5],[54,1,54,4],[9,0,9,5],[11,0,11,1],[12,0,12,1],[20,4,20,5],[24,4,24,5],[24,0,24,1],[24,2,24,3],[20,0,20,1],[20,2,20,3],[23,4,23,5],[23,2,23,3],[23,0,23,1],[21,4,21,5],[21,2,21,3],[21,0,21,1]]}
["PROJECT TITLE",null,null,"APPLICANT"]
[]
[{"$f":"APPLICATION!$A$15","v":"FY 2020 Comprehensive DUI Enforcement Program for Resident Trooper Towns"},null,null,{"$f":"IF(APPLICATION!A21=\"\",\"\",APPLICATION!A21)","v":""}]
[]
[null,null,null,{"$f":"MID(CELL(\"filename\",B1),FIND(\"]\",CELL(\"filename\",B1))+1,255)","v":"REIMBURSEMENT"}]
[]
["PROJECT EXPENDITURES --- REIMBURSEMENT REQUIREMENTS"]
[]
[]
["NOTE:  This is a federally reimbursable program. The cost of all expenses incurred under this project must first be paid for with municipal or state agency funds. The sub-grantee may then apply for reimbursement based on the procedures and policies listed below."]
[]
["Project Start Date"]
[{"$f":"IF(APPLICATION!D24>0,APPLICATION!D24,\"\")","v":""}]
[]
["1st Billing Period Start Date",null,"1st Billing Period Ending Date",null,"Reimbursement Deadline"]
["2019-10-03",null,"2020-01-01",null,"2020-01-31"]
[]
["2nd Billing Period Start Date",null,"2nd Billing Period Ending Date",null,"Reimbursement Deadline"]
["2020-01-02",null,"2020-04-04",null,"2020-05-04"]
[]
["3rd Billing Period Start Date",null,"3rd Billing Period Ending Date",null,"Reimbursement Deadline"]
["2020-04-09",null,"2020-07-05",null,"2020-08-04"]
[]
["4th Billing Period Start Date",null,"Project Ending Date",null,"Reimbursement Deadline"]
["2020-07-09",null,"2020-09-12",null,"2020-10-13"]
[]
[]
[]
[]
[]
[]
[]
[]
[]
[]
[]
[]
[]
[]
[]
[]
[]
[]
[]
[]
[]
[]
[]
[]
[]
[]
[]
[]
[]
[null,"FAILURE TO MEET THE REIMBURSEMENT REQUIREMENTS SET FORTH MAY RESULT IN YOUR CLAIM BEING DENIED."]

{"sheet":"AUDIT REQ","index":24,"n_rows":31,"n_cols":5,"rows_kept":31,"cut":false,"hidden":false,"merged":[[7,0,7,7],[9,0,9,7],[30,1,30,2],[30,5,30,6],[0,0,1,2],[10,0,10,7],[26,0,26,7],[28,1,28,2],[28,5,28,6],[18,1,18,2],[18,5,18,6],[11,0,12,7],[15,0,15,7],[16,1,16,2],[16,5,16,6],[22,0,23,7],[0,3,1,7],[4,3,5,7],[2,0,5,2],[2,3,3,7]]}
["PROJECT TITLE",null,null,"   APPLICANT"]
[]
[{"$f":"APPLICATION!$A$15","v":"FY 2020 Comprehensive DUI Enforcement Program for Resident Trooper Towns"},null,null,{"$f":"IF(APPLICATION!A21=\"\",\"\",APPLICATION!A21)","v":""}]
[]
[null,null,null,{"$f":"MID(CELL(\"filename\",B1),FIND(\"]\",CELL(\"filename\",B1))+1,255)","v":"AUDIT REQ"}]
[]
[]
["ATTACHMENT A                                                                                                                                                                                                                                                                                                                                                                             "]
[]
["SINGLE AGENCY AUDITING REQUIREMENTS AND PROCEDURES"]
["EFFECTIVE OCTOBER 1, 2019"]
["AUDIT  REQUIREMENT STATEMENT:         "]
[]
[]
["The town/city/agency of "]
["declares that for the fiscal year ending September 30, 2020, the sum total of Federal funds awarded to local government agencies from all sources DOES exceed $750,000 and that it will conduct an audit report as required under 2 CFR part 200 subpart F (REVISED) AUDITS OF STATES, LOCAL GOVERNMENTS, AND NON-PROFIT ORGANIZATIONS AND 49 CFR UNIFORM ADMINISTRATIVE REQUIREMENTS FOR GRANTS AND COOPERATIVE AGREEMENTS TO STATE AND LOCAL GOVERNMENTS PART 18.26"]
["Name (Please Print):",null,null,null,"Signature:"]
[]
["Title:",null,null,null,"Date:"]
[]
["(NOTE: PLEASE DO NOT SIGN FOR BOTH STATEMENTS)"]
[]
["AUDIT EXEMPTION STATEMENT:"]
[]
[]
["The town/city/agency of "]
["declares that for the fiscal year ending September 30, 2020, the sum total of Federal funds awarded to local government agencies from all sources DOES NOT exceed $750,000 and that an independent audit is not required under 2 CFR part 200 subpart F (REVISED) AUDITS OF STATES, LOCAL GOVERNMENTS, AND NON-PROFIT ORGANIZATIONS AND 49 CFR UNIFORM ADMINISTRATIVE REQUIREMENTS FOR GRANTS AND COOPERATIVE AGREEMENTS TO STATE AND LOCAL GOVERNMENTS PART 18.26"]
[]
["Name (Please Print):",null,null,null,"Signature:"]
[]
["Title:",null,null,null,"Date:"]

{"sheet":"CERTS & ASSURANCES","index":25,"n_rows":353,"n_cols":6,"rows_kept":353,"cut":false,"hidden":false,"merged":[[352,1,352,4],[315,0,316,2],[315,3,316,5],[317,0,320,2],[317,3,318,5],[319,3,320,4],[319,5,320,5],[338,0,340,5],[343,0,344,5],[346,1,346,4],[348,1,348,4],[350,1,350,4],[262,0,263,2],[262,3,263,5],[264,0,267,2],[264,3,265,5],[266,3,267,4],[266,5,267,5],[210,0,211,2],[210,3,211,5],[212,0,215,2],[212,3,213,5],[214,3,215,4],[214,5,215,5],[158,0,159,2],[158,3,159,5],[160,0,163,2],[160,3,161,5],[162,3,163,4],[162,5,163,5],[105,0,106,2],[105,3,106,5],[107,0,110,2],[107,3,108,5],[109,3,110,4],[109,5,110,5],[55,0,58,2],[55,3,56,5],[57,3,58,4],[57,5,58,5],[0,0,1,2],[0,3,1,5],[2,0,5,2],[2,3,3,5],[4,3,5,4],[4,5,5,5],[7,0,7,5],[8,0,8,5],[9,0,9,5],[53,0,54,2],[53,3,54,5]]}
["PROJECT TITLE",null,null,"APPLICANT"]
[]
[{"$f":"APPLICATION!A15","v":"FY 2020 Comprehensive DUI Enforcement Program for Resident Trooper Towns"},null,null,{"$f":"IF(APPLICATION!A21=\"\",\"\",APPLICATION!A21)","v":""}]
[]
[null,null,null,"CERTS & ASSURANCES",null,"PAGE 1 OF 7"]
[]
[]
["Certifications and Assurances"]
["for Fiscal Year 2020 Highway Safety Grants "]
["(23 U.S.C. Chapter 4; Sec. 1906, Public Law 109-59, As Amended)"]
[]
[]
[]
[]
[]
[]
[]
[]
[]
[]
[]
[]
[]
[]
[]
[]
[]
[]
[]
[]
[]
[]
[]
[]
[]
[]
[]
[]
[]
[]
[]
[]
[]
[]
[]
[]
[]
[]
[]
[]
[]
[]
[]
["PROJECT TITLE",null,null,"APPLICANT"]
[]
[{"$f":"$A$3","v":"FY 2020 Comprehensive DUI Enforcement Program for Resident Trooper Towns"},null,null,{"$f":"$D$3","v":""}]
[]
[null,null,null,{"$f":"$D$5","v":"CERTS & ASSURANCES"},null,"PAGE 2 OF 7"]
[]
[]
[]
[]
[]
[]
[]
[]
[]
[]
[]
[]
[]
[]
[]
[]
[]
[]
[]
[]
[]
[]
[]
[]
[]
[]
[]
[]
[]
[]
[]
[]
[]
[]
[]
[]
[]
[]
[]
[]
[]
[]
[]
[]
[]
[]
[]
["PROJECT TITLE",null,null,"APPLICANT"]
[]
[{"$f":"$A$3","v":"FY 2020 Comprehensive DUI Enforcement Program for Resident Trooper Towns"},null,null,{"$f":"$D$3","v":""}]
[]
[null,null,null,{"$f":"$D$5","v":"CERTS & ASSURANCES"},null,"PAGE 3 OF 7"]
[]
[]
[]
[]
[]
[]
[]
[]
[]
[]
[]
[]
[]
[]
[]
[]
[]
[]
[]
[]
[]
[]
[]
[]
[]
[]
[]
[]
[]
[]
[]
[]
[]
[]
[]
[]
[]
[]
[]
[]
[]
[]
[]
[]
[]
[]
[]
[]
["PROJECT TITLE",null,null,"APPLICANT"]
[]
[{"$f":"$A$3","v":"FY 2020 Comprehensive DUI Enforcement Program for Resident Trooper Towns"},null,null,{"$f":"$D$3","v":""}]
[]
[null,null,null,{"$f":"$D$5","v":"CERTS & ASSURANCES"},null,"PAGE 4 OF 7"]
[]
[]
[]
[]
[]
[]
[]
[]
[]
[]
[]
[]
[]
[]
[]
[]
[]
[]
[]
[]
[]
[]
[]
[]
[]
[]
[]
[]
[]
[]
[]
[]
[]
[]
[]
[]
[]
[]
[]
[]
[]
[]
[]
[]
[]
[]
[]
["PROJECT TITLE",null,null,"APPLICANT"]
[]
[{"$f":"$A$3","v":"FY 2020 Comprehensive DUI Enforcement Program for Resident Trooper Towns"},null,null,{"$f":"$D$3","v":""}]
[]
[null,null,null,{"$f":"$D$5","v":"CERTS & ASSURANCES"},null,"PAGE 5 OF 7"]
[]
[]
[]
[]
[]
[]
[]
[]
[]
[]
[]
[]
[]
[]
[]
[]
[]
[]
[]
[]
[]
[]
[]
[]
[]
[]
[]
[]
[]
[]
[]
[]
[]
[]
[]
[]
[]
[]
[]
[]
[]
[]
[]
[]
[]
[]
[]
["PROJECT TITLE",null,null,"APPLICANT"]
[]
[{"$f":"$A$3","v":"FY 2020 Comprehensive DUI Enforcement Program for Resident Trooper Towns"},null,null,{"$f":"$D$3","v":""}]
[]
[null,null,null,{"$f":"$D$5","v":"CERTS & ASSURANCES"},null,"PAGE 6 OF 7"]
[]
[]
[]
[]
[]
[]
[]
[]
[]
[]
[]
[]
[]
[]
[]
[]
[]
[]
[]
[]
[]
[]
[]
[]
[]
[]
[]
[]
[]
[]
[]
[]
[]
[]
[]
[]
[]
[]
[]
[]
[]
[]
[]
[]
[]
[]
[]
[]
["PROJECT TITLE",null,null,"APPLICANT"]
[]
[{"$f":"$A$3","v":"FY 2020 Comprehensive DUI Enforcement Program for Resident Trooper Towns"},null,null,{"$f":"$D$3","v":""}]
[]
[null,null,null,{"$f":"$D$5","v":"CERTS & ASSURANCES"},null,"PAGE 7 OF 7"]
[]
[]
[]
[]
[]
[]
[]
[]
[]
[]
[]
[]
[]
[]
[]
[]
[]
[]
["I sign these Certifications and Assurances based on personal knowledge, and after appropriate inquiry."]
[]
[]
[]
[]
["Certifying Official:"]
[]
[]
["Name: "]
[]
["Title: "]
[]
["Ink Signature: "]
[]
["Date: "]

{"sheet":"SUMMARY","index":26,"n_rows":32,"n_cols":6,"rows_kept":32,"cut":false,"hidden":false,"merged":[[0,0,1,2],[0,3,1,5],[2,0,5,2],[2,3,3,5],[4,3,5,5],[26,0,26,1],[23,0,23,1],[24,0,24,1],[25,0,25,1],[12,0,12,1],[13,0,13,1],[21,0,21,5],[13,3,13,4],[14,0,14,1],[14,3,14,4],[15,0,15,1],[10,3,10,5],[11,0,11,1],[12,3,12,4],[15,3,19,5],[16,0,16,1],[17,0,17,1],[18,0,18,1],[34,3,34,5],[11,3,11,5],[23,3,23,5],[31,3,31,5],[30,0,30,1],[31,0,31,1],[29,3,29,5],[30,3,30,5],[27,0,27,1],[28,0,28,1],[29,0,29,1],[28,3,28,5],[19,0,19,1],[24,3,24,4],[25,3,25,4],[26,3,26,4]]}
["PROJECT TITLE",null,null,"APPLICANT"]
[]
[{"$f":"APPLICATION!$A$15","v":"FY 2020 Comprehensive DUI Enforcement Program for Resident Trooper Towns"},null,null,{"$f":"IF(APPLICATION!A21=\"\",\"\",APPLICATION!A21)","v":""}]
[]
[null,null,null,{"$f":"MID(CELL(\"filename\",B1),FIND(\"]\",CELL(\"filename\",B1))+1,255)","v":"SUMMARY"}]
[]
[]
["BUDGET SUMMARY"]
[null,null,null,null,"Federal Share",1]
["BUDGET SUMMARY SUBMITTAL",null,null,null,"State/Local Share",{"$f":"1-F9","v":0}]
[]
["COST CATEGORY",null,"AMOUNT","SOURCE OF FUNDS"]
["OFFICERS-SALARIES",null,{"$f":"BUDGET!F18+BUDGET!F20","v":0},"FEDERAL FUNDS  (100%)",null,{"$f":"C20*F9","v":0}]
["OFFICERS-FRINGE BENEFITS",null,{"$f":"BUDGET!G18+BUDGET!G20","v":0},"NON-FEDERAL FUNDS  (0%)",null,0]
["TROOPER-SALARIES",null,{"$f":"BUDGET!F19","v":0},"TOTAL FUNDS  (100%)",null,{"$f":"SUM(F13:F14)","v":0}]
["TROOPER-FRINGE BENEFITS",null,{"$f":"BUDGET!G19","v":0}]
["STATE POLICE-SALARIES",null,{"$f":"BUDGET!F21","v":0}]
["STATE POLICE-FRINGE BENEFITS",null,{"$f":"BUDGET!G21","v":0}]
["INDIRECT COST",null,{"$f":"BUDGET!H28","v":0}]
["TOTAL FEDERAL BUDGET",null,{"$f":"SUM(C13:C19)","v":0}]
[]
["BUDGET SUMMARY APPROVAL   (HSO USE ONLY)"]
[]
["COST CATEGORY",null,"AMOUNT","SOURCE OF FUNDS"]
["OFFICERS-SALARIES",null,null,"FEDERAL FUNDS  (100%)"]
["OFFICERS-FRINGE BENEFITS",null,null,"NON-FEDERAL FUNDS  (0%)"]
["TROOPER-SALARIES",null,null,"TOTAL FUNDS  (100%)"]
["TROOPER-FRINGE BENEFITS",null,null,"FEDERAL AWARD IDENTIFIER NUMBER (FAIN):"]
["STATE POLICE-SALARIES",null,null,"69A37518300001540CTA"]
["STATE POLICE-FRINGE BENEFITS",null,null,"69A37519300001540CTA"]
["INDIRECT COST",null,null,"69A37520300001540CTA"]
["TOTAL FEDERAL BUDGET"]

{"sheet":"HOL TOT","index":27,"n_rows":2,"n_cols":16,"rows_kept":2,"cut":false,"hidden":true,"merged":[]}
["TOWN","FR1","FR2","FB END DATE","START DATE","FED FUNDS","EMAIL","CONTACT","TITLE","WORK PHONE","CELL PHONE","TCNY","MD","J4","LABOR","# CHK IN-TOWN"]
[{"$f":"APPLICATION!A21","v":0},{"$f":"'FB CERTIFICATION'!F30","v":0},{"$f":"'FB CERTIFICATION'!H30","v":0},{"$f":"'FB CERTIFICATION'!C16:E16","v":"00:00:00"},{"$f":"REIMBURSEMENT!A13","v":""},{"$f":"SUMMARY!F13","v":0},{"$f":"'PROBLEM ID'!C164","v":0},{"$f":"'PROBLEM ID'!D159","v":0},{"$f":"'PROBLEM ID'!G160","v":0},{"$f":"'PROBLEM ID'!#REF!","v":{"$error":"#REF!"}},{"$f":"'PROBLEM ID'!H162","v":0},{"$f":"SUM('MUNICIPAL PD'!G15,'MUNICIPAL PD'!G64,'MUNICIPAL PD'!G116)+SUM('RESIDENT TROOPER'!G15:G16,'RESIDENT TROOPER'!G67:G68,'RESIDENT TROOPER'!G121:G122)","v":0},{"$f":"SUM('MUNICIPAL PD'!G16,'MUNICIPAL PD'!G65,'MUNICIPAL PD'!G117)+SUM('RESIDENT TROOPER'!G17:G18,'RESIDENT TROOPER'!G69:G70,'RESIDENT TROOPER'!G123:G124)","v":0},{"$f":"SUM('MUNICIPAL PD'!G17,'MUNICIPAL PD'!G66,'MUNICIPAL PD'!G118)+SUM('RESIDENT TROOPER'!G19:G20,'RESIDENT TROOPER'!G71:G72,'RESIDENT TROOPER'!G125:G126)","v":0},{"$f":"SUM('MUNICIPAL PD'!G18,'MUNICIPAL PD'!G67,'MUNICIPAL PD'!G119)+SUM('RESIDENT TROOPER'!G21:G22,'RESIDENT TROOPER'!G73:G74,'RESIDENT TROOPER'!G127:G128)","v":0},{"$f":"SUM('MUNICIPAL PD'!H95)+SUM('RESIDENT TROOPER'!H100)","v":0}]

{"sheet":"EST CHKPT (RT)","index":28,"n_rows":35,"n_cols":61,"rows_kept":35,"cut":false,"hidden":true,"merged":[]}
["RESIDENT",{"$f":"APPLICATION!A21","v":0},null,null,"PD","D1","D2","D3","D4","D5","D6","D7","D8","D9","D10","D11","D12","D13","D14","D15","D16","D17","D18","D19","D20","D21","D22","D23","D24","D25","D26","D27","D28","D29","D30","D31","D32","D33","D34","D35","D36","D37","D38","D39","D40","D41","D42","D43","D44","D45","D46","D47","D48","D49","D50","D51","D52","D53","D54","D55","D56"]
[{"$f":"'RESIDENT TROOPER'!A92","v":"00:00:00"},null,null,null,{"$f":"APPLICATION!A79","v":0},{"$f":"INDIRECT(ADDRESS(COLUMN( )-5,1))","v":"RESIDENT"},{"$f":"INDIRECT(ADDRESS(COLUMN( )-5,1))","v":"00:00:00"},"00:00:00","00:00:00","00:00:00","00:00:00","00:00:00","00:00:00","00:00:00","00:00:00","00:00:00","00:00:00","00:00:00","00:00:00",{"$f":"INDIRECT(ADDRESS(COLUMN( )-5,1))","v":"00:00:00"},{"$f":"INDIRECT(ADDRESS(COLUMN( )-5,1))","v":"00:00:00"},"00:00:00","00:00:00","00:00:00","00:00:00","00:00:00","00:00:00","00:00:00","00:00:00","00:00:00","00:00:00","00:00:00","00:00:00","00:00:00","00:00:00","00:00:00","00:00:00","00:00:00","00:00:00","00:00:00","00:00:00","00:00:00","00:00:00","00:00:00","00:00:00","00:00:00","00:00:00","00:00:00","00:00:00","00:00:00","00:00:00","00:00:00","00:00:00","00:00:00","00:00:00","00:00:00","00:00:00","00:00:00","00:00:00","00:00:00","00:00:00"]
[{"$f":"'RESIDENT TROOPER'!A93","v":"00:00:00"}]
[{"$f":"'RESIDENT TROOPER'!A94","v":"00:00:00"}]
[{"$f":"'RESIDENT TROOPER'!A95","v":"00:00:00"}]
[{"$f":"'RESIDENT TROOPER'!A96","v":"00:00:00"}]
[{"$f":"'RESIDENT TROOPER'!A97","v":"00:00:00"}]
[{"$f":"'RESIDENT TROOPER'!A98","v":"00:00:00"}]
[{"$f":"'RESIDENT TROOPER'!A99","v":"00:00:00"}]
[{"$f":"'RESIDENT TROOPER'!C92","v":"00:00:00"}]
[{"$f":"'RESIDENT TROOPER'!C93","v":"00:00:00"}]
[{"$f":"'RESIDENT TROOPER'!C94","v":"00:00:00"}]
[{"$f":"'RESIDENT TROOPER'!C95","v":"00:00:00"}]
[{"$f":"'RESIDENT TROOPER'!C96","v":"00:00:00"}]
[{"$f":"'RESIDENT TROOPER'!C97","v":"00:00:00"}]
[{"$f":"'RESIDENT TROOPER'!C98","v":"00:00:00"}]
[{"$f":"'RESIDENT TROOPER'!C99","v":"00:00:00"}]
[{"$f":"'RESIDENT TROOPER'!E92","v":"00:00:00"}]
[{"$f":"'RESIDENT TROOPER'!E93","v":"00:00:00"}]
[{"$f":"'RESIDENT TROOPER'!E94","v":"00:00:00"}]
[{"$f":"'RESIDENT TROOPER'!E95","v":"00:00:00"}]
[{"$f":"'RESIDENT TROOPER'!E96","v":"00:00:00"}]
[{"$f":"'RESIDENT TROOPER'!E97","v":"00:00:00"}]
[{"$f":"'RESIDENT TROOPER'!C96","v":"00:00:00"}]
[{"$f":"'RESIDENT TROOPER'!C97","v":"00:00:00"}]
[{"$f":"'RESIDENT TROOPER'!C98","v":"00:00:00"}]
[{"$f":"'RESIDENT TROOPER'!C99","v":"00:00:00"}]
[{"$f":"'RESIDENT TROOPER'!G92","v":"00:00:00"}]
[{"$f":"'RESIDENT TROOPER'!G93","v":"00:00:00"}]
[{"$f":"'RESIDENT TROOPER'!G94","v":"00:00:00"}]
[{"$f":"'RESIDENT TROOPER'!G95","v":"00:00:00"}]
[{"$f":"'RESIDENT TROOPER'!G96","v":"00:00:00"}]
[{"$f":"'RESIDENT TROOPER'!G97","v":"00:00:00"}]
[{"$f":"'RESIDENT TROOPER'!G98","v":"00:00:00"}]
[{"$f":"'RESIDENT TROOPER'!G99","v":"00:00:00"}]

{"sheet":"EST CHKPT (MUNC)","index":29,"n_rows":53,"n_cols":62,"rows_kept":53,"cut":false,"hidden":true,"merged":[]}
["MUNICIPAL","PD",null,null,null,null,"D1","D2","D3","D4","D5","D6","D7","D8","D9","D10","D11","D12","D13","D14","D15","D16","D17","D18","D19","D20","D21","D22","D23","D24","D25","D26","D27","D28","D29","D30","D31","D32","D33","D34","D35","D36","D37","D38","D39","D40","D41","D42","D43","D44","D45","D46","D47","D48","D49","D50","D51","D52","D53","D54","D55","D56"]
[{"$f":"'MUNICIPAL PD'!A82","v":"00:00:00"},{"$f":"APPLICATION!A21","v":0},null,null,null,null,{"$f":"INDIRECT(ADDRESS(COLUMN( )-5,1))","v":"00:00:00"},{"$f":"INDIRECT(ADDRESS(COLUMN( )-5,1))","v":"00:00:00"},"00:00:00","00:00:00","00:00:00","00:00:00","00:00:00","00:00:00","00:00:00","00:00:00","00:00:00","00:00:00","00:00:00",{"$f":"INDIRECT(ADDRESS(COLUMN( )-5,1))","v":"00:00:00"},{"$f":"INDIRECT(ADDRESS(COLUMN( )-5,1))","v":"00:00:00"},"00:00:00","00:00:00","00:00:00","00:00:00","00:00:00","00:00:00","00:00:00","00:00:00","00:00:00","00:00:00","00:00:00","00:00:00","00:00:00","00:00:00","00:00:00","00:00:00","00:00:00","00:00:00","00:00:00","00:00:00","00:00:00","00:00:00","00:00:00","00:00:00","00:00:00","00:00:00","00:00:00","00:00:00","00:00:00","00:00:00","00:00:00","00:00:00","00:00:00","00:00:00","00:00:00","00:00:00","00:00:00","00:00:00","00:00:00","00:00:00"]
[{"$f":"'MUNICIPAL PD'!A83","v":"00:00:00"}]
[{"$f":"'MUNICIPAL PD'!A84","v":"00:00:00"}]
[{"$f":"'MUNICIPAL PD'!A85","v":"00:00:00"}]
[{"$f":"'MUNICIPAL PD'!A86","v":"00:00:00"}]
[{"$f":"'MUNICIPAL PD'!A87","v":"00:00:00"}]
[{"$f":"'MUNICIPAL PD'!A88","v":"00:00:00"}]
[{"$f":"'MUNICIPAL PD'!A89","v":"00:00:00"}]
[{"$f":"'MUNICIPAL PD'!A90","v":"00:00:00"}]
[{"$f":"'MUNICIPAL PD'!A91","v":"00:00:00"}]
[{"$f":"'MUNICIPAL PD'!A92","v":"00:00:00"}]
[{"$f":"'MUNICIPAL PD'!A93","v":"00:00:00"}]
[{"$f":"'MUNICIPAL PD'!A94","v":"00:00:00"}]
[{"$f":"'MUNICIPAL PD'!C82","v":"00:00:00"}]
[{"$f":"'MUNICIPAL PD'!C83","v":"00:00:00"}]
[{"$f":"'MUNICIPAL PD'!C84","v":"00:00:00"}]
[{"$f":"'MUNICIPAL PD'!C85","v":"00:00:00"}]
[{"$f":"'MUNICIPAL PD'!C86","v":"00:00:00"}]
[{"$f":"'MUNICIPAL PD'!C87","v":"00:00:00"}]
[{"$f":"'MUNICIPAL PD'!C88","v":"00:00:00"}]
[{"$f":"'MUNICIPAL PD'!C89","v":"00:00:00"}]
[{"$f":"'MUNICIPAL PD'!C90","v":"00:00:00"}]
[{"$f":"'MUNICIPAL PD'!C91","v":"00:00:00"}]
[{"$f":"'MUNICIPAL PD'!C92","v":"00:00:00"}]
[{"$f":"'MUNICIPAL PD'!C93","v":"00:00:00"}]
[{"$f":"'MUNICIPAL PD'!C94","v":"00:00:00"}]
[{"$f":"'MUNICIPAL PD'!E82","v":"00:00:00"}]
[{"$f":"'MUNICIPAL PD'!E83","v":"00:00:00"}]
[{"$f":"'MUNICIPAL PD'!E84","v":"00:00:00"}]
[{"$f":"'MUNICIPAL PD'!E85","v":"00:00:00"}]
[{"$f":"'MUNICIPAL PD'!E86","v":"00:00:00"}]
[{"$f":"'MUNICIPAL PD'!E87","v":"00:00:00"}]
[{"$f":"'MUNICIPAL PD'!E88","v":"00:00:00"}]
[{"$f":"'MUNICIPAL PD'!E89","v":"00:00:00"}]
[{"$f":"'MUNICIPAL PD'!E90","v":"00:00:00"}]
[{"$f":"'MUNICIPAL PD'!E91","v":"00:00:00"}]
[{"$f":"'MUNICIPAL PD'!E92","v":"00:00:00"}]
[{"$f":"'MUNICIPAL PD'!E93","v":"00:00:00"}]
[{"$f":"'MUNICIPAL PD'!E94","v":"00:00:00"}]
[{"$f":"'MUNICIPAL PD'!G82","v":"00:00:00"}]
[{"$f":"'MUNICIPAL PD'!G83","v":"00:00:00"}]
[{"$f":"'MUNICIPAL PD'!G84","v":"00:00:00"}]
[{"$f":"'MUNICIPAL PD'!G85","v":"00:00:00"}]
[{"$f":"'MUNICIPAL PD'!G86","v":"00:00:00"}]
[{"$f":"'MUNICIPAL PD'!G87","v":"00:00:00"}]
[{"$f":"'MUNICIPAL PD'!G88","v":"00:00:00"}]
[{"$f":"'MUNICIPAL PD'!G89","v":"00:00:00"}]
[{"$f":"'MUNICIPAL PD'!G90","v":"00:00:00"}]
[{"$f":"'MUNICIPAL PD'!G91","v":"00:00:00"}]
[{"$f":"'MUNICIPAL PD'!G92","v":"00:00:00"}]
[{"$f":"'MUNICIPAL PD'!G93","v":"00:00:00"}]
[{"$f":"'MUNICIPAL PD'!G94","v":"00:00:00"}]